{"text_format":"1","workbook":"xlsx","n_sheets":18,"sheets":["MENU","Agroecossistema","Inventário patrimonial","Rendas Não Agrícolas e +","Trabalho por Esfera de Ocupação","SUB. 1","SUB. 2","SUB. 3","SUB. 4","SUB. 5","SUB. 6","SUB. 7","SUB. 8","SUB. 9","SUB. 10","SUB. 11","SUB. 12","SUB. 13"],"not_rendered":{"charts":0,"images":3,"macros":1,"external_links":0,"defined_names":43,"comments":15,"pivot_tables":0},"unopened":[],"bounds":{"document_bytes":16777216,"sheet_cells":100000,"rows_first":2000,"rows_last":500,"rows_between":2000,"halvings":0,"cell_chars":16384,"cell_head_chars":4096},"cells_cut":0,"cells_raw":0,"read":"whole","date_system":"1900"}

{"sheet":"MENU","index":0,"n_rows":27,"n_cols":14,"rows_kept":27,"cut":false,"hidden":false,"merged":[[0,1,2,16],[35,1,37,16],[4,10,5,10],[12,10,12,15],[12,3,12,8],[4,6,4,8],[6,6,6,8],[8,6,8,8],[10,6,10,8],[3,15,3,16],[3,1,3,3]]}
[null,"        LUME - Método da Análise Econômico-Ecológica de Agroecossistemas"]
[]
[]
[null,"Versão atualizada em 24 de agosto de 2021 "]
[null,null,null,null,"Família",":",{"$f":"Agroecossistema!C4","v":0},null,null,null,"Ano de referência",":","Inicio","Fim"]
[null,null,null,null,null,null,null,null,null,null,null,null,"mês/ano","mês/ano"]
[null,null,null,null,"Comunidade",":",{"$f":"Agroecossistema!C6","v":0},null,null,null,null,null,{"$f":"Agroecossistema!P6","v":"00:00:00"},{"$f":"Agroecossistema!Q6","v":"00:00:00"}]
[]
[null,null,null,null,"Município",":",{"$f":"Agroecossistema!C8","v":0}]
[]
[null,null,null,null,"Estado",":",{"$f":"Agroecossistema!C9","v":0}]
[]
[null,null,null,"  Entrada de Dados"]
[]
[null,null,null,null,null,null,null,{"$f":"'SUB. 7'!D6:E6","v":0},0]
[]
[null,null,null,null,{"$f":"'SUB. 1'!D6:E6","v":0},0,null,{"$f":"'SUB. 8'!D6:E6","v":0},0]
[]
[null,null,null,null,{"$f":"'SUB. 2'!D6:E6","v":0},0,null,{"$f":"'SUB. 9'!D6:E6","v":0},0]
[]
[null,null,null,null,{"$f":"'SUB. 3'!D6:E6","v":0},0,null,{"$f":"'SUB. 10'!D6:E6","v":0},0]
[]
[null,null,null,null,{"$f":"'SUB. 4'!D6:E6","v":0},0,null,{"$f":"'SUB. 11'!D6:E6","v":0},0]
[]
[null,null,null,null,{"$f":"'SUB. 5'!D6:E6","v":0},0,null,{"$f":"'SUB. 12'!D6:E6","v":0},0]
[]
[null,null,null,null,{"$f":"'SUB. 6'!D6:E6","v":0},0,null,{"$f":"'SUB. 13'!D6:E6","v":0},0]

{"sheet":"Agroecossistema","index":1,"n_rows":22,"n_cols":17,"rows_kept":22,"cut":false,"hidden":false,"merged":[[12,1,12,3],[1,1,1,16],[3,13,5,14],[8,2,8,5],[3,2,3,5],[7,2,7,5],[5,2,5,5]]}
[]
[null,"AGROECOSSISTEMA"]
[]
[null,"Família",null,null,null,null,null,null,null,null,null,null,null,"Ciclo Anual de Referência",null,"Inicio","Fim"]
[null,null,null,null,null,null,null,null,null,null,null,null,null,null,null,"mês/ano","mês/ano"]
[null,"Comunidade"]
[]
[null,"Município"]
[null,"Estado"]
[]
[]
[]
[null,"Composição do NSGA"]
[null,"Primeiro nome ou apelido ","Parantesco","idade"]
[1]
[2]
[3]
[4]
[5]
[6]
[7]
[8]

{"sheet":"Inventário patrimonial","index":2,"n_rows":60,"n_cols":13,"rows_kept":60,"cut":false,"hidden":false,"merged":[[41,1,41,2],[35,1,35,2],[39,1,39,2],[23,1,23,2],[37,1,37,2],[26,1,26,2],[30,1,30,2],[25,1,25,2],[31,1,31,2],[27,1,27,2],[59,12,59,15],[58,1,58,2],[51,12,51,15],[53,12,53,15],[54,12,54,15],[32,1,32,2],[33,1,33,2],[34,1,34,2],[36,1,36,2],[37,12,37,15],[44,1,44,2],[40,1,40,2],[41,12,41,15],[42,12,42,15],[43,12,43,15],[40,12,40,15],[42,1,42,2],[38,1,38,2],[44,12,44,15],[46,12,46,15],[45,12,45,15],[56,12,56,15],[56,1,56,2],[47,12,47,15],[55,1,55,2],[46,1,46,2],[48,12,48,15],[57,1,57,2],[47,1,47,2],[50,1,50,2],[49,12,49,15],[50,12,50,15],[55,12,55,15],[57,12,57,15],[52,12,52,15],[59,1,59,2],[8,12,8,15],[4,7,5,9],[4,10,5,11],[10,12,10,15],[14,12,14,15],[24,1,24,2],[21,1,21,2],[14,1,14,2],[8,1,8,2],[12,1,12,2],[13,1,13,2],[9,1,9,2],[48,1,48,2],[49,1,49,2],[7,1,7,2],[6,1,6,2],[4,1,5,2],[4,3,5,6],[58,12,58,15],[51,1,51,2],[52,1,52,2],[53,1,53,2],[54,1,54,2],[45,1,45,2],[43,1,43,2],[20,1,20,2],[38,3,38,6],[33,12,33,15],[34,12,34,15],[29,12,29,15],[32,12,32,15],[28,12,28,15],[25,12,25,15],[21,12,21,15],[22,12,22,15],[31,12,31,15],[23,12,24,15],[28,1,28,2],[29,1,29,2],[27,12,27,15],[23,7,23,9],[30,12,30,15],[23,10,23,11],[20,12,20,15],[26,12,26,15],[35,12,35,15],[36,12,36,15],[1,1,1,15],[38,12,39,15],[4,12,6,15],[18,1,18,2],[23,3,23,6],[16,12,16,15],[19,12,19,15],[38,7,38,9],[38,10,38,11],[16,1,16,2],[7,12,7,15],[11,1,11,2],[19,1,19,2],[17,1,17,2],[13,12,13,15],[9,12,9,15],[11,12,11,15],[17,12,17,15],[12,12,12,15],[15,12,15,15],[18,12,18,15],[10,1,10,2],[15,1,15,2],[22,1,22,2]]}
[]
[null,"Inventário Patrimonial - Capital Agrário"]
[]
[]
[null,"Inventário Patrimonial (Capital agrário)",null,"Início do Período",null,null,null,"Final do Período",null,null,"Variação no Período",null,"OBSERVAÇÕES"]
[]
[null,"Capital Fundiário",null,"Unidade","Valor Unitário","Qtde","Valor Total","Valor Unitário","Qtde","Valor Total","Qtde","Valor Total"]
[null,null,null,null,null,null,{"$f":"F8*E8","v":0},null,null,{"$f":"I8*H8","v":0},{"$f":"I8-F8","v":0},{"$f":"J8-G8","v":0}]
[null,null,null,null,null,null,0,null,null,0,0,0]
[null,null,null,null,null,null,0,null,null,0,0,0]
[null,null,null,null,null,null,0,null,null,0,0,0]
[null,null,null,null,null,null,0,null,null,0,0,0]
[null,null,null,null,null,null,0,null,null,0,0,0]
[null,null,null,null,null,null,0,null,null,0,0,0]
[null,null,null,null,null,null,0,null,null,0,0,0]
[null,null,null,null,null,null,0,null,null,0,0,0]
[null,null,null,null,null,null,0,null,null,0,0,0]
[null,null,null,null,null,null,0,null,null,0,0,0]
[null,null,null,null,null,null,0,null,null,0,0,0]
[null,null,null,null,null,null,0,null,null,0,0,0]
[null,null,null,null,null,null,0,null,null,0,0,0]
[null,null,null,null,null,null,0,null,null,0,0,0]
[null,"Total - Capital Fundiário",null,null,null,null,{"$f":"SUM(G8:G22)","v":0},null,null,{"$f":"SUM(J8:J22)","v":0},null,{"$f":"SUM(L8:L22)","v":0}]
[null,"Capital Fixo (CF)",null,"Início do Período",null,null,null,"Final do Período",null,null,"Variação no Período",null,"OBSERVAÇÕES"]
[null,"CF Equipamentos",null,"Unidade","Valor Unitário","Qtde","Valor Total","Valor Unitário","Qtde","Valor Total","Qtde","Valor"]
[null,null,null,null,null,null,{"$f":"F26*E26","v":0},null,1,{"$f":"I26*H26","v":0},{"$f":"I26-F26","v":1},{"$f":"J26-G26","v":0}]
[null,null,null,null,null,null,0,null,1,0,1,0]
[null,null,null,null,null,null,0,null,1,0,1,0]
[null,null,null,null,null,null,0,null,null,0,0,0]
[null,null,null,null,null,null,0,null,null,0,0,0]
[null,null,null,null,null,null,0,null,null,0,0,0]
[null,null,null,null,null,null,0,null,null,0,0,0]
[null,null,null,null,null,null,0,null,null,0,0,0]
[null,null,null,null,null,null,0,null,null,0,0,0]
[null,null,null,null,null,null,0,null,null,0,0,0]
[null,null,null,null,null,null,0,null,null,0,0,0]
[null,null,null,null,null,null,0,null,null,0,0,0]
[null,"Total - CF Equipamentos",null,null,null,null,{"$f":"SUM(G26:G37)","v":0},null,null,{"$f":"SUM(J26:J37)","v":0},null,{"$f":"SUM(L26:L37)","v":0}]
[null,"Capital Fixo (CF)",null,"Início do Período",null,null,null,"Final do Período",null,null,"Variação no Período"]
[null,"CF  Vivo (Semoventes)",null,"Unidade","Valor Unitário","Qtde","Valor Total","Valor Unitário","Qtde","Valor Total","Qtde","Valor"]
[null,null,null,null,null,null,{"$f":"F41*E41","v":0},null,null,{"$f":"I41*H41","v":0},{"$f":"I41-F41","v":0},{"$f":"J41-G41","v":0}]
[null,null,null,null,null,null,0,null,null,0,0,0]
[null,null,null,null,null,null,0,null,null,0,0,0]
[null,null,null,null,null,null,0,null,null,0,0,0]
[null,null,null,null,null,null,0,null,null,0,0,0]
[null,null,null,null,null,null,0,null,null,0,0,0]
[null,null,null,null,null,null,0,null,null,0,0,0]
[null,null,null,null,null,null,0,null,null,0,0,0]
[null,null,null,null,null,null,0,null,null,0,0,0]
[null,null,null,null,null,null,0,null,null,0,0,0]
[null,null,null,null,null,null,0,null,null,0,0,0]
[null,null,null,null,null,null,0,null,null,0,0,0]
[null,null,null,null,null,null,0,null,null,0,0,0]
[null,null,null,null,null,null,0,null,null,0,0,0]
[null,null,null,null,null,null,0,null,null,0,0,0]
[null,null,null,null,null,null,0,null,null,0,0,0]
[null,null,null,null,null,null,0,null,null,0,0,0]
[null,null,null,null,null,null,0,null,null,0,0,0]
[null,"Total - Capital Fixo Vivo (Semoventes)",null,null,null,null,{"$f":"SUM(G41:G58)","v":0},null,null,{"$f":"SUM(J41:J58)","v":0},null,{"$f":"SUM(L41:L58)","v":0}]
[null,"Total Geral",null,null,null,null,{"$f":"G38+G59+G23","v":0},null,null,{"$f":"J38+J59+J23","v":0},null,{"$f":"L38+L59+L23","v":0}]

{"sheet":"Rendas Não Agrícolas e +","index":3,"n_rows":68,"n_cols":12,"rows_kept":68,"cut":false,"hidden":false,"merged":[[20,1,20,2],[24,1,24,2],[25,1,25,2],[26,1,26,2],[56,11,67,18],[36,8,52,18],[7,10,32,18],[67,3,67,6],[61,3,61,6],[56,3,56,6],[64,3,64,6],[61,7,61,9],[63,3,63,6],[57,3,57,6],[65,3,65,6],[62,3,62,6],[17,1,17,2],[18,1,18,2],[19,1,19,2],[11,1,11,2],[12,1,12,2],[43,1,43,2],[44,1,44,2],[13,1,13,2],[9,1,9,2],[10,1,10,2],[36,1,36,2],[37,1,37,2],[35,1,35,6],[23,1,23,2],[22,1,22,2],[32,1,32,2],[27,1,27,2],[28,1,28,2],[29,1,29,2],[31,1,31,2],[30,1,30,2],[51,1,51,2],[45,1,45,2],[46,1,46,2],[47,1,47,2],[48,1,48,2],[49,1,49,2],[50,1,50,2],[2,1,2,15],[6,7,6,8],[6,1,6,4],[6,5,6,6],[42,1,42,2],[38,1,38,2],[39,1,39,2],[40,1,40,2],[41,1,41,2],[14,1,14,2],[21,1,21,2],[7,1,7,2],[8,1,8,2],[33,1,33,2],[15,1,15,2],[16,1,16,2],[52,1,52,2],[66,3,66,6],[55,1,67,2],[55,3,55,6],[58,3,58,6],[59,3,59,6],[60,3,60,6]]}
[]
[]
[null,"Reserva de Insumos,  Custos Sistêmicos e Rendas Não Agrícolas."]
[]
[]
[]
[null,"Reserva de insumos",null,null,null,"Acumulados no Período Anterior",null,"Final do Período",null,null,"OBS:"]
[null,null,null,"Unidade","Valor Unitário","Qtde","Valor Total","Qtde","Valor Total"]
[null,null,null,null,null,null,{"$f":"F9*E9","v":0},null,{"$f":"E9*H9","v":0}]
[null,null,null,null,null,null,0,null,0]
[null,null,null,null,null,null,0,null,0]
[null,null,null,null,null,null,0,null,0]
[null,null,null,null,null,null,0,null,0]
[null,null,null,null,null,null,0,null,0]
[null,null,null,null,null,null,0,null,0]
[null,null,null,null,null,null,0,null,0]
[null,null,null,null,null,null,0,null,0]
[null,null,null,null,null,null,0,null,0]
[null,null,null,null,null,null,0,null,0]
[null,null,null,null,null,null,0,null,0]
[null,null,null,null,null,null,0,null,0]
[null,null,null,null,null,null,0,null,0]
[null,null,null,null,null,null,0,null,0]
[null,null,null,null,null,null,0,null,0]
[null,null,null,null,null,null,0,null,0]
[null,null,null,null,null,null,0,null,0]
[null,null,null,null,null,null,0,null,0]
[null,null,null,null,null,null,0,null,0]
[null,null,null,null,null,null,0,null,0]
[null,null,null,null,null,null,0,null,0]
[null,null,null,null,null,null,0,null,0]
[null,null,null,null,null,null,0,null,0]
[null,null,null,null,null,null,0,null,0]
[null,"Total",null,null,null,null,{"$f":"SUM(G9:G33)","v":0},null,{"$f":"SUM(I9:I33)","v":0}]
[]
[null,"Pagamento a Terceiros  (custos sistêmicos)",null,null,null,null,null,null,"OBS:"]
[null,"Itens",null,"Unidade","Valor Unitário","Qtde","Valor Total"]
[null,"Energia elétrica",null,"mês",40,12,{"$f":"F38*E38","v":480}]
[null,"Mensalidade do STR",null,"mês",25,12,300]
[null,"Combustivel ",null,"litros",5,100,500]
[null,null,null,null,null,null,0]
[null,null,null,null,null,null,0]
[null,null,null,null,null,null,0]
[null,null,null,null,null,null,0]
[null,null,null,null,null,null,0]
[null,null,null,null,null,null,0]
[null,null,null,null,null,null,0]
[null,null,null,null,null,null,0]
[null,null,null,null,null,null,0]
[null,null,null,null,null,null,0]
[null,null,null,null,null,null,0]
[null,null,null,null,null,null,0]
[null,"Total pagamento a terceiros",null,null,null,null,{"$f":"SUM(G38:G52)","v":1280}]
[]
[]
[null,"Rendas Não Agrícolas",null,"Pluriatividade",null,null,null,"Unidade","Valor Unitário","Qtdade",null,"OBS:"]
[null,null,null,"Agente de saúde - Verônica",null,null,null,"mês",900,12]
[]
[]
[]
[]
[null,null,null,"Transferências de Renda"]
[null,null,null,"Bolsa família",null,null,null,"mês",300,12]
[]
[]
[]
[]
[null,null,null,"Total Rendas Não agrícolas"]

{"sheet":"Trabalho por Esfera de Ocupação","index":4,"n_rows":101,"n_cols":15,"rows_kept":101,"cut":false,"hidden":false,"merged":[[93,14,100,21],[4,14,21,21],[50,14,68,21],[73,14,89,21],[27,14,45,21],[100,1,100,3],[96,1,96,3],[97,1,97,3],[98,1,98,3],[99,1,99,3],[92,1,92,12],[93,4,93,11],[93,12,95,12],[95,1,95,3],[87,1,87,3],[88,1,88,3],[89,1,89,3],[82,1,82,3],[83,1,83,3],[84,1,84,3],[85,1,85,3],[86,1,86,3],[77,1,77,3],[78,1,78,3],[79,1,79,3],[80,1,80,3],[81,1,81,3],[72,1,72,12],[73,4,73,11],[73,12,75,12],[75,1,75,3],[76,1,76,3],[12,1,12,3],[13,1,13,3],[14,1,14,3],[3,1,3,12],[4,4,4,11],[4,12,6,12],[6,1,6,3],[7,1,7,3],[8,1,8,3],[21,1,21,3],[22,1,22,3],[1,1,1,12],[26,1,26,12],[27,4,27,11],[27,12,29,12],[29,1,29,3],[15,1,15,3],[16,1,16,3],[17,1,17,3],[18,1,18,3],[19,1,19,3],[20,1,20,3],[9,1,9,3],[10,1,10,3],[11,1,11,3],[41,1,41,3],[30,1,30,3],[31,1,31,3],[32,1,32,3],[33,1,33,3],[34,1,34,3],[35,1,35,3],[36,1,36,3],[37,1,37,3],[38,1,38,3],[39,1,39,3],[40,1,40,3],[58,1,58,3],[42,1,42,3],[43,1,43,3],[44,1,44,3],[45,1,45,3],[49,1,49,12],[50,4,50,11],[50,12,52,12],[52,1,52,3],[53,1,53,3],[54,1,54,3],[55,1,55,3],[56,1,56,3],[57,1,57,3],[65,1,65,3],[66,1,66,3],[67,1,67,3],[68,1,68,3],[59,1,59,3],[60,1,60,3],[61,1,61,3],[62,1,62,3],[63,1,63,3],[64,1,64,3]]}
[]
[null,"Tempo estimado de ocupação por esfera de trabalho (Horas/Ano) "]
[]
[null,"Trabalho doméstico e de cuidados - horas trabalhadas",null,null,null,null,null,null,null,null,null,null,null,null,"OBS:"]
[null,null,null,null,"Membros do NSGA",null,null,null,null,null,null,null,"Total"]
[null,null,null,null,1,2,3,4,5,6,7,8]
[null,"Descrição dos serviços",null,null,{"$f":"Agroecossistema!B15","v":0},{"$f":"Agroecossistema!B16","v":0},{"$f":"Agroecossistema!B17","v":0},{"$f":"Agroecossistema!B18","v":0},{"$f":"Agroecossistema!B19","v":0},{"$f":"Agroecossistema!B20","v":0},{"$f":"Agroecossistema!B21","v":0},{"$f":"Agroecossistema!B22","v":0}]
[null,null,null,null,null,null,null,null,null,null,null,null,{"$f":"SUM(E8:L8)","v":0}]
[null,null,null,null,null,null,null,null,null,null,null,null,{"$f":"SUM(E9:L9)","v":0}]
[null,null,null,null,null,null,null,null,null,null,null,null,0]
[null,null,null,null,null,null,null,null,null,null,null,null,0]
[null,null,null,null,null,null,null,null,null,null,null,null,0]
[null,null,null,null,null,null,null,null,null,null,null,null,0]
[null,null,null,null,null,null,null,null,null,null,null,null,0]
[null,null,null,null,null,null,null,null,null,null,null,null,0]
[null,null,null,null,null,null,null,null,null,null,null,null,0]
[null,null,null,null,null,null,null,null,null,null,null,null,0]
[null,null,null,null,null,null,null,null,null,null,null,null,0]
[null,null,null,null,null,null,null,null,null,null,null,null,0]
[null,null,null,null,null,null,null,null,null,null,null,null,0]
[null,null,null,null,null,null,null,null,null,null,null,null,0]
[null,null,null,null,null,null,null,null,null,null,null,null,0]
[null,"Total horas ",null,null,{"$f":"SUM(E8:E22)","v":0},{"$f":"SUM(F8:F22)","v":0},0,0,0,0,0,0,0]
[]
[]
[]
[null,"Participação social - horas trabalhadas",null,null,null,null,null,null,null,null,null,null,null,null,"OBS:"]
[null,null,null,null,"Membros do NSGA",null,null,null,null,null,null,null,"Total"]
[null,null,null,null,1,2,3,4,5,6,7,8]
[null,"Descrição dos serviços",null,null,{"$f":"Agroecossistema!B15","v":0},{"$f":"Agroecossistema!B16","v":0},{"$f":"Agroecossistema!B17","v":0},{"$f":"Agroecossistema!B18","v":0},{"$f":"Agroecossistema!B19","v":0},{"$f":"Agroecossistema!B20","v":0},{"$f":"Agroecossistema!B21","v":0},{"$f":"Agroecossistema!B22","v":0}]
[null,null,null,null,null,null,null,null,null,null,null,null,{"$f":"SUM(E31:L31)","v":0}]
[null,null,null,null,null,null,null,null,null,null,null,null,{"$f":"SUM(E32:L32)","v":0}]
[null,null,null,null,null,null,null,null,null,null,null,null,0]
[null,null,null,null,null,null,null,null,null,null,null,null,0]
[null,null,null,null,null,null,null,null,null,null,null,null,0]
[null,null,null,null,null,null,null,null,null,null,null,null,0]
[null,null,null,null,null,null,null,null,null,null,null,null,0]
[null,null,null,null,null,null,null,null,null,null,null,null,0]
[null,null,null,null,null,null,null,null,null,null,null,null,0]
[null,null,null,null,null,null,null,null,null,null,null,null,0]
[null,null,null,null,null,null,null,null,null,null,null,null,0]
[null,null,null,null,null,null,null,null,null,null,null,null,0]
[null,null,null,null,null,null,null,null,null,null,null,null,0]
[null,null,null,null,null,null,null,null,null,null,null,null,0]
[null,null,null,null,null,null,null,null,null,null,null,null,0]
[null,"Total horas ",null,null,{"$f":"SUM(E31:E45)","v":0},{"$f":"SUM(F31:F45)","v":0},{"$f":"SUM(G31:G45)","v":0},{"$f":"SUM(H31:H45)","v":0},{"$f":"SUM(I31:I45)","v":0},{"$f":"SUM(J31:J45)","v":0},{"$f":"SUM(K31:K45)","v":0},{"$f":"SUM(L31:L45)","v":0},{"$f":"SUM(M31:M45)","v":0}]
[]
[]
[]
[null,"Pluriatividade - horas trabalhadas",null,null,null,null,null,null,null,null,null,null,null,null,"OBS:"]
[null,null,null,null,"Membros do NSGA",null,null,null,null,null,null,null,"Total"]
[null,null,null,null,1,2,3,4,5,6,7,8]
[null,"Descrição dos serviços",null,null,{"$f":"Agroecossistema!B15","v":0},{"$f":"Agroecossistema!B16","v":0},{"$f":"Agroecossistema!B17","v":0},{"$f":"Agroecossistema!B18","v":0},{"$f":"Agroecossistema!B19","v":0},{"$f":"Agroecossistema!B20","v":0},{"$f":"Agroecossistema!B21","v":0},{"$f":"Agroecossistema!B22","v":0}]
[null,null,null,null,null,null,null,null,null,null,null,null,{"$f":"SUM(E54:L54)","v":0}]
[null,null,null,null,null,null,null,null,null,null,null,null,{"$f":"SUM(E55:L55)","v":0}]
[null,null,null,null,null,null,null,null,null,null,null,null,0]
[null,null,null,null,null,null,null,null,null,null,null,null,0]
[null,null,null,null,null,null,null,null,null,null,null,null,0]
[null,null,null,null,null,null,null,null,null,null,null,null,0]
[null,null,null,null,null,null,null,null,null,null,null,null,0]
[null,null,null,null,null,null,null,null,null,null,null,null,0]
[null,null,null,null,null,null,null,null,null,null,null,null,0]
[null,null,null,null,null,null,null,null,null,null,null,null,0]
[null,null,null,null,null,null,null,null,null,null,null,null,0]
[null,null,null,null,null,null,null,null,null,null,null,null,0]
[null,null,null,null,null,null,null,null,null,null,null,null,0]
[null,null,null,null,null,null,null,null,null,null,null,null,0]
[null,null,null,null,null,null,null,null,null,null,null,null,0]
[null,"Total horas ",null,null,{"$f":"SUM(E54:E68)","v":0},{"$f":"SUM(F54:F68)","v":0},{"$f":"SUM(G54:G68)","v":0},{"$f":"SUM(H54:H68)","v":0},{"$f":"SUM(I54:I68)","v":0},{"$f":"SUM(J54:J68)","v":0},{"$f":"SUM(K54:K68)","v":0},{"$f":"SUM(L54:L68)","v":0},{"$f":"SUM(M54:M68)","v":0}]
[]
[]
[]
[null,"Mercantil e Autoconsumo (resumo) - horas trabalhadas",null,null,null,null,null,null,null,null,null,null,null,null,"OBS:"]
[null,null,null,null,"Membros do NSGA",null,null,null,null,null,null,null,"Total"]
[null,null,null,null,1,2,3,4,5,6,7,8]
[null,"Subsistemas",null,null,{"$f":"Agroecossistema!B15","v":0},{"$f":"Agroecossistema!B16","v":0},{"$f":"Agroecossistema!B17","v":0},{"$f":"Agroecossistema!B18","v":0},{"$f":"Agroecossistema!B19","v":0},{"$f":"Agroecossistema!B20","v":0},{"$f":"Agroecossistema!B21","v":0},{"$f":"Agroecossistema!B22","v":0}]
[1,{"$f":"'SUB. 1'!D6","v":0},null,null,{"$f":"'SUB. 1'!E165","v":0},{"$f":"'SUB. 1'!F165","v":0},{"$f":"'SUB. 1'!G165","v":0},{"$f":"'SUB. 1'!H165","v":0},{"$f":"'SUB. 1'!I165","v":0},{"$f":"'SUB. 1'!J165","v":0},{"$f":"'SUB. 1'!K165","v":0},{"$f":"'SUB. 1'!L165","v":0},{"$f":"SUM(E77:L77)","v":0}]
[2,{"$f":"'SUB. 2'!D6","v":0},null,null,{"$f":"'SUB. 2'!E165","v":0},{"$f":"'SUB. 2'!F165","v":0},{"$f":"'SUB. 2'!G165","v":0},{"$f":"'SUB. 2'!H165","v":0},{"$f":"'SUB. 2'!I165","v":0},{"$f":"'SUB. 2'!J165","v":0},{"$f":"'SUB. 2'!K165","v":0},{"$f":"'SUB. 2'!L165","v":0},{"$f":"SUM(E78:L78)","v":0}]
[3,{"$f":"'SUB. 3'!D6","v":0},null,null,{"$f":"'SUB. 3'!E165","v":0},{"$f":"'SUB. 3'!F165","v":0},{"$f":"'SUB. 3'!G165","v":0},{"$f":"'SUB. 3'!H165","v":0},{"$f":"'SUB. 3'!I165","v":0},{"$f":"'SUB. 3'!J165","v":0},{"$f":"'SUB. 3'!K165","v":0},{"$f":"'SUB. 3'!L165","v":0},0]
[4,{"$f":"'SUB. 4'!D6","v":0},null,null,{"$f":"'SUB. 4'!E165","v":0},{"$f":"'SUB. 4'!F165","v":0},{"$f":"'SUB. 4'!G165","v":0},{"$f":"'SUB. 4'!H165","v":0},{"$f":"'SUB. 4'!I165","v":0},{"$f":"'SUB. 4'!J165","v":0},{"$f":"'SUB. 4'!K165","v":0},{"$f":"'SUB. 4'!L165","v":0},0]
[5,{"$f":"'SUB. 5'!D6","v":0},null,null,{"$f":"'SUB. 5'!E165","v":0},{"$f":"'SUB. 5'!F165","v":0},{"$f":"'SUB. 5'!G165","v":0},{"$f":"'SUB. 5'!H165","v":0},{"$f":"'SUB. 5'!I165","v":0},{"$f":"'SUB. 5'!J165","v":0},{"$f":"'SUB. 5'!K165","v":0},{"$f":"'SUB. 5'!L165","v":0},0]
[6,{"$f":"'SUB. 6'!D6","v":0},null,null,{"$f":"'SUB. 6'!E165","v":0},{"$f":"'SUB. 6'!F165","v":0},{"$f":"'SUB. 6'!G165","v":0},{"$f":"'SUB. 6'!H165","v":0},{"$f":"'SUB. 6'!I165","v":0},{"$f":"'SUB. 6'!J165","v":0},{"$f":"'SUB. 6'!K165","v":0},{"$f":"'SUB. 6'!L165","v":0},0]
[7,{"$f":"'SUB. 7'!D6","v":0},null,null,{"$f":"'SUB. 7'!E165","v":0},{"$f":"'SUB. 7'!F165","v":0},{"$f":"'SUB. 7'!G165","v":0},{"$f":"'SUB. 7'!H165","v":0},{"$f":"'SUB. 7'!I165","v":0},{"$f":"'SUB. 7'!J165","v":0},{"$f":"'SUB. 7'!K165","v":0},{"$f":"'SUB. 7'!L165","v":0},0]
[8,{"$f":"'SUB. 8'!D6","v":0},null,null,{"$f":"'SUB. 8'!E165","v":0},{"$f":"'SUB. 8'!F165","v":0},{"$f":"'SUB. 8'!G165","v":0},{"$f":"'SUB. 8'!H165","v":0},{"$f":"'SUB. 8'!I165","v":0},{"$f":"'SUB. 8'!J165","v":0},{"$f":"'SUB. 8'!K165","v":0},{"$f":"'SUB. 8'!L165","v":0},0]
[9,{"$f":"'SUB. 9'!D6","v":0},null,null,{"$f":"'SUB. 9'!E165","v":0},{"$f":"'SUB. 9'!F165","v":0},{"$f":"'SUB. 9'!G165","v":0},{"$f":"'SUB. 9'!H165","v":0},{"$f":"'SUB. 9'!I165","v":0},{"$f":"'SUB. 9'!J165","v":0},{"$f":"'SUB. 9'!K165","v":0},{"$f":"'SUB. 9'!L165","v":0},0]
[10,{"$f":"'SUB. 10'!D6","v":0},null,null,{"$f":"'SUB. 10'!E165","v":0},{"$f":"'SUB. 10'!F165","v":0},{"$f":"'SUB. 10'!G165","v":0},{"$f":"'SUB. 10'!H165","v":0},{"$f":"'SUB. 10'!I165","v":0},{"$f":"'SUB. 10'!J165","v":0},{"$f":"'SUB. 10'!K165","v":0},{"$f":"'SUB. 10'!L165","v":0},0]
[11,{"$f":"'SUB. 11'!D6","v":0},null,null,{"$f":"'SUB. 11'!E165","v":0},{"$f":"'SUB. 11'!F165","v":0},{"$f":"'SUB. 11'!G165","v":0},{"$f":"'SUB. 11'!H165","v":0},{"$f":"'SUB. 11'!I165","v":0},{"$f":"'SUB. 11'!J165","v":0},{"$f":"'SUB. 11'!K165","v":0},{"$f":"'SUB. 11'!L165","v":0},0]
[12,{"$f":"'SUB. 12'!D6","v":0},null,null,{"$f":"'SUB. 12'!E165","v":0},{"$f":"'SUB. 12'!F165","v":0},{"$f":"'SUB. 12'!G165","v":0},{"$f":"'SUB. 12'!H165","v":0},{"$f":"'SUB. 12'!I165","v":0},{"$f":"'SUB. 12'!J165","v":0},{"$f":"'SUB. 12'!K165","v":0},{"$f":"'SUB. 12'!L165","v":0},0]
[13,{"$f":"'SUB. 13'!D6","v":0},null,null,{"$f":"'SUB. 13'!E165","v":0},{"$f":"'SUB. 13'!F165","v":0},{"$f":"'SUB. 13'!G165","v":0},{"$f":"'SUB. 13'!H165","v":0},{"$f":"'SUB. 13'!I165","v":0},{"$f":"'SUB. 13'!J165","v":0},{"$f":"'SUB. 13'!K165","v":0},{"$f":"'SUB. 13'!L165","v":0},0]
[null,"Total horas ",null,null,{"$f":"SUM(E77:E89)","v":0},0,0,0,0,0,0,0,0]
[]
[]
[null,"SÍNTESE - Horas trabalhadas por esfera de ocupação",null,null,null,null,null,null,null,null,null,null,null,null,"OBS:"]
[null,null,null,null,"Membros do NSGA",null,null,null,null,null,null,null,"Total"]
[null,null,null,null,1,2,3,4,5,6,7,8]
[null,"Esferas de Ocupação",null,null,{"$f":"Agroecossistema!B15","v":0},{"$f":"Agroecossistema!B16","v":0},{"$f":"Agroecossistema!B17","v":0},{"$f":"Agroecossistema!B18","v":0},{"$f":"Agroecossistema!B19","v":0},{"$f":"Agroecossistema!B20","v":0},{"$f":"Agroecossistema!B21","v":0},{"$f":"Agroecossistema!B22","v":0}]
[1,"Trabalho Doméstico e de Cuidados",null,null,{"$f":"E23","v":0},{"$f":"F23","v":0},0,0,0,0,0,0,{"$f":"SUM(E97:L97)","v":0}]
[2,"Participação Social",null,null,{"$f":"E46","v":0},{"$f":"F46","v":0},0,0,0,0,0,0,{"$f":"SUM(E98:L98)","v":0}]
[3,"Pluriatividade",null,null,{"$f":"E69","v":0},{"$f":"F69","v":0},0,0,0,0,0,0,0]
[4,"Trabalho Mercantil e Autoconsumo",null,null,{"$f":"E90","v":0},{"$f":"F90","v":0},0,0,0,0,0,0,0]
[null,"Total horas ",null,null,{"$f":"SUM(E97:E100)","v":0},0,0,0,0,0,0,0,0]

{"sheet":"SUB. 1","index":5,"n_rows":168,"n_cols":24,"rows_kept":168,"cut":false,"hidden":false,"merged":[[146,1,146,3],[106,14,125,21],[87,14,103,21],[88,1,88,3],[88,8,88,12],[89,1,89,3],[89,8,89,12],[90,1,90,3],[90,8,90,12],[91,1,91,3],[91,8,91,12],[92,1,92,3],[92,8,92,12],[93,1,93,3],[93,8,93,12],[94,1,94,3],[94,8,94,12],[95,1,95,3],[95,8,95,12],[96,1,96,3],[96,8,96,12],[97,1,97,3],[97,8,97,12],[98,8,98,12],[99,1,99,3],[5,3,5,4],[5,8,10,22],[127,14,143,21],[146,14,164,21],[61,9,61,12],[5,1,5,2],[80,8,80,12],[75,8,75,12],[13,5,13,6],[13,11,13,12],[13,13,13,14],[14,1,14,3],[13,17,13,18],[72,8,72,12],[71,8,71,12],[71,1,71,3],[70,8,70,12],[13,15,13,16],[83,8,83,12],[78,8,78,12],[79,8,79,12],[147,1,148,3],[60,9,60,12],[44,1,44,3],[69,1,69,3],[37,1,37,3],[17,23,17,24],[23,1,23,3],[24,1,24,3],[12,21,13,22],[12,23,14,24],[18,23,18,24],[19,1,19,3],[19,23,19,24],[15,23,15,24],[16,23,16,24],[17,1,17,3],[15,1,15,3],[16,1,16,3],[20,1,20,3],[20,23,20,24],[21,1,21,3],[21,23,21,24],[22,1,22,3],[18,1,18,3],[43,14,66,21],[13,19,13,20],[12,1,13,4],[22,23,22,24],[23,23,23,24],[24,23,24,24],[39,1,39,3],[39,23,39,24],[40,1,40,3],[40,23,40,24],[25,1,25,3],[38,1,38,3],[29,23,29,24],[30,23,30,24],[31,23,31,24],[32,23,32,24],[33,23,33,24],[34,23,34,24],[35,23,35,24],[28,23,28,24],[26,1,26,3],[26,23,26,24],[27,1,27,3],[27,23,27,24],[36,1,36,3],[36,23,36,24],[38,23,38,24],[37,23,37,24],[73,8,73,12],[74,8,74,12],[76,8,76,12],[76,1,76,3],[25,23,25,24],[68,8,69,12],[69,14,85,21],[45,9,45,12],[46,1,46,3],[46,9,46,12],[84,8,84,12],[85,8,85,12],[77,8,77,12],[81,8,81,12],[82,8,82,12],[70,1,70,3],[43,9,44,12],[47,9,47,12],[48,1,48,3],[48,9,48,12],[49,1,49,3],[49,9,49,12],[58,9,58,12],[59,1,59,3],[59,9,59,12],[50,1,50,3],[50,9,50,12],[51,1,51,3],[51,9,51,12],[52,1,52,3],[52,9,52,12],[53,1,53,3],[53,9,53,12],[54,1,54,3],[54,9,54,12],[109,9,109,12],[79,1,79,3],[55,9,55,12],[56,1,56,3],[56,9,56,12],[110,1,110,3],[110,9,110,12],[80,1,80,3],[81,1,81,3],[82,1,82,3],[83,1,83,3],[62,9,62,12],[63,9,63,12],[64,9,64,12],[55,1,55,3],[60,1,60,3],[64,1,64,3],[84,1,84,3],[61,1,61,3],[63,1,63,3],[62,1,62,3],[57,1,57,3],[57,9,57,12],[58,1,58,3],[111,9,111,12],[112,1,112,3],[112,9,112,12],[113,1,113,3],[113,9,113,12],[115,1,115,3],[115,9,115,12],[114,1,114,3],[114,9,114,12],[111,1,111,3],[116,9,116,12],[117,1,117,3],[117,9,117,12],[118,1,118,3],[118,9,118,12],[120,1,120,3],[120,9,120,12],[119,1,119,3],[119,9,119,12],[116,1,116,3],[129,8,129,12],[130,1,130,3],[130,8,130,12],[131,1,131,3],[131,8,131,12],[132,1,132,3],[132,8,132,12],[121,1,121,3],[121,9,121,12],[122,1,122,3],[122,9,122,12],[123,9,125,12],[126,8,127,12],[127,1,127,3],[123,1,123,3],[126,1,126,7],[123,4,123,6],[124,4,124,6],[125,4,125,6],[125,1,125,3],[124,1,124,3],[138,8,138,12],[137,1,137,3],[137,8,137,12],[128,1,128,3],[128,8,128,12],[139,1,139,3],[139,8,139,12],[143,1,143,3],[143,8,143,12],[140,1,140,3],[140,8,140,12],[141,1,141,3],[141,8,141,12],[142,1,142,3],[142,8,142,12],[133,1,133,3],[133,8,133,12],[134,1,134,3],[134,8,134,12],[135,1,135,3],[135,8,135,12],[136,1,136,3],[136,8,136,12],[129,1,129,3],[66,1,66,3],[67,1,67,3],[65,1,65,3],[67,4,67,6],[106,1,106,8],[108,9,108,12],[65,4,65,6],[66,4,66,6],[108,1,108,3],[106,9,107,12],[105,1,105,12],[86,1,86,7],[86,8,87,12],[87,1,87,3],[99,8,99,12],[100,1,100,3],[100,8,100,12],[101,1,101,3],[101,8,101,12],[102,1,102,3],[102,8,102,12],[103,1,103,3],[103,8,103,12],[98,1,98,3],[1,1,1,24],[164,1,164,3],[145,1,145,12],[146,4,146,11],[146,12,148,12],[159,1,159,3],[160,1,160,3],[161,1,161,3],[162,1,162,3],[163,1,163,3],[154,1,154,3],[155,1,155,3],[156,1,156,3],[157,1,157,3],[158,1,158,3],[149,1,149,3],[150,1,150,3],[29,1,29,3],[30,1,30,3],[31,1,31,3],[32,1,32,3],[33,1,33,3],[34,1,34,3],[35,1,35,3],[151,1,151,3],[152,1,152,3],[153,1,153,3],[13,7,13,8],[13,9,13,10],[12,5,12,16],[12,19,12,20],[138,1,138,3],[47,1,47,3],[43,1,43,8],[68,1,68,7],[85,1,85,3],[72,1,72,3],[42,1,42,12],[28,1,28,3],[109,1,109,3],[77,1,77,3],[78,1,78,3],[74,1,74,3],[73,1,73,3],[75,1,75,3],[45,1,45,3],[107,1,107,3],[65,9,67,12]]}
[]
[null,"ENTRADA DE DADOS POR SUBSISTEMA"]
[]
[]
[]
[null,"Subsistema n° 1:",null,null,null,null,null,"OBS"]
[]
[null,"ÁREA",null,"hectare(s)"]
[]
[]
[]
[]
[null,"Produtos e Insumos Gerados",null,null,null,"Produtos",null,null,null,null,null,null,null,null,null,null,null,null,null,"Insumos Produzidos",null,"Total Produtos e Insumos",null,"Observações"]
[null,null,null,null,null,"Mercado Convencional",null,"Mercado territorial",null,"Mercado Institucional",null,"Autoconsumo",null,"Doações Trocas",null,"Estoque",null,"Total Produtos",null,"Total Insumos"]
[null,"Itens",null,null,"Unidade","Qtde","Valor Unitário","Qtde","Valor Unitário","Qtde","Valor Unitário","Qtde","Valor Unitário","Qtde","Valor Unitário","Qtde","Valor Unitário","Qtde","Valor Total","Qtde","valor Unitário","Qtde","Valor Total"]
[null,null,null,null,null,null,null,null,null,null,null,null,null,null,null,null,null,{"$f":"J16+L16+N16+P16+H16+F16","v":0},{"$f":"(F16*G16)+(H16*I16)+(J16*K16)+(L16*M16)+(N16*O16)+(P16+Q16)","v":0},null,null,{"$f":"R16+T1","v":0},{"$f":"S16+(T16*U16)","v":0}]
[null,null,null,null,null,null,null,null,null,null,null,null,null,null,null,null,null,{"$f":"J17+L17+N17+P17+H17+F17","v":0},{"$f":"(F17*G17)+(H17*I17)+(J17*K17)+(L17*M17)+(N17*O17)+(P17+Q17)","v":0},null,null,{"$f":"R17+T17","v":0},{"$f":"S17+(T17*U17)","v":0}]
[null,null,null,null,null,null,null,null,null,null,null,null,null,null,null,null,null,0,0,null,null,0,0]
[null,null,null,null,null,null,null,null,null,null,null,null,null,null,null,null,null,0,0,null,null,0,0]
[null,null,null,null,null,null,null,null,null,null,null,null,null,null,null,null,null,0,0,null,null,0,0]
[null,null,null,null,null,null,null,null,null,null,null,null,null,null,null,null,null,0,0,null,null,0,0]
[null,null,null,null,null,null,null,null,null,null,null,null,null,null,null,null,null,0,0,null,null,0,0]
[null,null,null,null,null,null,null,null,null,null,null,null,null,null,null,null,null,0,0,null,null,0,0]
[null,null,null,null,null,null,null,null,null,null,null,null,null,null,null,null,null,0,0,null,null,0,0]
[null,null,null,null,null,null,null,null,null,null,null,null,null,null,null,null,null,0,0,null,null,0,0]
[null,null,null,null,null,null,null,null,null,null,null,null,null,null,null,null,null,0,0,null,null,0,0]
[null,null,null,null,null,null,null,null,null,null,null,null,null,null,null,null,null,0,0,null,null,0,0]
[null,null,null,null,null,null,null,null,null,null,null,null,null,null,null,null,null,0,0,null,null,0,0]
[null,null,null,null,null,null,null,null,null,null,null,null,null,null,null,null,null,0,{"$f":"(F29*G29)+(H29*I29)+(J29*K29)+(L29*M29)+(N29*O29)+(P29+Q29)","v":0},null,null,{"$f":"R29+T29","v":0},{"$f":"S29+(T29*U29)","v":0}]
[null,null,null,null,null,null,null,null,null,null,null,null,null,null,null,null,null,0,0,null,null,0,0]
[null,null,null,null,null,null,null,null,null,null,null,null,null,null,null,null,null,0,0,null,null,0,0]
[null,null,null,null,null,null,null,null,null,null,null,null,null,null,null,null,null,0,0,null,null,0,0]
[null,null,null,null,null,null,null,null,null,null,null,null,null,null,null,null,null,0,0,null,null,0,0]
[null,null,null,null,null,null,null,null,null,null,null,null,null,null,null,null,null,0,0,null,null,0,0]
[null,null,null,null,null,null,null,null,null,null,null,null,null,null,null,null,null,0,0,null,null,0,0]
[null,null,null,null,null,null,null,null,null,null,null,null,null,null,null,null,null,0,0,null,null,0,0]
[null,null,null,null,null,null,null,null,null,null,null,null,null,null,null,null,null,0,0,null,null,0,0]
[null,null,null,null,null,null,null,null,null,null,null,null,null,null,null,null,null,0,0,null,null,0,0]
[null,null,null,null,null,null,null,null,null,null,null,null,null,null,null,null,null,0,0,null,null,0,0]
[null,null,null,null,null,null,null,null,null,null,null,null,null,null,null,null,null,0,0,null,null,0,0]
[null,"Totais",null,null,null,null,{"$f":"F16*G16+F17*G17+F18*G18+F19*G19+F20*G20+F21*G21+F22*G22+F23*G23+F24*G24+F25*G25+F26*G26+F27*G27+F28*G28+F29*G29+F30*G30+F31*G31+F32*G32+F33*G33+F34*G34+F35*G35+F36*G36+F37*G37+F38*G38+F39*G39+F40*G40","v":0},null,{"$f":"H16*I16+H17*I17+H18*I18+H19*I19+H20*I20+H21*I21+H22*I22+H23*I23+H24*I24+H25*I25+H26*I26+H27*I27+H28*I28+H29*I29+H30*I30+H31*I31+H32*I32+H33*I33+H34*I34+H35*I35+H36*I36+H37*I37+H38*I38+H39*I39+H40*I40","v":0},null,{"$f":"J16*K16+J17*K17+J18*K18+J19*K19+J20*K20+J21*K21+J22*K22+J23*K23+J24*K24+J25*K25+J26*K26+J27*K27+J28*K28+J29*K29+J30*K30+J31*K31+J32*K32+J33*K33+J34*K34+J35*K35+J36*K36+J37*K37+J38*K38+J39*K39+J40*K40","v":0},null,{"$f":"L16*M16+L17*M17+L18*M18+L19*M19+L20*M20+L21*M21+L22*M22+L23*M23+L24*M24+L25*M25+L26*M26+L27*M27+L28*M28+L29*M29+L30*M30+L31*M31+L32*M32+L33*M33+L34*M34+L35*M35+L36*M36+L37*M37+L38*M38+L39*M39+L40*M40","v":0},null,{"$f":"N16*O16+N17*O17+N18*O18+N19*O19+N20*O20+N21*O21+N22*O22+N23*O23+N24*O24+N25*O25+N26*O26+N27*O27+N28*O28+N29*O29+N30*O30+N31*O31+N32*O32+N33*O33+N34*O34+N35*O35+N36*O36+N37*O37+N38*O38+N39*O39+N40*O40","v":0},null,{"$f":"P16*Q16+P17*Q17+P18*Q18+P19*Q19+P20*Q20+P21*Q21+P22*Q22+P23*Q23+P24*Q24+P25*Q25+P26*Q26+P27*Q27+P28*Q28+P29*Q29+P30*Q30+P31*Q31+P32*Q32+P33*Q33+P34*Q34+P35*Q35+P36*Q36+P37*Q37+P38*Q38+P39*Q39+P40*Q40","v":0},null,{"$f":"SUM(S16:S40)","v":0},null,{"$f":"T16*U16+T17*U17+T18*U18+T19*U19+T20*U20+T21*U21+T22*U22+T23*U23+T24*U24+T25*U25+T26*U26+T27*U27+T28*U28+T29*U29+T30*U30+T31*U31+T32*U32+T33*U33+T34*U34+T35*U35+T36*U36+T37*U37+T38*U38+T39*U39+T40*U40","v":0},null,{"$f":"SUM(W16:W40)","v":0}]
[]
[null,"Insumos",null,null,null,null,null,null,null,null,null,null,null,null,"OBS:"]
[null,"Comprados - Consumos Intermediários ",null,null,null,null,null,null,null,"Observações"]
[null,"Itens",null,null,"Unidade","Valor Unitário","Qtde","Valor Total","Origem"]
[null,null,null,null,null,null,null,{"$f":"G46*F46","v":0}]
[null,null,null,null,null,null,null,{"$f":"G47*F47","v":0}]
[null,null,null,null,null,null,null,0]
[null,null,null,null,null,null,null,0]
[null,null,null,null,null,null,null,0]
[null,null,null,null,null,null,null,0]
[null,null,null,null,null,null,null,0]
[null,null,null,null,null,null,null,0]
[null,null,null,null,null,null,null,0]
[null,null,null,null,null,null,null,0]
[null,null,null,null,null,null,null,0]
[null,null,null,null,null,null,null,0]
[null,null,null,null,null,null,null,0]
[null,null,null,null,null,null,null,0]
[null,null,null,null,null,null,null,0]
[null,null,null,null,null,null,null,0]
[null,null,null,null,null,null,null,0]
[null,null,null,null,null,null,null,0]
[null,null,null,null,null,null,null,0]
[null,null,null,null,null,null,null,0]
[null," Insumos Comprados no Território",null,null,null,null,null,{"$f":"DSUM(H45:I65,\"Valor Total\",G167:G168)","v":0}]
[null," Insumos Comprados Fora do Território",null,null,null,null,null,{"$f":"DSUM(H45:I65,\"Valor Total\",H167:H168)","v":0}]
[null,"Total de Insumos Comprados",null,null,null,null,null,{"$f":"SUM(H46:H65)","v":0}]
[null,"Produção Própria - Reciprocidade Ecológica",null,null,null,null,null,null,"Observações",null,null,null,null,null,"OBS:"]
[null,"Itens",null,null,"Unidade","Valor Unitário","Qtde","Valor Total"]
[null,null,null,null,null,null,null,{"$f":"G71*F71","v":0}]
[null,null,null,null,null,null,null,{"$f":"G72*F72","v":0}]
[null,null,null,null,null,null,null,0]
[null,null,null,null,null,null,null,{"$f":"G74*F74","v":0}]
[null,null,null,null,null,null,null,0]
[null,null,null,null,null,null,null,0]
[null,null,null,null,null,null,null,0]
[null,null,null,null,null,null,null,0]
[null,null,null,null,null,null,null,0]
[null,null,null,null,null,null,null,0]
[null,null,null,null,null,null,null,0]
[null,null,null,null,null,null,null,0]
[null,null,null,null,null,null,null,0]
[null,null,null,null,null,null,null,0]
[null,null,null,null,null,null,null,0]
[null,"Total Insumos -  Produção Própria",null,null,null,null,null,{"$f":"SUM(H71:H85)","v":0}]
[null,"Entrada de Insumos por Reciprocidade Social",null,null,null,null,null,null,"Observações",null,null,null,null,null,"OBS:"]
[null,"insumos",null,null,"Unidade","Valor Unitário","Qtde","Valor Total"]
[null,null,null,null,null,null,null,{"$f":"G89*F89","v":0}]
[null,null,null,null,null,null,null,0]
[null,null,null,null,null,null,null,0]
[null,null,null,null,null,null,null,0]
[null,null,null,null,null,null,null,0]
[null,null,null,null,null,null,null,0]
[null,null,null,null,null,null,null,0]
[null,null,null,null,null,null,null,0]
[null,null,null,null,null,null,null,0]
[null,null,null,null,null,null,null,0]
[null,null,null,null,null,null,null,0]
[null,null,null,null,null,null,null,0]
[null,null,null,null,null,null,null,0]
[null,null,null,null,null,null,null,0]
[null,null,null,null,null,null,null,0]
[null,"Total Recursos por Reciprocidade",null,null,null,null,null,{"$f":"SUM(H89:H103)","v":0}]
[]
[null,"Serviços de Terceiros",null,null,null,null,null,null,null,null,null,null,null,null,"OBS:"]
[null,"Pagamento a Terceiros",null,null,null,null,null,null,null,"Observações"]
[null,"Serviços/Renda da Terra",null,null,"Unidade","Valor Unitário","Qtde","Valor Total","Origem"]
[null,null,null,null,null,null,null,{"$f":"G109*F109","v":0}]
[null,null,null,null,null,null,null,0]
[null,null,null,null,null,null,null,0]
[null,null,null,null,null,null,null,0]
[null,null,null,null,null,null,null,0]
[null,null,null,null,null,null,null,0]
[null,null,null,null,null,null,null,0]
[null,null,null,null,null,null,null,0]
[null,null,null,null,null,null,null,0]
[null,null,null,null,null,null,null,0]
[null,null,null,null,null,null,null,0]
[null,null,null,null,null,null,null,0]
[null,null,null,null,null,null,null,0]
[null,null,null,null,null,null,null,0]
[null,null,null,null,null,null,null,0]
[null,"Pagamentos a Terceiros do Território",null,null,null,null,null,{"$f":"DSUM(H108:I123,\"Valor Total\",G167:G168)","v":0}]
[null,"Pagamentos a Terceiros Fora do Território",null,null,null,null,null,{"$f":"DSUM(H108:I123,\"Valor Total\",H167:H168)","v":0}]
[null,"Total de Pagamentos a Terceiros ",null,null,null,null,null,{"$f":"SUM(H109:H123)","v":0}]
[null,"Serviços por  Reciprocidade Social",null,null,null,null,null,null,"Observações",null,null,null,null,null,"OBS:"]
[null,"Serviços",null,null,"Unidade","Valor Unitário","Qtde","Valor Total"]
[null,null,null,null,null,null,null,{"$f":"G129*F129","v":0}]
[null,null,null,null,null,null,null,0]
[null,null,null,null,null,null,null,0]
[null,null,null,null,null,null,null,0]
[null,null,null,null,null,null,null,0]
[null,null,null,null,null,null,null,0]
[null,null,null,null,null,null,null,0]
[null,null,null,null,null,null,null,0]
[null,null,null,null,null,null,null,0]
[null,null,null,null,null,null,null,0]
[null,null,null,null,null,null,null,0]
[null,null,null,null,null,null,null,0]
[null,null,null,null,null,null,null,0]
[null,null,null,null,null,null,null,0]
[null,null,null,null,null,null,null,0]
[null,"Total Recursos por Reciprocidade",null,null,null,null,null,{"$f":"SUM(H129:H143)","v":0}]
[]
[null,"Horas trabalhadas pelos Membros do NSGA",null,null,null,null,null,null,null,null,null,null,null,null,"OBS:"]
[null,null,null,null,"Membros do NSGA",null,null,null,null,null,null,null,"Total"]
[null,"Atividade",null,null,1,2,3,4,5,6,7,8]
[null,null,null,null,{"$f":"Agroecossistema!B15","v":0},{"$f":"Agroecossistema!B16","v":0},{"$f":"Agroecossistema!B17","v":0},{"$f":"Agroecossistema!B18","v":0},{"$f":"Agroecossistema!B19","v":0},{"$f":"Agroecossistema!B20","v":0},{"$f":"Agroecossistema!B21","v":0},{"$f":"Agroecossistema!B22","v":0}]
[null,null,null,null,null,null,null,null,null,null,null,null,{"$f":"SUM(E150:L150)","v":0}]
[null,null,null,null,null,null,null,null,null,null,null,null,{"$f":"SUM(E151:L151)","v":0}]
[null,null,null,null,null,null,null,null,null,null,null,null,0]
[null,null,null,null,null,null,null,null,null,null,null,null,0]
[null,null,null,null,null,null,null,null,null,null,null,null,0]
[null,null,null,null,null,null,null,null,null,null,null,null,0]
[null,null,null,null,null,null,null,null,null,null,null,null,0]
[null,null,null,null,null,null,null,null,null,null,null,null,0]
[null,null,null,null,null,null,null,null,null,null,null,null,0]
[null,null,null,null,null,null,null,null,null,null,null,null,0]
[null,null,null,null,null,null,null,null,null,null,null,null,0]
[null,null,null,null,null,null,null,null,null,null,null,null,0]
[null,null,null,null,null,null,null,null,null,null,null,null,0]
[null,null,null,null,null,null,null,null,null,null,null,null,0]
[null,null,null,null,null,null,null,null,null,null,null,null,0]
[null,"Total horas ",null,null,{"$f":"SUM(E150:E164)","v":0},{"$f":"SUM(F150:F164)","v":0},0,0,0,0,0,0,0]
[]
[null,null,null,null,null,null,"Origem","Origem"]
[null,null,null,null,null,null,"T","F"]

{"sheet":"SUB. 2","index":6,"n_rows":168,"n_cols":24,"rows_kept":168,"cut":false,"hidden":false,"merged":[[163,1,163,3],[164,1,164,3],[157,1,157,3],[158,1,158,3],[159,1,159,3],[160,1,160,3],[161,1,161,3],[162,1,162,3],[146,14,164,21],[147,1,148,3],[149,1,149,3],[150,1,150,3],[151,1,151,3],[152,1,152,3],[153,1,153,3],[154,1,154,3],[155,1,155,3],[156,1,156,3],[143,1,143,3],[143,8,143,12],[145,1,145,12],[146,1,146,3],[146,4,146,11],[146,12,148,12],[140,1,140,3],[140,8,140,12],[141,1,141,3],[141,8,141,12],[142,1,142,3],[142,8,142,12],[138,1,138,3],[138,8,138,12],[139,1,139,3],[139,8,139,12],[134,1,134,3],[134,8,134,12],[135,1,135,3],[135,8,135,12],[136,1,136,3],[136,8,136,12],[132,8,132,12],[133,1,133,3],[133,8,133,12],[125,4,125,6],[126,1,126,7],[126,8,127,12],[127,1,127,3],[137,1,137,3],[137,8,137,12],[116,1,116,3],[116,9,116,12],[117,1,117,3],[117,9,117,12],[127,14,143,21],[128,1,128,3],[128,8,128,12],[129,1,129,3],[129,8,129,12],[130,1,130,3],[121,1,121,3],[121,9,121,12],[122,1,122,3],[122,9,122,12],[123,1,123,3],[123,4,123,6],[123,9,125,12],[124,1,124,3],[124,4,124,6],[125,1,125,3],[130,8,130,12],[131,1,131,3],[131,8,131,12],[132,1,132,3],[112,1,112,3],[112,9,112,12],[113,1,113,3],[113,9,113,12],[114,1,114,3],[114,9,114,12],[106,14,125,21],[107,1,107,3],[108,1,108,3],[108,9,108,12],[109,1,109,3],[109,9,109,12],[110,1,110,3],[110,9,110,12],[111,1,111,3],[111,9,111,12],[118,1,118,3],[118,9,118,12],[119,1,119,3],[119,9,119,12],[120,1,120,3],[120,9,120,12],[115,1,115,3],[115,9,115,12],[102,1,102,3],[102,8,102,12],[103,1,103,3],[103,8,103,12],[105,1,105,12],[106,1,106,8],[106,9,107,12],[99,1,99,3],[99,8,99,12],[100,1,100,3],[100,8,100,12],[101,1,101,3],[101,8,101,12],[96,8,96,12],[97,1,97,3],[97,8,97,12],[98,1,98,3],[98,8,98,12],[93,1,93,3],[93,8,93,12],[94,1,94,3],[94,8,94,12],[95,1,95,3],[95,8,95,12],[87,14,103,21],[88,1,88,3],[88,8,88,12],[89,1,89,3],[89,8,89,12],[82,1,82,3],[82,8,82,12],[83,1,83,3],[83,8,83,12],[84,1,84,3],[84,8,84,12],[69,14,85,21],[90,1,90,3],[90,8,90,12],[91,1,91,3],[91,8,91,12],[92,1,92,3],[92,8,92,12],[85,1,85,3],[85,8,85,12],[86,1,86,7],[86,8,87,12],[87,1,87,3],[96,1,96,3],[79,1,79,3],[79,8,79,12],[80,1,80,3],[80,8,80,12],[81,1,81,3],[81,8,81,12],[76,1,76,3],[76,8,76,12],[77,1,77,3],[77,8,77,12],[78,1,78,3],[78,8,78,12],[72,8,72,12],[73,1,73,3],[73,8,73,12],[74,1,74,3],[74,8,74,12],[75,1,75,3],[75,8,75,12],[67,4,67,6],[68,1,68,7],[68,8,69,12],[69,1,69,3],[70,1,70,3],[70,8,70,12],[71,1,71,3],[71,8,71,12],[72,1,72,3],[63,1,63,3],[63,9,63,12],[64,1,64,3],[64,9,64,12],[65,1,65,3],[65,4,65,6],[65,9,67,12],[66,1,66,3],[66,4,66,6],[67,1,67,3],[60,1,60,3],[60,9,60,12],[61,1,61,3],[61,9,61,12],[62,1,62,3],[62,9,62,12],[57,1,57,3],[57,9,57,12],[58,1,58,3],[58,9,58,12],[59,1,59,3],[59,9,59,12],[54,9,54,12],[55,1,55,3],[55,9,55,12],[56,1,56,3],[56,9,56,12],[51,1,51,3],[51,9,51,12],[52,1,52,3],[52,9,52,12],[53,1,53,3],[53,9,53,12],[43,14,66,21],[44,1,44,3],[45,1,45,3],[45,9,45,12],[46,1,46,3],[46,9,46,12],[47,1,47,3],[38,1,38,3],[38,23,38,24],[39,1,39,3],[39,23,39,24],[40,1,40,3],[40,23,40,24],[47,9,47,12],[48,1,48,3],[48,9,48,12],[49,1,49,3],[49,9,49,12],[50,1,50,3],[50,9,50,12],[42,1,42,12],[43,1,43,8],[43,9,44,12],[54,1,54,3],[35,1,35,3],[35,23,35,24],[36,1,36,3],[36,23,36,24],[37,1,37,3],[37,23,37,24],[32,1,32,3],[32,23,32,24],[33,1,33,3],[33,23,33,24],[34,1,34,3],[34,23,34,24],[29,1,29,3],[29,23,29,24],[30,1,30,3],[30,23,30,24],[31,1,31,3],[31,23,31,24],[26,1,26,3],[26,23,26,24],[27,1,27,3],[27,23,27,24],[28,1,28,3],[28,23,28,24],[23,1,23,3],[23,23,23,24],[24,1,24,3],[24,23,24,24],[25,1,25,3],[25,23,25,24],[20,1,20,3],[20,23,20,24],[21,1,21,3],[21,23,21,24],[22,1,22,3],[22,23,22,24],[17,1,17,3],[17,23,17,24],[18,1,18,3],[18,23,18,24],[19,1,19,3],[19,23,19,24],[13,19,13,20],[14,1,14,3],[15,1,15,3],[15,23,15,24],[16,1,16,3],[16,23,16,24],[13,7,13,8],[13,9,13,10],[13,11,13,12],[13,13,13,14],[13,15,13,16],[13,17,13,18],[1,1,1,24],[5,1,5,2],[5,3,5,4],[5,8,10,22],[12,1,13,4],[12,5,12,16],[12,19,12,20],[12,21,13,22],[12,23,14,24],[13,5,13,6]]}
[]
[null,"ENTRADA DE DADOS POR SUBSISTEMA"]
[]
[]
[]
[null,"Subsistema n° 2:",null,null,null,null,null,"OBS"]
[]
[null,"ÁREA",null,"hectare(s)"]
[]
[]
[]
[]
[null,"Produtos e Insumos Gerados",null,null,null,"Produtos",null,null,null,null,null,null,null,null,null,null,null,null,null,"Insumos Produzidos",null,"Total Produtos e Insumos",null,"Observações"]
[null,null,null,null,null,"Mercado Convencional",null,"Mercado territorial",null,"Mercado Institucional",null,"Autoconsumo",null,"Doações Trocas",null,"Estoque",null,"Total Produtos",null,"Total Insumos"]
[null,"Itens",null,null,"Unidade","Qtde","Valor Unitário","Qtde","Valor Unitário","Qtde","Valor Unitário","Qtde","Valor Unitário","Qtde","Valor Unitário","Qtde","Valor Unitário","Qtde","Valor Total","Qtde","valor Unitário","Qtde","Valor Total"]
[null,null,null,null,null,null,null,null,null,null,null,null,null,null,null,null,null,{"$f":"J16+L16+N16+P16+H16+F16","v":0},{"$f":"(F16*G16)+(H16*I16)+(J16*K16)+(L16*M16)+(N16*O16)+(P16+Q16)","v":0},null,null,{"$f":"R16+T16","v":0},{"$f":"S16+(T16*U16)","v":0}]
[null,null,null,null,null,null,null,null,null,null,null,null,null,null,null,null,null,{"$f":"J17+L17+N17+P17+H17+F17","v":0},{"$f":"(F17*G17)+(H17*I17)+(J17*K17)+(L17*M17)+(N17*O17)+(P17+Q17)","v":0},null,null,{"$f":"R17+T17","v":0},{"$f":"S17+(T17*U17)","v":0}]
[null,null,null,null,null,null,null,null,null,null,null,null,null,null,null,null,null,0,0,null,null,0,0]
[null,null,null,null,null,null,null,null,null,null,null,null,null,null,null,null,null,0,0,null,null,0,0]
[null,null,null,null,null,null,null,null,null,null,null,null,null,null,null,null,null,0,0,null,null,0,0]
[null,null,null,null,null,null,null,null,null,null,null,null,null,null,null,null,null,0,0,null,null,0,0]
[null,null,null,null,null,null,null,null,null,null,null,null,null,null,null,null,null,0,0,null,null,0,0]
[null,null,null,null,null,null,null,null,null,null,null,null,null,null,null,null,null,0,0,null,null,0,0]
[null,null,null,null,null,null,null,null,null,null,null,null,null,null,null,null,null,0,0,null,null,0,0]
[null,null,null,null,null,null,null,null,null,null,null,null,null,null,null,null,null,0,0,null,null,0,0]
[null,null,null,null,null,null,null,null,null,null,null,null,null,null,null,null,null,0,0,null,null,0,0]
[null,null,null,null,null,null,null,null,null,null,null,null,null,null,null,null,null,0,0,null,null,0,0]
[null,null,null,null,null,null,null,null,null,null,null,null,null,null,null,null,null,0,0,null,null,0,0]
[null,null,null,null,null,null,null,null,null,null,null,null,null,null,null,null,null,0,0,null,null,0,0]
[null,null,null,null,null,null,null,null,null,null,null,null,null,null,null,null,null,0,0,null,null,0,0]
[null,null,null,null,null,null,null,null,null,null,null,null,null,null,null,null,null,{"$f":"J31+L31+N31+P31+H31+F31","v":0},0,null,null,0,0]
[null,null,null,null,null,null,null,null,null,null,null,null,null,null,null,null,null,0,0,null,null,0,0]
[null,null,null,null,null,null,null,null,null,null,null,null,null,null,null,null,null,0,0,null,null,0,0]
[null,null,null,null,null,null,null,null,null,null,null,null,null,null,null,null,null,0,0,null,null,0,0]
[null,null,null,null,null,null,null,null,null,null,null,null,null,null,null,null,null,0,0,null,null,0,0]
[null,null,null,null,null,null,null,null,null,null,null,null,null,null,null,null,null,0,0,null,null,0,0]
[null,null,null,null,null,null,null,null,null,null,null,null,null,null,null,null,null,0,0,null,null,0,0]
[null,null,null,null,null,null,null,null,null,null,null,null,null,null,null,null,null,0,0,null,null,0,0]
[null,null,null,null,null,null,null,null,null,null,null,null,null,null,null,null,null,0,0,null,null,0,0]
[null,null,null,null,null,null,null,null,null,null,null,null,null,null,null,null,null,0,0,null,null,0,0]
[null,"Totais",null,null,null,null,{"$f":"F16*G16+F17*G17+F18*G18+F19*G19+F20*G20+F21*G21+F22*G22+F23*G23+F24*G24+F25*G25+F26*G26+F27*G27+F28*G28+F29*G29+F30*G30+F31*G31+F32*G32+F33*G33+F34*G34+F35*G35+F36*G36+F37*G37+F38*G38+F39*G39+F40*G40","v":0},null,{"$f":"H16*I16+H17*I17+H18*I18+H19*I19+H20*I20+H21*I21+H22*I22+H23*I23+H24*I24+H25*I25+H26*I26+H27*I27+H28*I28+H29*I29+H30*I30+H31*I31+H32*I32+H33*I33+H34*I34+H35*I35+H36*I36+H37*I37+H38*I38+H39*I39+H40*I40","v":0},null,{"$f":"J16*K16+J17*K17+J18*K18+J19*K19+J20*K20+J21*K21+J22*K22+J23*K23+J24*K24+J25*K25+J26*K26+J27*K27+J28*K28+J29*K29+J30*K30+J31*K31+J32*K32+J33*K33+J34*K34+J35*K35+J36*K36+J37*K37+J38*K38+J39*K39+J40*K40","v":0},null,{"$f":"L16*M16+L17*M17+L18*M18+L19*M19+L20*M20+L21*M21+L22*M22+L23*M23+L24*M24+L25*M25+L26*M26+L27*M27+L28*M28+L29*M29+L30*M30+L31*M31+L32*M32+L33*M33+L34*M34+L35*M35+L36*M36+L37*M37+L38*M38+L39*M39+L40*M40","v":0},null,{"$f":"N16*O16+N17*O17+N18*O18+N19*O19+N20*O20+N21*O21+N22*O22+N23*O23+N24*O24+N25*O25+N26*O26+N27*O27+N28*O28+N29*O29+N30*O30+N31*O31+N32*O32+N33*O33+N34*O34+N35*O35+N36*O36+N37*O37+N38*O38+N39*O39+N40*O40","v":0},null,{"$f":"P16*Q16+P17*Q17+P18*Q18+P19*Q19+P20*Q20+P21*Q21+P22*Q22+P23*Q23+P24*Q24+P25*Q25+P26*Q26+P27*Q27+P28*Q28+P29*Q29+P30*Q30+P31*Q31+P32*Q32+P33*Q33+P34*Q34+P35*Q35+P36*Q36+P37*Q37+P38*Q38+P39*Q39+P40*Q40","v":0},null,{"$f":"SUM(S16:S40)","v":0},null,{"$f":"T16*U16+T17*U17+T18*U18+T19*U19+T20*U20+T21*U21+T22*U22+T23*U23+T24*U24+T25*U25+T26*U26+T27*U27+T28*U28+T29*U29+T30*U30+T31*U31+T32*U32+T33*U33+T34*U34+T35*U35+T36*U36+T37*U37+T38*U38+T39*U39+T40*U40","v":0},null,{"$f":"SUM(W16:W40)","v":0}]
[]
[null,"Insumos",null,null,null,null,null,null,null,null,null,null,null,null,"OBS:"]
[null,"Comprados - Consumos Intermediários ",null,null,null,null,null,null,null,"Observações"]
[null,"Itens",null,null,"Unidade","Valor Unitário","Qtde","Valor Total","Origem"]
[null,null,null,null,null,null,null,{"$f":"G46*F46","v":0}]
[null,null,null,null,null,null,null,{"$f":"G47*F47","v":0}]
[null,null,null,null,null,null,null,0]
[null,null,null,null,null,null,null,0]
[null,null,null,null,null,null,null,0]
[null,null,null,null,null,null,null,0]
[null,null,null,null,null,null,null,0]
[null,null,null,null,null,null,null,0]
[null,null,null,null,null,null,null,0]
[null,null,null,null,null,null,null,0]
[null,null,null,null,null,null,null,0]
[null,null,null,null,null,null,null,0]
[null,null,null,null,null,null,null,0]
[null,null,null,null,null,null,null,0]
[null,null,null,null,null,null,null,0]
[null,null,null,null,null,null,null,0]
[null,null,null,null,null,null,null,0]
[null,null,null,null,null,null,null,0]
[null,null,null,null,null,null,null,0]
[null,null,null,null,null,null,null,0]
[null," Insumos Comprados no Território",null,null,null,null,null,{"$f":"DSUM(H45:I65,\"Valor Total\",G167:G168)","v":0}]
[null," Insumos Comprados Fora do Território",null,null,null,null,null,{"$f":"DSUM(H45:I65,\"Valor Total\",H167:H168)","v":0}]
[null,"Total de Insumos Comprados",null,null,null,null,null,{"$f":"SUM(H46:H65)","v":0}]
[null,"Produção Própria - Reciprocidade Ecológica",null,null,null,null,null,null,"Observações",null,null,null,null,null,"OBS:"]
[null,"Itens",null,null,"Unidade","Valor Unitário","Qtde","Valor Total"]
[null,null,null,null,null,null,null,{"$f":"G71*F71","v":0}]
[null,null,null,null,null,null,null,{"$f":"G72*F72","v":0}]
[null,null,null,null,null,null,null,0]
[null,null,null,null,null,null,null,0]
[null,null,null,null,null,null,null,0]
[null,null,null,null,null,null,null,0]
[null,null,null,null,null,null,null,0]
[null,null,null,null,null,null,null,0]
[null,null,null,null,null,null,null,0]
[null,null,null,null,null,null,null,0]
[null,null,null,null,null,null,null,0]
[null,null,null,null,null,null,null,0]
[null,null,null,null,null,null,null,0]
[null,null,null,null,null,null,null,0]
[null,null,null,null,null,null,null,0]
[null,"Total Insumos -  Produção Própria",null,null,null,null,null,{"$f":"SUM(H71:H85)","v":0}]
[null,"Entrada de Insumos por Reciprocidade Social",null,null,null,null,null,null,"Observações",null,null,null,null,null,"OBS:"]
[null,"insumos",null,null,"Unidade","Valor Unitário","Qtde","Valor Total"]
[null,null,null,null,null,null,null,{"$f":"G89*F89","v":0}]
[null,null,null,null,null,null,null,0]
[null,null,null,null,null,null,null,0]
[null,null,null,null,null,null,null,0]
[null,null,null,null,null,null,null,0]
[null,null,null,null,null,null,null,0]
[null,null,null,null,null,null,null,0]
[null,null,null,null,null,null,null,0]
[null,null,null,null,null,null,null,0]
[null,null,null,null,null,null,null,0]
[null,null,null,null,null,null,null,0]
[null,null,null,null,null,null,null,0]
[null,null,null,null,null,null,null,0]
[null,null,null,null,null,null,null,0]
[null,null,null,null,null,null,null,0]
[null,"Total Recursos por Reciprocidade",null,null,null,null,null,{"$f":"SUM(H89:H103)","v":0}]
[]
[null,"Serviços de Terceiros",null,null,null,null,null,null,null,null,null,null,null,null,"OBS:"]
[null,"Pagamento a Terceiros",null,null,null,null,null,null,null,"Observações"]
[null,"Serviços/Renda da Terra",null,null,"Unidade","Valor Unitário","Qtde","Valor Total","Origem"]
[null,null,null,null,null,null,null,{"$f":"G109*F109","v":0}]
[null,null,null,null,null,null,null,0]
[null,null,null,null,null,null,null,0]
[null,null,null,null,null,null,null,0]
[null,null,null,null,null,null,null,0]
[null,null,null,null,null,null,null,0]
[null,null,null,null,null,null,null,0]
[null,null,null,null,null,null,null,0]
[null,null,null,null,null,null,null,0]
[null,null,null,null,null,null,null,0]
[null,null,null,null,null,null,null,0]
[null,null,null,null,null,null,null,0]
[null,null,null,null,null,null,null,0]
[null,null,null,null,null,null,null,0]
[null,null,null,null,null,null,null,0]
[null,"Pagamentos a Terceiros do Território",null,null,null,null,null,{"$f":"DSUM(H108:I123,\"Valor Total\",G167:G168)","v":0}]
[null,"Pagamentos a Terceiros Fora do Território",null,null,null,null,null,{"$f":"DSUM(H108:I123,\"Valor Total\",H167:H168)","v":0}]
[null,"Total de Pagamentos a Terceiros ",null,null,null,null,null,{"$f":"SUM(H109:H123)","v":0}]
[null,"Serviços por  Reciprocidade Social",null,null,null,null,null,null,"Observações",null,null,null,null,null,"OBS:"]
[null,"Serviços",null,null,"Unidade","Valor Unitário","Qtde","Valor Total"]
[null,null,null,null,null,null,null,{"$f":"G129*F129","v":0}]
[null,null,null,null,null,null,null,0]
[null,null,null,null,null,null,null,0]
[null,null,null,null,null,null,null,0]
[null,null,null,null,null,null,null,0]
[null,null,null,null,null,null,null,0]
[null,null,null,null,null,null,null,0]
[null,null,null,null,null,null,null,0]
[null,null,null,null,null,null,null,0]
[null,null,null,null,null,null,null,0]
[null,null,null,null,null,null,null,0]
[null,null,null,null,null,null,null,0]
[null,null,null,null,null,null,null,0]
[null,null,null,null,null,null,null,0]
[null,null,null,null,null,null,null,0]
[null,"Total Recursos por Reciprocidade",null,null,null,null,null,{"$f":"SUM(H129:H143)","v":0}]
[]
[null,"Horas trabalhadas pelos Membros do NSGA",null,null,null,null,null,null,null,null,null,null,null,null,"OBS:"]
[null,null,null,null,"Membros do NSGA",null,null,null,null,null,null,null,"Total"]
[null,"Atividade",null,null,1,2,3,4,5,6,7,8]
[null,null,null,null,{"$f":"Agroecossistema!B15","v":0},{"$f":"Agroecossistema!B16","v":0},{"$f":"Agroecossistema!B17","v":0},{"$f":"Agroecossistema!B18","v":0},{"$f":"Agroecossistema!B19","v":0},{"$f":"Agroecossistema!B20","v":0},{"$f":"Agroecossistema!B21","v":0},{"$f":"Agroecossistema!B22","v":0}]
[null,null,null,null,null,null,null,null,null,null,null,null,{"$f":"SUM(E150:L150)","v":0}]
[null,null,null,null,null,null,null,null,null,null,null,null,{"$f":"SUM(E151:L151)","v":0}]
[null,null,null,null,null,null,null,null,null,null,null,null,0]
[null,null,null,null,null,null,null,null,null,null,null,null,0]
[null,null,null,null,null,null,null,null,null,null,null,null,0]
[null,null,null,null,null,null,null,null,null,null,null,null,0]
[null,null,null,null,null,null,null,null,null,null,null,null,0]
[null,null,null,null,null,null,null,null,null,null,null,null,0]
[null,null,null,null,null,null,null,null,null,null,null,null,0]
[null,null,null,null,null,null,null,null,null,null,null,null,0]
[null,null,null,null,null,null,null,null,null,null,null,null,0]
[null,null,null,null,null,null,null,null,null,null,null,null,0]
[null,null,null,null,null,null,null,null,null,null,null,null,0]
[null,null,null,null,null,null,null,null,null,null,null,null,0]
[null,null,null,null,null,null,null,null,null,null,null,null,0]
[null,"Total horas ",null,null,{"$f":"SUM(E150:E164)","v":0},{"$f":"SUM(F150:F164)","v":0},0,0,0,0,0,0,0]
[]
[null,null,null,null,null,null,"Origem","Origem"]
[null,null,null,null,null,null,"T","F"]

{"sheet":"SUB. 3","index":7,"n_rows":168,"n_cols":24,"rows_kept":168,"cut":false,"hidden":false,"merged":[[163,1,163,3],[164,1,164,3],[157,1,157,3],[158,1,158,3],[159,1,159,3],[160,1,160,3],[161,1,161,3],[162,1,162,3],[146,14,164,21],[147,1,148,3],[149,1,149,3],[150,1,150,3],[151,1,151,3],[152,1,152,3],[153,1,153,3],[154,1,154,3],[155,1,155,3],[156,1,156,3],[143,1,143,3],[143,8,143,12],[145,1,145,12],[146,1,146,3],[146,4,146,11],[146,12,148,12],[140,1,140,3],[140,8,140,12],[141,1,141,3],[141,8,141,12],[142,1,142,3],[142,8,142,12],[138,1,138,3],[138,8,138,12],[139,1,139,3],[139,8,139,12],[134,1,134,3],[134,8,134,12],[135,1,135,3],[135,8,135,12],[136,1,136,3],[136,8,136,12],[132,8,132,12],[133,1,133,3],[133,8,133,12],[125,4,125,6],[126,1,126,7],[126,8,127,12],[127,1,127,3],[137,1,137,3],[137,8,137,12],[116,1,116,3],[116,9,116,12],[117,1,117,3],[117,9,117,12],[127,14,143,21],[128,1,128,3],[128,8,128,12],[129,1,129,3],[129,8,129,12],[130,1,130,3],[121,1,121,3],[121,9,121,12],[122,1,122,3],[122,9,122,12],[123,1,123,3],[123,4,123,6],[123,9,125,12],[124,1,124,3],[124,4,124,6],[125,1,125,3],[130,8,130,12],[131,1,131,3],[131,8,131,12],[132,1,132,3],[112,1,112,3],[112,9,112,12],[113,1,113,3],[113,9,113,12],[114,1,114,3],[114,9,114,12],[106,14,125,21],[107,1,107,3],[108,1,108,3],[108,9,108,12],[109,1,109,3],[109,9,109,12],[110,1,110,3],[110,9,110,12],[111,1,111,3],[111,9,111,12],[118,1,118,3],[118,9,118,12],[119,1,119,3],[119,9,119,12],[120,1,120,3],[120,9,120,12],[115,1,115,3],[115,9,115,12],[102,1,102,3],[102,8,102,12],[103,1,103,3],[103,8,103,12],[105,1,105,12],[106,1,106,8],[106,9,107,12],[99,1,99,3],[99,8,99,12],[100,1,100,3],[100,8,100,12],[101,1,101,3],[101,8,101,12],[96,8,96,12],[97,1,97,3],[97,8,97,12],[98,1,98,3],[98,8,98,12],[93,1,93,3],[93,8,93,12],[94,1,94,3],[94,8,94,12],[95,1,95,3],[95,8,95,12],[87,14,103,21],[88,1,88,3],[88,8,88,12],[89,1,89,3],[89,8,89,12],[82,1,82,3],[82,8,82,12],[83,1,83,3],[83,8,83,12],[84,1,84,3],[84,8,84,12],[69,14,85,21],[90,1,90,3],[90,8,90,12],[91,1,91,3],[91,8,91,12],[92,1,92,3],[92,8,92,12],[85,1,85,3],[85,8,85,12],[86,1,86,7],[86,8,87,12],[87,1,87,3],[96,1,96,3],[79,1,79,3],[79,8,79,12],[80,1,80,3],[80,8,80,12],[81,1,81,3],[81,8,81,12],[76,1,76,3],[76,8,76,12],[77,1,77,3],[77,8,77,12],[78,1,78,3],[78,8,78,12],[72,8,72,12],[73,1,73,3],[73,8,73,12],[74,1,74,3],[74,8,74,12],[75,1,75,3],[75,8,75,12],[67,4,67,6],[68,1,68,7],[68,8,69,12],[69,1,69,3],[70,1,70,3],[70,8,70,12],[71,1,71,3],[71,8,71,12],[72,1,72,3],[63,1,63,3],[63,9,63,12],[64,1,64,3],[64,9,64,12],[65,1,65,3],[65,4,65,6],[65,9,67,12],[66,1,66,3],[66,4,66,6],[67,1,67,3],[60,1,60,3],[60,9,60,12],[61,1,61,3],[61,9,61,12],[62,1,62,3],[62,9,62,12],[57,1,57,3],[57,9,57,12],[58,1,58,3],[58,9,58,12],[59,1,59,3],[59,9,59,12],[54,9,54,12],[55,1,55,3],[55,9,55,12],[56,1,56,3],[56,9,56,12],[51,1,51,3],[51,9,51,12],[52,1,52,3],[52,9,52,12],[53,1,53,3],[53,9,53,12],[43,14,66,21],[44,1,44,3],[45,1,45,3],[45,9,45,12],[46,1,46,3],[46,9,46,12],[47,1,47,3],[38,1,38,3],[38,23,38,24],[39,1,39,3],[39,23,39,24],[40,1,40,3],[40,23,40,24],[47,9,47,12],[48,1,48,3],[48,9,48,12],[49,1,49,3],[49,9,49,12],[50,1,50,3],[50,9,50,12],[42,1,42,12],[43,1,43,8],[43,9,44,12],[54,1,54,3],[35,1,35,3],[35,23,35,24],[36,1,36,3],[36,23,36,24],[37,1,37,3],[37,23,37,24],[32,1,32,3],[32,23,32,24],[33,1,33,3],[33,23,33,24],[34,1,34,3],[34,23,34,24],[29,1,29,3],[29,23,29,24],[30,1,30,3],[30,23,30,24],[31,1,31,3],[31,23,31,24],[26,1,26,3],[26,23,26,24],[27,1,27,3],[27,23,27,24],[28,1,28,3],[28,23,28,24],[23,1,23,3],[23,23,23,24],[24,1,24,3],[24,23,24,24],[25,1,25,3],[25,23,25,24],[20,1,20,3],[20,23,20,24],[21,1,21,3],[21,23,21,24],[22,1,22,3],[22,23,22,24],[17,1,17,3],[17,23,17,24],[18,1,18,3],[18,23,18,24],[19,1,19,3],[19,23,19,24],[13,19,13,20],[14,1,14,3],[15,1,15,3],[15,23,15,24],[16,1,16,3],[16,23,16,24],[13,7,13,8],[13,9,13,10],[13,11,13,12],[13,13,13,14],[13,15,13,16],[13,17,13,18],[1,1,1,24],[5,1,5,2],[5,3,5,4],[5,8,10,22],[12,1,13,4],[12,5,12,16],[12,19,12,20],[12,21,13,22],[12,23,14,24],[13,5,13,6]]}
[]
[null,"ENTRADA DE DADOS POR SUBSISTEMA"]
[]
[]
[]
[null,"Subsistema n° 3:",null,null,null,null,null,"OBS"]
[]
[null,"ÁREA",null,"hectare(s)"]
[]
[]
[]
[]
[null,"Produtos e Insumos Gerados",null,null,null,"Produtos",null,null,null,null,null,null,null,null,null,null,null,null,null,"Insumos Produzidos",null,"Total Produtos e Insumos",null,"Observações"]
[null,null,null,null,null,"Mercado Convencional",null,"Mercado territorial",null,"Mercado Institucional",null,"Autoconsumo",null,"Doações Trocas",null,"Estoque",null,"Total Produtos",null,"Total Insumos"]
[null,"Itens",null,null,"Unidade","Qtde","Valor Unitário","Qtde","Valor Unitário","Qtde","Valor Unitário","Qtde","Valor Unitário","Qtde","Valor Unitário","Qtde","Valor Unitário","Qtde","Valor Total","Qtde","valor Unitário","Qtde","Valor Total"]
[null,null,null,null,null,null,null,null,null,null,null,null,null,null,null,null,null,{"$f":"J16+L16+N16+P16+H16+F16","v":0},{"$f":"(F16*G16)+(H16*I16)+(J16*K16)+(L16*M16)+(N16*O16)+(P16+Q16)","v":0},null,null,{"$f":"R16+T16","v":0},{"$f":"S16+(T16*U16)","v":0}]
[null,null,null,null,null,null,null,null,null,null,null,null,null,null,null,null,null,{"$f":"J17+L17+N17+P17+H17+F17","v":0},{"$f":"(F17*G17)+(H17*I17)+(J17*K17)+(L17*M17)+(N17*O17)+(P17+Q17)","v":0},null,null,{"$f":"R17+T17","v":0},{"$f":"S17+(T17*U17)","v":0}]
[null,null,null,null,null,null,null,null,null,null,null,null,null,null,null,null,null,0,0,null,null,0,0]
[null,null,null,null,null,null,null,null,null,null,null,null,null,null,null,null,null,0,0,null,null,0,0]
[null,null,null,null,null,null,null,null,null,null,null,null,null,null,null,null,null,0,0,null,null,0,0]
[null,null,null,null,null,null,null,null,null,null,null,null,null,null,null,null,null,0,0,null,null,0,0]
[null,null,null,null,null,null,null,null,null,null,null,null,null,null,null,null,null,0,0,null,null,0,0]
[null,null,null,null,null,null,null,null,null,null,null,null,null,null,null,null,null,0,0,null,null,0,0]
[null,null,null,null,null,null,null,null,null,null,null,null,null,null,null,null,null,0,0,null,null,0,0]
[null,null,null,null,null,null,null,null,null,null,null,null,null,null,null,null,null,0,0,null,null,0,0]
[null,null,null,null,null,null,null,null,null,null,null,null,null,null,null,null,null,0,0,null,null,0,0]
[null,null,null,null,null,null,null,null,null,null,null,null,null,null,null,null,null,0,0,null,null,0,0]
[null,null,null,null,null,null,null,null,null,null,null,null,null,null,null,null,null,0,0,null,null,0,0]
[null,null,null,null,null,null,null,null,null,null,null,null,null,null,null,null,null,0,0,null,null,0,0]
[null,null,null,null,null,null,null,null,null,null,null,null,null,null,null,null,null,0,0,null,null,0,0]
[null,null,null,null,null,null,null,null,null,null,null,null,null,null,null,null,null,0,0,null,null,0,0]
[null,null,null,null,null,null,null,null,null,null,null,null,null,null,null,null,null,0,0,null,null,0,0]
[null,null,null,null,null,null,null,null,null,null,null,null,null,null,null,null,null,0,0,null,null,0,0]
[null,null,null,null,null,null,null,null,null,null,null,null,null,null,null,null,null,0,0,null,null,0,0]
[null,null,null,null,null,null,null,null,null,null,null,null,null,null,null,null,null,0,0,null,null,0,0]
[null,null,null,null,null,null,null,null,null,null,null,null,null,null,null,null,null,0,0,null,null,0,0]
[null,null,null,null,null,null,null,null,null,null,null,null,null,null,null,null,null,0,0,null,null,0,0]
[null,null,null,null,null,null,null,null,null,null,null,null,null,null,null,null,null,0,0,null,null,0,0]
[null,null,null,null,null,null,null,null,null,null,null,null,null,null,null,null,null,0,0,null,null,0,0]
[null,null,null,null,null,null,null,null,null,null,null,null,null,null,null,null,null,0,0,null,null,0,0]
[null,"Totais",null,null,null,null,{"$f":"F16*G16+F17*G17+F18*G18+F19*G19+F20*G20+F21*G21+F22*G22+F23*G23+F24*G24+F25*G25+F26*G26+F27*G27+F28*G28+F29*G29+F30*G30+F31*G31+F32*G32+F33*G33+F34*G34+F35*G35+F36*G36+F37*G37+F38*G38+F39*G39+F40*G40","v":0},null,{"$f":"H16*I16+H17*I17+H18*I18+H19*I19+H20*I20+H21*I21+H22*I22+H23*I23+H24*I24+H25*I25+H26*I26+H27*I27+H28*I28+H29*I29+H30*I30+H31*I31+H32*I32+H33*I33+H34*I34+H35*I35+H36*I36+H37*I37+H38*I38+H39*I39+H40*I40","v":0},null,{"$f":"J16*K16+J17*K17+J18*K18+J19*K19+J20*K20+J21*K21+J22*K22+J23*K23+J24*K24+J25*K25+J26*K26+J27*K27+J28*K28+J29*K29+J30*K30+J31*K31+J32*K32+J33*K33+J34*K34+J35*K35+J36*K36+J37*K37+J38*K38+J39*K39+J40*K40","v":0},null,{"$f":"L16*M16+L17*M17+L18*M18+L19*M19+L20*M20+L21*M21+L22*M22+L23*M23+L24*M24+L25*M25+L26*M26+L27*M27+L28*M28+L29*M29+L30*M30+L31*M31+L32*M32+L33*M33+L34*M34+L35*M35+L36*M36+L37*M37+L38*M38+L39*M39+L40*M40","v":0},null,{"$f":"N16*O16+N17*O17+N18*O18+N19*O19+N20*O20+N21*O21+N22*O22+N23*O23+N24*O24+N25*O25+N26*O26+N27*O27+N28*O28+N29*O29+N30*O30+N31*O31+N32*O32+N33*O33+N34*O34+N35*O35+N36*O36+N37*O37+N38*O38+N39*O39+N40*O40","v":0},null,{"$f":"P16*Q16+P17*Q17+P18*Q18+P19*Q19+P20*Q20+P21*Q21+P22*Q22+P23*Q23+P24*Q24+P25*Q25+P26*Q26+P27*Q27+P28*Q28+P29*Q29+P30*Q30+P31*Q31+P32*Q32+P33*Q33+P34*Q34+P35*Q35+P36*Q36+P37*Q37+P38*Q38+P39*Q39+P40*Q40","v":0},null,{"$f":"SUM(S16:S40)","v":0},null,{"$f":"T16*U16+T17*U17+T18*U18+T19*U19+T20*U20+T21*U21+T22*U22+T23*U23+T24*U24+T25*U25+T26*U26+T27*U27+T28*U28+T29*U29+T30*U30+T31*U31+T32*U32+T33*U33+T34*U34+T35*U35+T36*U36+T37*U37+T38*U38+T39*U39+T40*U40","v":0},null,{"$f":"SUM(W16:W40)","v":0}]
[]
[null,"Insumos",null,null,null,null,null,null,null,null,null,null,null,null,"OBS:"]
[null,"Comprados - Consumos Intermediários ",null,null,null,null,null,null,null,"Observações"]
[null,"Itens",null,null,"Unidade","Valor Unitário","Qtde","Valor Total","Origem"]
[null,null,null,null,null,null,null,{"$f":"G46*F46","v":0}]
[null,null,null,null,null,null,null,{"$f":"G47*F47","v":0}]
[null,null,null,null,null,null,null,0]
[null,null,null,null,null,null,null,0]
[null,null,null,null,null,null,null,0]
[null,null,null,null,null,null,null,0]
[null,null,null,null,null,null,null,0]
[null,null,null,null,null,null,null,0]
[null,null,null,null,null,null,null,0]
[null,null,null,null,null,null,null,0]
[null,null,null,null,null,null,null,0]
[null,null,null,null,null,null,null,0]
[null,null,null,null,null,null,null,0]
[null,null,null,null,null,null,null,0]
[null,null,null,null,null,null,null,0]
[null,null,null,null,null,null,null,0]
[null,null,null,null,null,null,null,0]
[null,null,null,null,null,null,null,0]
[null,null,null,null,null,null,null,0]
[null,null,null,null,null,null,null,0]
[null," Insumos Comprados no Território",null,null,null,null,null,{"$f":"DSUM(H45:I65,\"Valor Total\",G167:G168)","v":0}]
[null," Insumos Comprados Fora do Território",null,null,null,null,null,{"$f":"DSUM(H45:I65,\"Valor Total\",H167:H168)","v":0}]
[null,"Total de Insumos Comprados",null,null,null,null,null,{"$f":"SUM(H46:H65)","v":0}]
[null,"Produção Própria - Reciprocidade Ecológica",null,null,null,null,null,null,"Observações",null,null,null,null,null,"OBS:"]
[null,"Itens",null,null,"Unidade","Valor Unitário","Qtde","Valor Total"]
[null,null,null,null,null,null,null,{"$f":"G71*F71","v":0}]
[null,null,null,null,null,null,null,{"$f":"G72*F72","v":0}]
[null,null,null,null,null,null,null,0]
[null,null,null,null,null,null,null,0]
[null,null,null,null,null,null,null,0]
[null,null,null,null,null,null,null,0]
[null,null,null,null,null,null,null,0]
[null,null,null,null,null,null,null,0]
[null,null,null,null,null,null,null,0]
[null,null,null,null,null,null,null,0]
[null,null,null,null,null,null,null,0]
[null,null,null,null,null,null,null,0]
[null,null,null,null,null,null,null,0]
[null,null,null,null,null,null,null,0]
[null,null,null,null,null,null,null,0]
[null,"Total Insumos -  Produção Própria",null,null,null,null,null,{"$f":"SUM(H71:H85)","v":0}]
[null,"Entrada de Insumos por Reciprocidade Social",null,null,null,null,null,null,"Observações",null,null,null,null,null,"OBS:"]
[null,"insumos",null,null,"Unidade","Valor Unitário","Qtde","Valor Total"]
[null,null,null,null,null,null,null,{"$f":"G89*F89","v":0}]
[null,null,null,null,null,null,null,0]
[null,null,null,null,null,null,null,0]
[null,null,null,null,null,null,null,0]
[null,null,null,null,null,null,null,0]
[null,null,null,null,null,null,null,0]
[null,null,null,null,null,null,null,0]
[null,null,null,null,null,null,null,0]
[null,null,null,null,null,null,null,0]
[null,null,null,null,null,null,null,0]
[null,null,null,null,null,null,null,0]
[null,null,null,null,null,null,null,0]
[null,null,null,null,null,null,null,0]
[null,null,null,null,null,null,null,0]
[null,null,null,null,null,null,null,0]
[null,"Total Recursos por Reciprocidade",null,null,null,null,null,{"$f":"SUM(H89:H103)","v":0}]
[]
[null,"Serviços de Terceiros",null,null,null,null,null,null,null,null,null,null,null,null,"OBS:"]
[null,"Pagamento a Terceiros",null,null,null,null,null,null,null,"Observações"]
[null,"Serviços/Renda da Terra",null,null,"Unidade","Valor Unitário","Qtde","Valor Total","Origem"]
[null,null,null,null,null,null,null,{"$f":"G109*F109","v":0}]
[null,null,null,null,null,null,null,0]
[null,null,null,null,null,null,null,0]
[null,null,null,null,null,null,null,0]
[null,null,null,null,null,null,null,0]
[null,null,null,null,null,null,null,0]
[null,null,null,null,null,null,null,0]
[null,null,null,null,null,null,null,0]
[null,null,null,null,null,null,null,0]
[null,null,null,null,null,null,null,0]
[null,null,null,null,null,null,null,0]
[null,null,null,null,null,null,null,0]
[null,null,null,null,null,null,null,0]
[null,null,null,null,null,null,null,0]
[null,null,null,null,null,null,null,0]
[null,"Pagamentos a Terceiros do Território",null,null,null,null,null,{"$f":"DSUM(H108:I123,\"Valor Total\",G167:G168)","v":0}]
[null,"Pagamentos a Terceiros Fora do Território",null,null,null,null,null,{"$f":"DSUM(H108:I123,\"Valor Total\",H167:H168)","v":0}]
[null,"Total de Pagamentos a Terceiros ",null,null,null,null,null,{"$f":"SUM(H109:H123)","v":0}]
[null,"Serviços por  Reciprocidade Social",null,null,null,null,null,null,"Observações",null,null,null,null,null,"OBS:"]
[null,"Serviços",null,null,"Unidade","Valor Unitário","Qtde","Valor Total"]
[null,null,null,null,null,null,null,{"$f":"G129*F129","v":0}]
[null,null,null,null,null,null,null,0]
[null,null,null,null,null,null,null,0]
[null,null,null,null,null,null,null,0]
[null,null,null,null,null,null,null,0]
[null,null,null,null,null,null,null,0]
[null,null,null,null,null,null,null,0]
[null,null,null,null,null,null,null,0]
[null,null,null,null,null,null,null,0]
[null,null,null,null,null,null,null,0]
[null,null,null,null,null,null,null,0]
[null,null,null,null,null,null,null,0]
[null,null,null,null,null,null,null,0]
[null,null,null,null,null,null,null,0]
[null,null,null,null,null,null,null,0]
[null,"Total Recursos por Reciprocidade",null,null,null,null,null,{"$f":"SUM(H129:H143)","v":0}]
[]
[null,"Horas trabalhadas pelos Membros do NSGA",null,null,null,null,null,null,null,null,null,null,null,null,"OBS:"]
[null,null,null,null,"Membros do NSGA",null,null,null,null,null,null,null,"Total"]
[null,"Atividade",null,null,1,2,3,4,5,6,7,8]
[null,null,null,null,{"$f":"Agroecossistema!B15","v":0},{"$f":"Agroecossistema!B16","v":0},{"$f":"Agroecossistema!B17","v":0},{"$f":"Agroecossistema!B18","v":0},{"$f":"Agroecossistema!B19","v":0},{"$f":"Agroecossistema!B20","v":0},{"$f":"Agroecossistema!B21","v":0},{"$f":"Agroecossistema!B22","v":0}]
[null,null,null,null,null,null,null,null,null,null,null,null,{"$f":"SUM(E150:L150)","v":0}]
[null,null,null,null,null,null,null,null,null,null,null,null,{"$f":"SUM(E151:L151)","v":0}]
[null,null,null,null,null,null,null,null,null,null,null,null,0]
[null,null,null,null,null,null,null,null,null,null,null,null,0]
[null,null,null,null,null,null,null,null,null,null,null,null,0]
[null,null,null,null,null,null,null,null,null,null,null,null,0]
[null,null,null,null,null,null,null,null,null,null,null,null,0]
[null,null,null,null,null,null,null,null,null,null,null,null,0]
[null,null,null,null,null,null,null,null,null,null,null,null,0]
[null,null,null,null,null,null,null,null,null,null,null,null,0]
[null,null,null,null,null,null,null,null,null,null,null,null,0]
[null,null,null,null,null,null,null,null,null,null,null,null,0]
[null,null,null,null,null,null,null,null,null,null,null,null,0]
[null,null,null,null,null,null,null,null,null,null,null,null,0]
[null,null,null,null,null,null,null,null,null,null,null,null,0]
[null,"Total horas ",null,null,{"$f":"SUM(E150:E164)","v":0},{"$f":"SUM(F150:F164)","v":0},0,0,0,0,0,0,0]
[]
[null,null,null,null,null,null,"Origem","Origem"]
[null,null,null,null,null,null,"T","F"]

{"sheet":"SUB. 4","index":8,"n_rows":168,"n_cols":24,"rows_kept":168,"cut":false,"hidden":false,"merged":[[163,1,163,3],[164,1,164,3],[157,1,157,3],[158,1,158,3],[159,1,159,3],[160,1,160,3],[161,1,161,3],[162,1,162,3],[146,14,164,21],[147,1,148,3],[149,1,149,3],[150,1,150,3],[151,1,151,3],[152,1,152,3],[153,1,153,3],[154,1,154,3],[155,1,155,3],[156,1,156,3],[143,1,143,3],[143,8,143,12],[145,1,145,12],[146,1,146,3],[146,4,146,11],[146,12,148,12],[140,1,140,3],[140,8,140,12],[141,1,141,3],[141,8,141,12],[142,1,142,3],[142,8,142,12],[138,1,138,3],[138,8,138,12],[139,1,139,3],[139,8,139,12],[134,1,134,3],[134,8,134,12],[135,1,135,3],[135,8,135,12],[136,1,136,3],[136,8,136,12],[132,8,132,12],[133,1,133,3],[133,8,133,12],[125,4,125,6],[126,1,126,7],[126,8,127,12],[127,1,127,3],[137,1,137,3],[137,8,137,12],[116,1,116,3],[116,9,116,12],[117,1,117,3],[117,9,117,12],[127,14,143,21],[128,1,128,3],[128,8,128,12],[129,1,129,3],[129,8,129,12],[130,1,130,3],[121,1,121,3],[121,9,121,12],[122,1,122,3],[122,9,122,12],[123,1,123,3],[123,4,123,6],[123,9,125,12],[124,1,124,3],[124,4,124,6],[125,1,125,3],[130,8,130,12],[131,1,131,3],[131,8,131,12],[132,1,132,3],[112,1,112,3],[112,9,112,12],[113,1,113,3],[113,9,113,12],[114,1,114,3],[114,9,114,12],[106,14,125,21],[107,1,107,3],[108,1,108,3],[108,9,108,12],[109,1,109,3],[109,9,109,12],[110,1,110,3],[110,9,110,12],[111,1,111,3],[111,9,111,12],[118,1,118,3],[118,9,118,12],[119,1,119,3],[119,9,119,12],[120,1,120,3],[120,9,120,12],[115,1,115,3],[115,9,115,12],[102,1,102,3],[102,8,102,12],[103,1,103,3],[103,8,103,12],[105,1,105,12],[106,1,106,8],[106,9,107,12],[99,1,99,3],[99,8,99,12],[100,1,100,3],[100,8,100,12],[101,1,101,3],[101,8,101,12],[96,8,96,12],[97,1,97,3],[97,8,97,12],[98,1,98,3],[98,8,98,12],[93,1,93,3],[93,8,93,12],[94,1,94,3],[94,8,94,12],[95,1,95,3],[95,8,95,12],[87,14,103,21],[88,1,88,3],[88,8,88,12],[89,1,89,3],[89,8,89,12],[82,1,82,3],[82,8,82,12],[83,1,83,3],[83,8,83,12],[84,1,84,3],[84,8,84,12],[69,14,85,21],[90,1,90,3],[90,8,90,12],[91,1,91,3],[91,8,91,12],[92,1,92,3],[92,8,92,12],[85,1,85,3],[85,8,85,12],[86,1,86,7],[86,8,87,12],[87,1,87,3],[96,1,96,3],[79,1,79,3],[79,8,79,12],[80,1,80,3],[80,8,80,12],[81,1,81,3],[81,8,81,12],[76,1,76,3],[76,8,76,12],[77,1,77,3],[77,8,77,12],[78,1,78,3],[78,8,78,12],[72,8,72,12],[73,1,73,3],[73,8,73,12],[74,1,74,3],[74,8,74,12],[75,1,75,3],[75,8,75,12],[67,4,67,6],[68,1,68,7],[68,8,69,12],[69,1,69,3],[70,1,70,3],[70,8,70,12],[71,1,71,3],[71,8,71,12],[72,1,72,3],[63,1,63,3],[63,9,63,12],[64,1,64,3],[64,9,64,12],[65,1,65,3],[65,4,65,6],[65,9,67,12],[66,1,66,3],[66,4,66,6],[67,1,67,3],[60,1,60,3],[60,9,60,12],[61,1,61,3],[61,9,61,12],[62,1,62,3],[62,9,62,12],[57,1,57,3],[57,9,57,12],[58,1,58,3],[58,9,58,12],[59,1,59,3],[59,9,59,12],[54,9,54,12],[55,1,55,3],[55,9,55,12],[56,1,56,3],[56,9,56,12],[51,1,51,3],[51,9,51,12],[52,1,52,3],[52,9,52,12],[53,1,53,3],[53,9,53,12],[43,14,66,21],[44,1,44,3],[45,1,45,3],[45,9,45,12],[46,1,46,3],[46,9,46,12],[47,1,47,3],[38,1,38,3],[38,23,38,24],[39,1,39,3],[39,23,39,24],[40,1,40,3],[40,23,40,24],[47,9,47,12],[48,1,48,3],[48,9,48,12],[49,1,49,3],[49,9,49,12],[50,1,50,3],[50,9,50,12],[42,1,42,12],[43,1,43,8],[43,9,44,12],[54,1,54,3],[35,1,35,3],[35,23,35,24],[36,1,36,3],[36,23,36,24],[37,1,37,3],[37,23,37,24],[32,1,32,3],[32,23,32,24],[33,1,33,3],[33,23,33,24],[34,1,34,3],[34,23,34,24],[29,1,29,3],[29,23,29,24],[30,1,30,3],[30,23,30,24],[31,1,31,3],[31,23,31,24],[26,1,26,3],[26,23,26,24],[27,1,27,3],[27,23,27,24],[28,1,28,3],[28,23,28,24],[23,1,23,3],[23,23,23,24],[24,1,24,3],[24,23,24,24],[25,1,25,3],[25,23,25,24],[20,1,20,3],[20,23,20,24],[21,1,21,3],[21,23,21,24],[22,1,22,3],[22,23,22,24],[17,1,17,3],[17,23,17,24],[18,1,18,3],[18,23,18,24],[19,1,19,3],[19,23,19,24],[13,19,13,20],[14,1,14,3],[15,1,15,3],[15,23,15,24],[16,1,16,3],[16,23,16,24],[13,7,13,8],[13,9,13,10],[13,11,13,12],[13,13,13,14],[13,15,13,16],[13,17,13,18],[1,1,1,24],[5,1,5,2],[5,3,5,4],[5,8,10,22],[12,1,13,4],[12,5,12,16],[12,19,12,20],[12,21,13,22],[12,23,14,24],[13,5,13,6]]}
[]
[null,"ENTRADA DE DADOS POR SUBSISTEMA"]
[]
[]
[]
[null,"Subsistema n° 4:",null,null,null,null,null,"OBS"]
[]
[null,"ÁREA",null,"hectare(s)"]
[]
[]
[]
[]
[null,"Produtos e Insumos Gerados",null,null,null,"Produtos",null,null,null,null,null,null,null,null,null,null,null,null,null,"Insumos Produzidos",null,"Total Produtos e Insumos",null,"Observações"]
[null,null,null,null,null,"Mercado Convencional",null,"Mercado territorial",null,"Mercado Institucional",null,"Autoconsumo",null,"Doações Trocas",null,"Estoque",null,"Total Produtos",null,"Total Insumos"]
[null,"Itens",null,null,"Unidade","Qtde","Valor Unitário","Qtde","Valor Unitário","Qtde","Valor Unitário","Qtde","Valor Unitário","Qtde","Valor Unitário","Qtde","Valor Unitário","Qtde","Valor Total","Qtde","valor Unitário","Qtde","Valor Total"]
[null,null,null,null,null,null,null,null,null,null,null,null,null,null,null,null,null,{"$f":"J16+L16+N16+P16+H16+F16","v":0},{"$f":"(F16*G16)+(H16*I16)+(J16*K16)+(L16*M16)+(N16*O16)+(P16+Q16)","v":0},null,null,{"$f":"R16+T16","v":0},{"$f":"S16+(T16*U16)","v":0}]
[null,null,null,null,null,null,null,null,null,null,null,null,null,null,null,null,null,{"$f":"J17+L17+N17+P17+H17+F17","v":0},{"$f":"(F17*G17)+(H17*I17)+(J17*K17)+(L17*M17)+(N17*O17)+(P17+Q17)","v":0},null,null,{"$f":"R17+T17","v":0},{"$f":"S17+(T17*U17)","v":0}]
[null,null,null,null,null,null,null,null,null,null,null,null,null,null,null,null,null,0,0,null,null,0,0]
[null,null,null,null,null,null,null,null,null,null,null,null,null,null,null,null,null,0,0,null,null,0,0]
[null,null,null,null,null,null,null,null,null,null,null,null,null,null,null,null,null,0,0,null,null,0,0]
[null,null,null,null,null,null,null,null,null,null,null,null,null,null,null,null,null,0,0,null,null,0,0]
[null,null,null,null,null,null,null,null,null,null,null,null,null,null,null,null,null,0,0,null,null,0,0]
[null,null,null,null,null,null,null,null,null,null,null,null,null,null,null,null,null,0,0,null,null,0,0]
[null,null,null,null,null,null,null,null,null,null,null,null,null,null,null,null,null,0,0,null,null,0,0]
[null,null,null,null,null,null,null,null,null,null,null,null,null,null,null,null,null,0,0,null,null,0,0]
[null,null,null,null,null,null,null,null,null,null,null,null,null,null,null,null,null,0,0,null,null,0,0]
[null,null,null,null,null,null,null,null,null,null,null,null,null,null,null,null,null,0,0,null,null,0,0]
[null,null,null,null,null,null,null,null,null,null,null,null,null,null,null,null,null,0,0,null,null,0,0]
[null,null,null,null,null,null,null,null,null,null,null,null,null,null,null,null,null,0,0,null,null,0,0]
[null,null,null,null,null,null,null,null,null,null,null,null,null,null,null,null,null,0,0,null,null,0,0]
[null,null,null,null,null,null,null,null,null,null,null,null,null,null,null,null,null,0,0,null,null,0,0]
[null,null,null,null,null,null,null,null,null,null,null,null,null,null,null,null,null,0,0,null,null,0,0]
[null,null,null,null,null,null,null,null,null,null,null,null,null,null,null,null,null,0,0,null,null,0,0]
[null,null,null,null,null,null,null,null,null,null,null,null,null,null,null,null,null,0,0,null,null,0,0]
[null,null,null,null,null,null,null,null,null,null,null,null,null,null,null,null,null,0,0,null,null,0,0]
[null,null,null,null,null,null,null,null,null,null,null,null,null,null,null,null,null,0,0,null,null,0,0]
[null,null,null,null,null,null,null,null,null,null,null,null,null,null,null,null,null,0,0,null,null,0,0]
[null,null,null,null,null,null,null,null,null,null,null,null,null,null,null,null,null,0,0,null,null,0,0]
[null,null,null,null,null,null,null,null,null,null,null,null,null,null,null,null,null,0,0,null,null,0,0]
[null,null,null,null,null,null,null,null,null,null,null,null,null,null,null,null,null,0,0,null,null,0,0]
[null,"Totais",null,null,null,null,{"$f":"F16*G16+F17*G17+F18*G18+F19*G19+F20*G20+F21*G21+F22*G22+F23*G23+F24*G24+F25*G25+F26*G26+F27*G27+F28*G28+F29*G29+F30*G30+F31*G31+F32*G32+F33*G33+F34*G34+F35*G35+F36*G36+F37*G37+F38*G38+F39*G39+F40*G40","v":0},null,{"$f":"H16*I16+H17*I17+H18*I18+H19*I19+H20*I20+H21*I21+H22*I22+H23*I23+H24*I24+H25*I25+H26*I26+H27*I27+H28*I28+H29*I29+H30*I30+H31*I31+H32*I32+H33*I33+H34*I34+H35*I35+H36*I36+H37*I37+H38*I38+H39*I39+H40*I40","v":0},null,{"$f":"J16*K16+J17*K17+J18*K18+J19*K19+J20*K20+J21*K21+J22*K22+J23*K23+J24*K24+J25*K25+J26*K26+J27*K27+J28*K28+J29*K29+J30*K30+J31*K31+J32*K32+J33*K33+J34*K34+J35*K35+J36*K36+J37*K37+J38*K38+J39*K39+J40*K40","v":0},null,{"$f":"L16*M16+L17*M17+L18*M18+L19*M19+L20*M20+L21*M21+L22*M22+L23*M23+L24*M24+L25*M25+L26*M26+L27*M27+L28*M28+L29*M29+L30*M30+L31*M31+L32*M32+L33*M33+L34*M34+L35*M35+L36*M36+L37*M37+L38*M38+L39*M39+L40*M40","v":0},null,{"$f":"N16*O16+N17*O17+N18*O18+N19*O19+N20*O20+N21*O21+N22*O22+N23*O23+N24*O24+N25*O25+N26*O26+N27*O27+N28*O28+N29*O29+N30*O30+N31*O31+N32*O32+N33*O33+N34*O34+N35*O35+N36*O36+N37*O37+N38*O38+N39*O39+N40*O40","v":0},null,{"$f":"P16*Q16+P17*Q17+P18*Q18+P19*Q19+P20*Q20+P21*Q21+P22*Q22+P23*Q23+P24*Q24+P25*Q25+P26*Q26+P27*Q27+P28*Q28+P29*Q29+P30*Q30+P31*Q31+P32*Q32+P33*Q33+P34*Q34+P35*Q35+P36*Q36+P37*Q37+P38*Q38+P39*Q39+P40*Q40","v":0},null,{"$f":"SUM(S16:S40)","v":0},null,{"$f":"T16*U16+T17*U17+T18*U18+T19*U19+T20*U20+T21*U21+T22*U22+T23*U23+T24*U24+T25*U25+T26*U26+T27*U27+T28*U28+T29*U29+T30*U30+T31*U31+T32*U32+T33*U33+T34*U34+T35*U35+T36*U36+T37*U37+T38*U38+T39*U39+T40*U40","v":0},null,{"$f":"SUM(W16:W40)","v":0}]
[]
[null,"Insumos",null,null,null,null,null,null,null,null,null,null,null,null,"OBS:"]
[null,"Comprados - Consumos Intermediários ",null,null,null,null,null,null,null,"Observações"]
[null,"Itens",null,null,"Unidade","Valor Unitário","Qtde","Valor Total","Origem"]
[null,null,null,null,null,null,null,{"$f":"G46*F46","v":0}]
[null,null,null,null,null,null,null,{"$f":"G47*F47","v":0}]
[null,null,null,null,null,null,null,0]
[null,null,null,null,null,null,null,0]
[null,null,null,null,null,null,null,0]
[null,null,null,null,null,null,null,0]
[null,null,null,null,null,null,null,0]
[null,null,null,null,null,null,null,0]
[null,null,null,null,null,null,null,0]
[null,null,null,null,null,null,null,0]
[null,null,null,null,null,null,null,0]
[null,null,null,null,null,null,null,0]
[null,null,null,null,null,null,null,0]
[null,null,null,null,null,null,null,0]
[null,null,null,null,null,null,null,0]
[null,null,null,null,null,null,null,0]
[null,null,null,null,null,null,null,0]
[null,null,null,null,null,null,null,0]
[null,null,null,null,null,null,null,0]
[null,null,null,null,null,null,null,0]
[null," Insumos Comprados no Território",null,null,null,null,null,{"$f":"DSUM(H45:I65,\"Valor Total\",G167:G168)","v":0}]
[null," Insumos Comprados Fora do Território",null,null,null,null,null,{"$f":"DSUM(H45:I65,\"Valor Total\",H167:H168)","v":0}]
[null,"Total de Insumos Comprados",null,null,null,null,null,{"$f":"SUM(H46:H65)","v":0}]
[null,"Produção Própria - Reciprocidade Ecológica",null,null,null,null,null,null,"Observações",null,null,null,null,null,"OBS:"]
[null,"Itens",null,null,"Unidade","Valor Unitário","Qtde","Valor Total"]
[null,null,null,null,null,null,null,{"$f":"G71*F71","v":0}]
[null,null,null,null,null,null,null,{"$f":"G72*F72","v":0}]
[null,null,null,null,null,null,null,0]
[null,null,null,null,null,null,null,0]
[null,null,null,null,null,null,null,0]
[null,null,null,null,null,null,null,0]
[null,null,null,null,null,null,null,0]
[null,null,null,null,null,null,null,0]
[null,null,null,null,null,null,null,0]
[null,null,null,null,null,null,null,0]
[null,null,null,null,null,null,null,0]
[null,null,null,null,null,null,null,0]
[null,null,null,null,null,null,null,0]
[null,null,null,null,null,null,null,0]
[null,null,null,null,null,null,null,0]
[null,"Total Insumos -  Produção Própria",null,null,null,null,null,{"$f":"SUM(H71:H85)","v":0}]
[null,"Entrada de Insumos por Reciprocidade Social",null,null,null,null,null,null,"Observações",null,null,null,null,null,"OBS:"]
[null,"insumos",null,null,"Unidade","Valor Unitário","Qtde","Valor Total"]
[null,null,null,null,null,null,null,{"$f":"G89*F89","v":0}]
[null,null,null,null,null,null,null,0]
[null,null,null,null,null,null,null,0]
[null,null,null,null,null,null,null,0]
[null,null,null,null,null,null,null,0]
[null,null,null,null,null,null,null,0]
[null,null,null,null,null,null,null,0]
[null,null,null,null,null,null,null,0]
[null,null,null,null,null,null,null,0]
[null,null,null,null,null,null,null,0]
[null,null,null,null,null,null,null,0]
[null,null,null,null,null,null,null,0]
[null,null,null,null,null,null,null,0]
[null,null,null,null,null,null,null,0]
[null,null,null,null,null,null,null,0]
[null,"Total Recursos por Reciprocidade",null,null,null,null,null,{"$f":"SUM(H89:H103)","v":0}]
[]
[null,"Serviços de Terceiros",null,null,null,null,null,null,null,null,null,null,null,null,"OBS:"]
[null,"Pagamento a Terceiros",null,null,null,null,null,null,null,"Observações"]
[null,"Serviços/Renda da Terra",null,null,"Unidade","Valor Unitário","Qtde","Valor Total","Origem"]
[null,null,null,null,null,null,null,{"$f":"G109*F109","v":0}]
[null,null,null,null,null,null,null,0]
[null,null,null,null,null,null,null,0]
[null,null,null,null,null,null,null,0]
[null,null,null,null,null,null,null,0]
[null,null,null,null,null,null,null,0]
[null,null,null,null,null,null,null,0]
[null,null,null,null,null,null,null,0]
[null,null,null,null,null,null,null,0]
[null,null,null,null,null,null,null,0]
[null,null,null,null,null,null,null,0]
[null,null,null,null,null,null,null,0]
[null,null,null,null,null,null,null,0]
[null,null,null,null,null,null,null,0]
[null,null,null,null,null,null,null,0]
[null,"Pagamentos a Terceiros do Território",null,null,null,null,null,{"$f":"DSUM(H108:I123,\"Valor Total\",G167:G168)","v":0}]
[null,"Pagamentos a Terceiros Fora do Território",null,null,null,null,null,{"$f":"DSUM(H108:I123,\"Valor Total\",H167:H168)","v":0}]
[null,"Total de Pagamentos a Terceiros ",null,null,null,null,null,{"$f":"SUM(H109:H123)","v":0}]
[null,"Serviços por  Reciprocidade Social",null,null,null,null,null,null,"Observações",null,null,null,null,null,"OBS:"]
[null,"Serviços",null,null,"Unidade","Valor Unitário","Qtde","Valor Total"]
[null,null,null,null,null,null,null,{"$f":"G129*F129","v":0}]
[null,null,null,null,null,null,null,0]
[null,null,null,null,null,null,null,0]
[null,null,null,null,null,null,null,0]
[null,null,null,null,null,null,null,0]
[null,null,null,null,null,null,null,0]
[null,null,null,null,null,null,null,0]
[null,null,null,null,null,null,null,0]
[null,null,null,null,null,null,null,0]
[null,null,null,null,null,null,null,0]
[null,null,null,null,null,null,null,0]
[null,null,null,null,null,null,null,0]
[null,null,null,null,null,null,null,0]
[null,null,null,null,null,null,null,0]
[null,null,null,null,null,null,null,0]
[null,"Total Recursos por Reciprocidade",null,null,null,null,null,{"$f":"SUM(H129:H143)","v":0}]
[]
[null,"Horas trabalhadas pelos Membros do NSGA",null,null,null,null,null,null,null,null,null,null,null,null,"OBS:"]
[null,null,null,null,"Membros do NSGA",null,null,null,null,null,null,null,"Total"]
[null,"Atividade",null,null,1,2,3,4,5,6,7,8]
[null,null,null,null,{"$f":"Agroecossistema!B15","v":0},{"$f":"Agroecossistema!B16","v":0},{"$f":"Agroecossistema!B17","v":0},{"$f":"Agroecossistema!B18","v":0},{"$f":"Agroecossistema!B19","v":0},{"$f":"Agroecossistema!B20","v":0},{"$f":"Agroecossistema!B21","v":0},{"$f":"Agroecossistema!B22","v":0}]
[null,null,null,null,null,null,null,null,null,null,null,null,{"$f":"SUM(E150:L150)","v":0}]
[null,null,null,null,null,null,null,null,null,null,null,null,{"$f":"SUM(E151:L151)","v":0}]
[null,null,null,null,null,null,null,null,null,null,null,null,0]
[null,null,null,null,null,null,null,null,null,null,null,null,0]
[null,null,null,null,null,null,null,null,null,null,null,null,0]
[null,null,null,null,null,null,null,null,null,null,null,null,0]
[null,null,null,null,null,null,null,null,null,null,null,null,0]
[null,null,null,null,null,null,null,null,null,null,null,null,0]
[null,null,null,null,null,null,null,null,null,null,null,null,0]
[null,null,null,null,null,null,null,null,null,null,null,null,0]
[null,null,null,null,null,null,null,null,null,null,null,null,0]
[null,null,null,null,null,null,null,null,null,null,null,null,0]
[null,null,null,null,null,null,null,null,null,null,null,null,0]
[null,null,null,null,null,null,null,null,null,null,null,null,0]
[null,null,null,null,null,null,null,null,null,null,null,null,0]
[null,"Total horas ",null,null,{"$f":"SUM(E150:E164)","v":0},{"$f":"SUM(F150:F164)","v":0},0,0,0,0,0,0,0]
[]
[null,null,null,null,null,null,"Origem","Origem"]
[null,null,null,null,null,null,"T","F"]

{"sheet":"SUB. 5","index":9,"n_rows":168,"n_cols":24,"rows_kept":168,"cut":false,"hidden":false,"merged":[[163,1,163,3],[164,1,164,3],[157,1,157,3],[158,1,158,3],[159,1,159,3],[160,1,160,3],[161,1,161,3],[162,1,162,3],[146,14,164,21],[147,1,148,3],[149,1,149,3],[150,1,150,3],[151,1,151,3],[152,1,152,3],[153,1,153,3],[154,1,154,3],[155,1,155,3],[156,1,156,3],[143,1,143,3],[143,8,143,12],[145,1,145,12],[146,1,146,3],[146,4,146,11],[146,12,148,12],[140,1,140,3],[140,8,140,12],[141,1,141,3],[141,8,141,12],[142,1,142,3],[142,8,142,12],[138,1,138,3],[138,8,138,12],[139,1,139,3],[139,8,139,12],[134,1,134,3],[134,8,134,12],[135,1,135,3],[135,8,135,12],[136,1,136,3],[136,8,136,12],[132,8,132,12],[133,1,133,3],[133,8,133,12],[125,4,125,6],[126,1,126,7],[126,8,127,12],[127,1,127,3],[137,1,137,3],[137,8,137,12],[116,1,116,3],[116,9,116,12],[117,1,117,3],[117,9,117,12],[127,14,143,21],[128,1,128,3],[128,8,128,12],[129,1,129,3],[129,8,129,12],[130,1,130,3],[121,1,121,3],[121,9,121,12],[122,1,122,3],[122,9,122,12],[123,1,123,3],[123,4,123,6],[123,9,125,12],[124,1,124,3],[124,4,124,6],[125,1,125,3],[130,8,130,12],[131,1,131,3],[131,8,131,12],[132,1,132,3],[112,1,112,3],[112,9,112,12],[113,1,113,3],[113,9,113,12],[114,1,114,3],[114,9,114,12],[106,14,125,21],[107,1,107,3],[108,1,108,3],[108,9,108,12],[109,1,109,3],[109,9,109,12],[110,1,110,3],[110,9,110,12],[111,1,111,3],[111,9,111,12],[118,1,118,3],[118,9,118,12],[119,1,119,3],[119,9,119,12],[120,1,120,3],[120,9,120,12],[115,1,115,3],[115,9,115,12],[102,1,102,3],[102,8,102,12],[103,1,103,3],[103,8,103,12],[105,1,105,12],[106,1,106,8],[106,9,107,12],[99,1,99,3],[99,8,99,12],[100,1,100,3],[100,8,100,12],[101,1,101,3],[101,8,101,12],[96,8,96,12],[97,1,97,3],[97,8,97,12],[98,1,98,3],[98,8,98,12],[93,1,93,3],[93,8,93,12],[94,1,94,3],[94,8,94,12],[95,1,95,3],[95,8,95,12],[87,14,103,21],[88,1,88,3],[88,8,88,12],[89,1,89,3],[89,8,89,12],[82,1,82,3],[82,8,82,12],[83,1,83,3],[83,8,83,12],[84,1,84,3],[84,8,84,12],[69,14,85,21],[90,1,90,3],[90,8,90,12],[91,1,91,3],[91,8,91,12],[92,1,92,3],[92,8,92,12],[85,1,85,3],[85,8,85,12],[86,1,86,7],[86,8,87,12],[87,1,87,3],[96,1,96,3],[79,1,79,3],[79,8,79,12],[80,1,80,3],[80,8,80,12],[81,1,81,3],[81,8,81,12],[76,1,76,3],[76,8,76,12],[77,1,77,3],[77,8,77,12],[78,1,78,3],[78,8,78,12],[72,8,72,12],[73,1,73,3],[73,8,73,12],[74,1,74,3],[74,8,74,12],[75,1,75,3],[75,8,75,12],[67,4,67,6],[68,1,68,7],[68,8,69,12],[69,1,69,3],[70,1,70,3],[70,8,70,12],[71,1,71,3],[71,8,71,12],[72,1,72,3],[63,1,63,3],[63,9,63,12],[64,1,64,3],[64,9,64,12],[65,1,65,3],[65,4,65,6],[65,9,67,12],[66,1,66,3],[66,4,66,6],[67,1,67,3],[60,1,60,3],[60,9,60,12],[61,1,61,3],[61,9,61,12],[62,1,62,3],[62,9,62,12],[57,1,57,3],[57,9,57,12],[58,1,58,3],[58,9,58,12],[59,1,59,3],[59,9,59,12],[54,9,54,12],[55,1,55,3],[55,9,55,12],[56,1,56,3],[56,9,56,12],[51,1,51,3],[51,9,51,12],[52,1,52,3],[52,9,52,12],[53,1,53,3],[53,9,53,12],[43,14,66,21],[44,1,44,3],[45,1,45,3],[45,9,45,12],[46,1,46,3],[46,9,46,12],[47,1,47,3],[38,1,38,3],[38,23,38,24],[39,1,39,3],[39,23,39,24],[40,1,40,3],[40,23,40,24],[47,9,47,12],[48,1,48,3],[48,9,48,12],[49,1,49,3],[49,9,49,12],[50,1,50,3],[50,9,50,12],[42,1,42,12],[43,1,43,8],[43,9,44,12],[54,1,54,3],[35,1,35,3],[35,23,35,24],[36,1,36,3],[36,23,36,24],[37,1,37,3],[37,23,37,24],[32,1,32,3],[32,23,32,24],[33,1,33,3],[33,23,33,24],[34,1,34,3],[34,23,34,24],[29,1,29,3],[29,23,29,24],[30,1,30,3],[30,23,30,24],[31,1,31,3],[31,23,31,24],[26,1,26,3],[26,23,26,24],[27,1,27,3],[27,23,27,24],[28,1,28,3],[28,23,28,24],[23,1,23,3],[23,23,23,24],[24,1,24,3],[24,23,24,24],[25,1,25,3],[25,23,25,24],[20,1,20,3],[20,23,20,24],[21,1,21,3],[21,23,21,24],[22,1,22,3],[22,23,22,24],[17,1,17,3],[17,23,17,24],[18,1,18,3],[18,23,18,24],[19,1,19,3],[19,23,19,24],[13,19,13,20],[14,1,14,3],[15,1,15,3],[15,23,15,24],[16,1,16,3],[16,23,16,24],[13,7,13,8],[13,9,13,10],[13,11,13,12],[13,13,13,14],[13,15,13,16],[13,17,13,18],[1,1,1,24],[5,1,5,2],[5,3,5,4],[5,8,10,22],[12,1,13,4],[12,5,12,16],[12,19,12,20],[12,21,13,22],[12,23,14,24],[13,5,13,6]]}
[]
[null,"ENTRADA DE DADOS POR SUBSISTEMA"]
[]
[]
[]
[null,"Subsistema n° 5:",null,null,null,null,null,"OBS"]
[]
[null,"ÁREA",null,"hectare(s)"]
[]
[]
[]
[]
[null,"Produtos e Insumos Gerados",null,null,null,"Produtos",null,null,null,null,null,null,null,null,null,null,null,null,null,"Insumos Produzidos",null,"Total Produtos e Insumos",null,"Observações"]
[null,null,null,null,null,"Mercado Convencional",null,"Mercado territorial",null,"Mercado Institucional",null,"Autoconsumo",null,"Doações Trocas",null,"Estoque",null,"Total Produtos",null,"Total Insumos"]
[null,"Itens",null,null,"Unidade","Qtde","Valor Unitário","Qtde","Valor Unitário","Qtde","Valor Unitário","Qtde","Valor Unitário","Qtde","Valor Unitário","Qtde","Valor Unitário","Qtde","Valor Total","Qtde","valor Unitário","Qtde","Valor Total"]
[null,null,null,null,null,null,null,null,null,null,null,null,null,null,null,null,null,{"$f":"J16+L16+N16+P16+H16+F16","v":0},{"$f":"(F16*G16)+(H16*I16)+(J16*K16)+(L16*M16)+(N16*O16)+(P16+Q16)","v":0},null,null,{"$f":"R16+T16","v":0},{"$f":"S16+(T16*U16)","v":0}]
[null,null,null,null,null,null,null,null,null,null,null,null,null,null,null,null,null,{"$f":"J17+L17+N17+P17+H17+F17","v":0},{"$f":"(F17*G17)+(H17*I17)+(J17*K17)+(L17*M17)+(N17*O17)+(P17+Q17)","v":0},null,null,{"$f":"R17+T17","v":0},{"$f":"S17+(T17*U17)","v":0}]
[null,null,null,null,null,null,null,null,null,null,null,null,null,null,null,null,null,0,0,null,null,0,0]
[null,null,null,null,null,null,null,null,null,null,null,null,null,null,null,null,null,0,0,null,null,0,0]
[null,null,null,null,null,null,null,null,null,null,null,null,null,null,null,null,null,0,0,null,null,0,0]
[null,null,null,null,null,null,null,null,null,null,null,null,null,null,null,null,null,0,0,null,null,0,0]
[null,null,null,null,null,null,null,null,null,null,null,null,null,null,null,null,null,0,0,null,null,0,0]
[null,null,null,null,null,null,null,null,null,null,null,null,null,null,null,null,null,0,0,null,null,0,0]
[null,null,null,null,null,null,null,null,null,null,null,null,null,null,null,null,null,0,0,null,null,0,0]
[null,null,null,null,null,null,null,null,null,null,null,null,null,null,null,null,null,0,0,null,null,0,0]
[null,null,null,null,null,null,null,null,null,null,null,null,null,null,null,null,null,0,0,null,null,0,0]
[null,null,null,null,null,null,null,null,null,null,null,null,null,null,null,null,null,0,0,null,null,0,0]
[null,null,null,null,null,null,null,null,null,null,null,null,null,null,null,null,null,0,0,null,null,0,0]
[null,null,null,null,null,null,null,null,null,null,null,null,null,null,null,null,null,0,0,null,null,0,0]
[null,null,null,null,null,null,null,null,null,null,null,null,null,null,null,null,null,0,0,null,null,0,0]
[null,null,null,null,null,null,null,null,null,null,null,null,null,null,null,null,null,0,0,null,null,0,0]
[null,null,null,null,null,null,null,null,null,null,null,null,null,null,null,null,null,0,0,null,null,0,0]
[null,null,null,null,null,null,null,null,null,null,null,null,null,null,null,null,null,0,0,null,null,0,0]
[null,null,null,null,null,null,null,null,null,null,null,null,null,null,null,null,null,0,0,null,null,0,0]
[null,null,null,null,null,null,null,null,null,null,null,null,null,null,null,null,null,0,0,null,null,0,0]
[null,null,null,null,null,null,null,null,null,null,null,null,null,null,null,null,null,0,0,null,null,0,0]
[null,null,null,null,null,null,null,null,null,null,null,null,null,null,null,null,null,0,0,null,null,0,0]
[null,null,null,null,null,null,null,null,null,null,null,null,null,null,null,null,null,0,0,null,null,0,0]
[null,null,null,null,null,null,null,null,null,null,null,null,null,null,null,null,null,0,0,null,null,0,0]
[null,null,null,null,null,null,null,null,null,null,null,null,null,null,null,null,null,0,0,null,null,0,0]
[null,"Totais",null,null,null,null,{"$f":"F16*G16+F17*G17+F18*G18+F19*G19+F20*G20+F21*G21+F22*G22+F23*G23+F24*G24+F25*G25+F26*G26+F27*G27+F28*G28+F29*G29+F30*G30+F31*G31+F32*G32+F33*G33+F34*G34+F35*G35+F36*G36+F37*G37+F38*G38+F39*G39+F40*G40","v":0},null,{"$f":"H16*I16+H17*I17+H18*I18+H19*I19+H20*I20+H21*I21+H22*I22+H23*I23+H24*I24+H25*I25+H26*I26+H27*I27+H28*I28+H29*I29+H30*I30+H31*I31+H32*I32+H33*I33+H34*I34+H35*I35+H36*I36+H37*I37+H38*I38+H39*I39+H40*I40","v":0},null,{"$f":"J16*K16+J17*K17+J18*K18+J19*K19+J20*K20+J21*K21+J22*K22+J23*K23+J24*K24+J25*K25+J26*K26+J27*K27+J28*K28+J29*K29+J30*K30+J31*K31+J32*K32+J33*K33+J34*K34+J35*K35+J36*K36+J37*K37+J38*K38+J39*K39+J40*K40","v":0},null,{"$f":"L16*M16+L17*M17+L18*M18+L19*M19+L20*M20+L21*M21+L22*M22+L23*M23+L24*M24+L25*M25+L26*M26+L27*M27+L28*M28+L29*M29+L30*M30+L31*M31+L32*M32+L33*M33+L34*M34+L35*M35+L36*M36+L37*M37+L38*M38+L39*M39+L40*M40","v":0},null,{"$f":"N16*O16+N17*O17+N18*O18+N19*O19+N20*O20+N21*O21+N22*O22+N23*O23+N24*O24+N25*O25+N26*O26+N27*O27+N28*O28+N29*O29+N30*O30+N31*O31+N32*O32+N33*O33+N34*O34+N35*O35+N36*O36+N37*O37+N38*O38+N39*O39+N40*O40","v":0},null,{"$f":"P16*Q16+P17*Q17+P18*Q18+P19*Q19+P20*Q20+P21*Q21+P22*Q22+P23*Q23+P24*Q24+P25*Q25+P26*Q26+P27*Q27+P28*Q28+P29*Q29+P30*Q30+P31*Q31+P32*Q32+P33*Q33+P34*Q34+P35*Q35+P36*Q36+P37*Q37+P38*Q38+P39*Q39+P40*Q40","v":0},null,{"$f":"SUM(S16:S40)","v":0},null,{"$f":"T16*U16+T17*U17+T18*U18+T19*U19+T20*U20+T21*U21+T22*U22+T23*U23+T24*U24+T25*U25+T26*U26+T27*U27+T28*U28+T29*U29+T30*U30+T31*U31+T32*U32+T33*U33+T34*U34+T35*U35+T36*U36+T37*U37+T38*U38+T39*U39+T40*U40","v":0},null,{"$f":"SUM(W16:W40)","v":0}]
[]
[null,"Insumos",null,null,null,null,null,null,null,null,null,null,null,null,"OBS:"]
[null,"Comprados - Consumos Intermediários ",null,null,null,null,null,null,null,"Observações"]
[null,"Itens",null,null,"Unidade","Valor Unitário","Qtde","Valor Total","Origem"]
[null,null,null,null,null,null,null,{"$f":"G46*F46","v":0}]
[null,null,null,null,null,null,null,{"$f":"G47*F47","v":0}]
[null,null,null,null,null,null,null,0]
[null,null,null,null,null,null,null,0]
[null,null,null,null,null,null,null,0]
[null,null,null,null,null,null,null,0]
[null,null,null,null,null,null,null,0]
[null,null,null,null,null,null,null,0]
[null,null,null,null,null,null,null,0]
[null,null,null,null,null,null,null,0]
[null,null,null,null,null,null,null,0]
[null,null,null,null,null,null,null,0]
[null,null,null,null,null,null,null,0]
[null,null,null,null,null,null,null,0]
[null,null,null,null,null,null,null,0]
[null,null,null,null,null,null,null,0]
[null,null,null,null,null,null,null,0]
[null,null,null,null,null,null,null,0]
[null,null,null,null,null,null,null,0]
[null,null,null,null,null,null,null,0]
[null," Insumos Comprados no Território",null,null,null,null,null,{"$f":"DSUM(H45:I65,\"Valor Total\",G167:G168)","v":0}]
[null," Insumos Comprados Fora do Território",null,null,null,null,null,{"$f":"DSUM(H45:I65,\"Valor Total\",H167:H168)","v":0}]
[null,"Total de Insumos Comprados",null,null,null,null,null,{"$f":"SUM(H46:H65)","v":0}]
[null,"Produção Própria - Reciprocidade Ecológica",null,null,null,null,null,null,"Observações",null,null,null,null,null,"OBS:"]
[null,"Itens",null,null,"Unidade","Valor Unitário","Qtde","Valor Total"]
[null,null,null,null,null,null,null,{"$f":"G71*F71","v":0}]
[null,null,null,null,null,null,null,{"$f":"G72*F72","v":0}]
[null,null,null,null,null,null,null,0]
[null,null,null,null,null,null,null,0]
[null,null,null,null,null,null,null,0]
[null,null,null,null,null,null,null,0]
[null,null,null,null,null,null,null,0]
[null,null,null,null,null,null,null,0]
[null,null,null,null,null,null,null,0]
[null,null,null,null,null,null,null,0]
[null,null,null,null,null,null,null,0]
[null,null,null,null,null,null,null,0]
[null,null,null,null,null,null,null,0]
[null,null,null,null,null,null,null,0]
[null,null,null,null,null,null,null,0]
[null,"Total Insumos -  Produção Própria",null,null,null,null,null,{"$f":"SUM(H71:H85)","v":0}]
[null,"Entrada de Insumos por Reciprocidade Social",null,null,null,null,null,null,"Observações",null,null,null,null,null,"OBS:"]
[null,"insumos",null,null,"Unidade","Valor Unitário","Qtde","Valor Total"]
[null,null,null,null,null,null,null,{"$f":"G89*F89","v":0}]
[null,null,null,null,null,null,null,0]
[null,null,null,null,null,null,null,0]
[null,null,null,null,null,null,null,0]
[null,null,null,null,null,null,null,0]
[null,null,null,null,null,null,null,0]
[null,null,null,null,null,null,null,0]
[null,null,null,null,null,null,null,0]
[null,null,null,null,null,null,null,0]
[null,null,null,null,null,null,null,0]
[null,null,null,null,null,null,null,0]
[null,null,null,null,null,null,null,0]
[null,null,null,null,null,null,null,0]
[null,null,null,null,null,null,null,0]
[null,null,null,null,null,null,null,0]
[null,"Total Recursos por Reciprocidade",null,null,null,null,null,{"$f":"SUM(H89:H103)","v":0}]
[]
[null,"Serviços de Terceiros",null,null,null,null,null,null,null,null,null,null,null,null,"OBS:"]
[null,"Pagamento a Terceiros",null,null,null,null,null,null,null,"Observações"]
[null,"Serviços/Renda da Terra",null,null,"Unidade","Valor Unitário","Qtde","Valor Total","Origem"]
[null,null,null,null,null,null,null,{"$f":"G109*F109","v":0}]
[null,null,null,null,null,null,null,0]
[null,null,null,null,null,null,null,0]
[null,null,null,null,null,null,null,0]
[null,null,null,null,null,null,null,0]
[null,null,null,null,null,null,null,0]
[null,null,null,null,null,null,null,0]
[null,null,null,null,null,null,null,0]
[null,null,null,null,null,null,null,0]
[null,null,null,null,null,null,null,0]
[null,null,null,null,null,null,null,0]
[null,null,null,null,null,null,null,0]
[null,null,null,null,null,null,null,0]
[null,null,null,null,null,null,null,0]
[null,null,null,null,null,null,null,0]
[null,"Pagamentos a Terceiros do Território",null,null,null,null,null,{"$f":"DSUM(H108:I123,\"Valor Total\",G167:G168)","v":0}]
[null,"Pagamentos a Terceiros Fora do Território",null,null,null,null,null,{"$f":"DSUM(H108:I123,\"Valor Total\",H167:H168)","v":0}]
[null,"Total de Pagamentos a Terceiros ",null,null,null,null,null,{"$f":"SUM(H109:H123)","v":0}]
[null,"Serviços por  Reciprocidade Social",null,null,null,null,null,null,"Observações",null,null,null,null,null,"OBS:"]
[null,"Serviços",null,null,"Unidade","Valor Unitário","Qtde","Valor Total"]
[null,null,null,null,null,null,null,{"$f":"G129*F129","v":0}]
[null,null,null,null,null,null,null,0]
[null,null,null,null,null,null,null,0]
[null,null,null,null,null,null,null,0]
[null,null,null,null,null,null,null,0]
[null,null,null,null,null,null,null,0]
[null,null,null,null,null,null,null,0]
[null,null,null,null,null,null,null,0]
[null,null,null,null,null,null,null,0]
[null,null,null,null,null,null,null,0]
[null,null,null,null,null,null,null,0]
[null,null,null,null,null,null,null,0]
[null,null,null,null,null,null,null,0]
[null,null,null,null,null,null,null,0]
[null,null,null,null,null,null,null,0]
[null,"Total Recursos por Reciprocidade",null,null,null,null,null,{"$f":"SUM(H129:H143)","v":0}]
[]
[null,"Horas trabalhadas pelos Membros do NSGA",null,null,null,null,null,null,null,null,null,null,null,null,"OBS:"]
[null,null,null,null,"Membros do NSGA",null,null,null,null,null,null,null,"Total"]
[null,"Atividade",null,null,1,2,3,4,5,6,7,8]
[null,null,null,null,{"$f":"Agroecossistema!B15","v":0},{"$f":"Agroecossistema!B16","v":0},{"$f":"Agroecossistema!B17","v":0},{"$f":"Agroecossistema!B18","v":0},{"$f":"Agroecossistema!B19","v":0},{"$f":"Agroecossistema!B20","v":0},{"$f":"Agroecossistema!B21","v":0},{"$f":"Agroecossistema!B22","v":0}]
[null,null,null,null,null,null,null,null,null,null,null,null,{"$f":"SUM(E150:L150)","v":0}]
[null,null,null,null,null,null,null,null,null,null,null,null,{"$f":"SUM(E151:L151)","v":0}]
[null,null,null,null,null,null,null,null,null,null,null,null,0]
[null,null,null,null,null,null,null,null,null,null,null,null,0]
[null,null,null,null,null,null,null,null,null,null,null,null,0]
[null,null,null,null,null,null,null,null,null,null,null,null,0]
[null,null,null,null,null,null,null,null,null,null,null,null,0]
[null,null,null,null,null,null,null,null,null,null,null,null,0]
[null,null,null,null,null,null,null,null,null,null,null,null,0]
[null,null,null,null,null,null,null,null,null,null,null,null,0]
[null,null,null,null,null,null,null,null,null,null,null,null,0]
[null,null,null,null,null,null,null,null,null,null,null,null,0]
[null,null,null,null,null,null,null,null,null,null,null,null,0]
[null,null,null,null,null,null,null,null,null,null,null,null,0]
[null,null,null,null,null,null,null,null,null,null,null,null,0]
[null,"Total horas ",null,null,{"$f":"SUM(E150:E164)","v":0},{"$f":"SUM(F150:F164)","v":0},0,0,0,0,0,0,0]
[]
[null,null,null,null,null,null,"Origem","Origem"]
[null,null,null,null,null,null,"T","F"]

{"sheet":"SUB. 6","index":10,"n_rows":168,"n_cols":24,"rows_kept":168,"cut":false,"hidden":false,"merged":[[163,1,163,3],[164,1,164,3],[157,1,157,3],[158,1,158,3],[159,1,159,3],[160,1,160,3],[161,1,161,3],[162,1,162,3],[146,14,164,21],[147,1,148,3],[149,1,149,3],[150,1,150,3],[151,1,151,3],[152,1,152,3],[153,1,153,3],[154,1,154,3],[155,1,155,3],[156,1,156,3],[143,1,143,3],[143,8,143,12],[145,1,145,12],[146,1,146,3],[146,4,146,11],[146,12,148,12],[140,1,140,3],[140,8,140,12],[141,1,141,3],[141,8,141,12],[142,1,142,3],[142,8,142,12],[138,1,138,3],[138,8,138,12],[139,1,139,3],[139,8,139,12],[134,1,134,3],[134,8,134,12],[135,1,135,3],[135,8,135,12],[136,1,136,3],[136,8,136,12],[132,8,132,12],[133,1,133,3],[133,8,133,12],[125,4,125,6],[126,1,126,7],[126,8,127,12],[127,1,127,3],[137,1,137,3],[137,8,137,12],[116,1,116,3],[116,9,116,12],[117,1,117,3],[117,9,117,12],[127,14,143,21],[128,1,128,3],[128,8,128,12],[129,1,129,3],[129,8,129,12],[130,1,130,3],[121,1,121,3],[121,9,121,12],[122,1,122,3],[122,9,122,12],[123,1,123,3],[123,4,123,6],[123,9,125,12],[124,1,124,3],[124,4,124,6],[125,1,125,3],[130,8,130,12],[131,1,131,3],[131,8,131,12],[132,1,132,3],[112,1,112,3],[112,9,112,12],[113,1,113,3],[113,9,113,12],[114,1,114,3],[114,9,114,12],[106,14,125,21],[107,1,107,3],[108,1,108,3],[108,9,108,12],[109,1,109,3],[109,9,109,12],[110,1,110,3],[110,9,110,12],[111,1,111,3],[111,9,111,12],[118,1,118,3],[118,9,118,12],[119,1,119,3],[119,9,119,12],[120,1,120,3],[120,9,120,12],[115,1,115,3],[115,9,115,12],[102,1,102,3],[102,8,102,12],[103,1,103,3],[103,8,103,12],[105,1,105,12],[106,1,106,8],[106,9,107,12],[99,1,99,3],[99,8,99,12],[100,1,100,3],[100,8,100,12],[101,1,101,3],[101,8,101,12],[96,8,96,12],[97,1,97,3],[97,8,97,12],[98,1,98,3],[98,8,98,12],[93,1,93,3],[93,8,93,12],[94,1,94,3],[94,8,94,12],[95,1,95,3],[95,8,95,12],[87,14,103,21],[88,1,88,3],[88,8,88,12],[89,1,89,3],[89,8,89,12],[82,1,82,3],[82,8,82,12],[83,1,83,3],[83,8,83,12],[84,1,84,3],[84,8,84,12],[69,14,85,21],[90,1,90,3],[90,8,90,12],[91,1,91,3],[91,8,91,12],[92,1,92,3],[92,8,92,12],[85,1,85,3],[85,8,85,12],[86,1,86,7],[86,8,87,12],[87,1,87,3],[96,1,96,3],[79,1,79,3],[79,8,79,12],[80,1,80,3],[80,8,80,12],[81,1,81,3],[81,8,81,12],[76,1,76,3],[76,8,76,12],[77,1,77,3],[77,8,77,12],[78,1,78,3],[78,8,78,12],[72,8,72,12],[73,1,73,3],[73,8,73,12],[74,1,74,3],[74,8,74,12],[75,1,75,3],[75,8,75,12],[67,4,67,6],[68,1,68,7],[68,8,69,12],[69,1,69,3],[70,1,70,3],[70,8,70,12],[71,1,71,3],[71,8,71,12],[72,1,72,3],[63,1,63,3],[63,9,63,12],[64,1,64,3],[64,9,64,12],[65,1,65,3],[65,4,65,6],[65,9,67,12],[66,1,66,3],[66,4,66,6],[67,1,67,3],[60,1,60,3],[60,9,60,12],[61,1,61,3],[61,9,61,12],[62,1,62,3],[62,9,62,12],[57,1,57,3],[57,9,57,12],[58,1,58,3],[58,9,58,12],[59,1,59,3],[59,9,59,12],[54,9,54,12],[55,1,55,3],[55,9,55,12],[56,1,56,3],[56,9,56,12],[51,1,51,3],[51,9,51,12],[52,1,52,3],[52,9,52,12],[53,1,53,3],[53,9,53,12],[43,14,66,21],[44,1,44,3],[45,1,45,3],[45,9,45,12],[46,1,46,3],[46,9,46,12],[47,1,47,3],[38,1,38,3],[38,23,38,24],[39,1,39,3],[39,23,39,24],[40,1,40,3],[40,23,40,24],[47,9,47,12],[48,1,48,3],[48,9,48,12],[49,1,49,3],[49,9,49,12],[50,1,50,3],[50,9,50,12],[42,1,42,12],[43,1,43,8],[43,9,44,12],[54,1,54,3],[35,1,35,3],[35,23,35,24],[36,1,36,3],[36,23,36,24],[37,1,37,3],[37,23,37,24],[32,1,32,3],[32,23,32,24],[33,1,33,3],[33,23,33,24],[34,1,34,3],[34,23,34,24],[29,1,29,3],[29,23,29,24],[30,1,30,3],[30,23,30,24],[31,1,31,3],[31,23,31,24],[26,1,26,3],[26,23,26,24],[27,1,27,3],[27,23,27,24],[28,1,28,3],[28,23,28,24],[23,1,23,3],[23,23,23,24],[24,1,24,3],[24,23,24,24],[25,1,25,3],[25,23,25,24],[20,1,20,3],[20,23,20,24],[21,1,21,3],[21,23,21,24],[22,1,22,3],[22,23,22,24],[17,1,17,3],[17,23,17,24],[18,1,18,3],[18,23,18,24],[19,1,19,3],[19,23,19,24],[13,19,13,20],[14,1,14,3],[15,1,15,3],[15,23,15,24],[16,1,16,3],[16,23,16,24],[13,7,13,8],[13,9,13,10],[13,11,13,12],[13,13,13,14],[13,15,13,16],[13,17,13,18],[1,1,1,24],[5,1,5,2],[5,3,5,4],[5,8,10,22],[12,1,13,4],[12,5,12,16],[12,19,12,20],[12,21,13,22],[12,23,14,24],[13,5,13,6]]}
[]
[null,"ENTRADA DE DADOS POR SUBSISTEMA"]
[]
[]
[]
[null,"Subsistema n° 6:",null,null,null,null,null,"OBS"]
[]
[null,"ÁREA",null,"hectare(s)"]
[]
[]
[]
[]
[null,"Produtos e Insumos Gerados",null,null,null,"Produtos",null,null,null,null,null,null,null,null,null,null,null,null,null,"Insumos Produzidos",null,"Total Produtos e Insumos",null,"Observações"]
[null,null,null,null,null,"Mercado Convencional",null,"Mercado territorial",null,"Mercado Institucional",null,"Autoconsumo",null,"Doações Trocas",null,"Estoque",null,"Total Produtos",null,"Total Insumos"]
[null,"Itens",null,null,"Unidade","Qtde","Valor Unitário","Qtde","Valor Unitário","Qtde","Valor Unitário","Qtde","Valor Unitário","Qtde","Valor Unitário","Qtde","Valor Unitário","Qtde","Valor Total","Qtde","valor Unitário","Qtde","Valor Total"]
[null,null,null,null,null,null,null,null,null,null,null,null,null,null,null,null,null,{"$f":"J16+L16+N16+P16+H16+F16","v":0},{"$f":"(F16*G16)+(H16*I16)+(J16*K16)+(L16*M16)+(N16*O16)+(P16+Q16)","v":0},null,null,{"$f":"R16+T16","v":0},{"$f":"S16+(T16*U16)","v":0}]
[null,null,null,null,null,null,null,null,null,null,null,null,null,null,null,null,null,{"$f":"J17+L17+N17+P17+H17+F17","v":0},{"$f":"(F17*G17)+(H17*I17)+(J17*K17)+(L17*M17)+(N17*O17)+(P17+Q17)","v":0},null,null,{"$f":"R17+T17","v":0},{"$f":"S17+(T17*U17)","v":0}]
[null,null,null,null,null,null,null,null,null,null,null,null,null,null,null,null,null,0,0,null,null,0,0]
[null,null,null,null,null,null,null,null,null,null,null,null,null,null,null,null,null,0,0,null,null,0,0]
[null,null,null,null,null,null,null,null,null,null,null,null,null,null,null,null,null,0,0,null,null,0,0]
[null,null,null,null,null,null,null,null,null,null,null,null,null,null,null,null,null,0,0,null,null,0,0]
[null,null,null,null,null,null,null,null,null,null,null,null,null,null,null,null,null,0,0,null,null,0,0]
[null,null,null,null,null,null,null,null,null,null,null,null,null,null,null,null,null,0,0,null,null,0,0]
[null,null,null,null,null,null,null,null,null,null,null,null,null,null,null,null,null,0,0,null,null,0,0]
[null,null,null,null,null,null,null,null,null,null,null,null,null,null,null,null,null,0,0,null,null,0,0]
[null,null,null,null,null,null,null,null,null,null,null,null,null,null,null,null,null,0,0,null,null,0,0]
[null,null,null,null,null,null,null,null,null,null,null,null,null,null,null,null,null,0,0,null,null,0,0]
[null,null,null,null,null,null,null,null,null,null,null,null,null,null,null,null,null,0,0,null,null,0,0]
[null,null,null,null,null,null,null,null,null,null,null,null,null,null,null,null,null,0,0,null,null,0,0]
[null,null,null,null,null,null,null,null,null,null,null,null,null,null,null,null,null,0,0,null,null,0,0]
[null,null,null,null,null,null,null,null,null,null,null,null,null,null,null,null,null,0,0,null,null,0,0]
[null,null,null,null,null,null,null,null,null,null,null,null,null,null,null,null,null,0,0,null,null,0,0]
[null,null,null,null,null,null,null,null,null,null,null,null,null,null,null,null,null,0,0,null,null,0,0]
[null,null,null,null,null,null,null,null,null,null,null,null,null,null,null,null,null,0,0,null,null,0,0]
[null,null,null,null,null,null,null,null,null,null,null,null,null,null,null,null,null,0,0,null,null,0,0]
[null,null,null,null,null,null,null,null,null,null,null,null,null,null,null,null,null,0,0,null,null,0,0]
[null,null,null,null,null,null,null,null,null,null,null,null,null,null,null,null,null,0,0,null,null,0,0]
[null,null,null,null,null,null,null,null,null,null,null,null,null,null,null,null,null,0,0,null,null,0,0]
[null,null,null,null,null,null,null,null,null,null,null,null,null,null,null,null,null,0,0,null,null,0,0]
[null,null,null,null,null,null,null,null,null,null,null,null,null,null,null,null,null,0,0,null,null,0,0]
[null,"Totais",null,null,null,null,{"$f":"F16*G16+F17*G17+F18*G18+F19*G19+F20*G20+F21*G21+F22*G22+F23*G23+F24*G24+F25*G25+F26*G26+F27*G27+F28*G28+F29*G29+F30*G30+F31*G31+F32*G32+F33*G33+F34*G34+F35*G35+F36*G36+F37*G37+F38*G38+F39*G39+F40*G40","v":0},null,{"$f":"H16*I16+H17*I17+H18*I18+H19*I19+H20*I20+H21*I21+H22*I22+H23*I23+H24*I24+H25*I25+H26*I26+H27*I27+H28*I28+H29*I29+H30*I30+H31*I31+H32*I32+H33*I33+H34*I34+H35*I35+H36*I36+H37*I37+H38*I38+H39*I39+H40*I40","v":0},null,{"$f":"J16*K16+J17*K17+J18*K18+J19*K19+J20*K20+J21*K21+J22*K22+J23*K23+J24*K24+J25*K25+J26*K26+J27*K27+J28*K28+J29*K29+J30*K30+J31*K31+J32*K32+J33*K33+J34*K34+J35*K35+J36*K36+J37*K37+J38*K38+J39*K39+J40*K40","v":0},null,{"$f":"L16*M16+L17*M17+L18*M18+L19*M19+L20*M20+L21*M21+L22*M22+L23*M23+L24*M24+L25*M25+L26*M26+L27*M27+L28*M28+L29*M29+L30*M30+L31*M31+L32*M32+L33*M33+L34*M34+L35*M35+L36*M36+L37*M37+L38*M38+L39*M39+L40*M40","v":0},null,{"$f":"N16*O16+N17*O17+N18*O18+N19*O19+N20*O20+N21*O21+N22*O22+N23*O23+N24*O24+N25*O25+N26*O26+N27*O27+N28*O28+N29*O29+N30*O30+N31*O31+N32*O32+N33*O33+N34*O34+N35*O35+N36*O36+N37*O37+N38*O38+N39*O39+N40*O40","v":0},null,{"$f":"P16*Q16+P17*Q17+P18*Q18+P19*Q19+P20*Q20+P21*Q21+P22*Q22+P23*Q23+P24*Q24+P25*Q25+P26*Q26+P27*Q27+P28*Q28+P29*Q29+P30*Q30+P31*Q31+P32*Q32+P33*Q33+P34*Q34+P35*Q35+P36*Q36+P37*Q37+P38*Q38+P39*Q39+P40*Q40","v":0},null,{"$f":"SUM(S16:S40)","v":0},null,{"$f":"T16*U16+T17*U17+T18*U18+T19*U19+T20*U20+T21*U21+T22*U22+T23*U23+T24*U24+T25*U25+T26*U26+T27*U27+T28*U28+T29*U29+T30*U30+T31*U31+T32*U32+T33*U33+T34*U34+T35*U35+T36*U36+T37*U37+T38*U38+T39*U39+T40*U40","v":0},null,{"$f":"SUM(W16:W40)","v":0}]
[]
[null,"Insumos",null,null,null,null,null,null,null,null,null,null,null,null,"OBS:"]
[null,"Comprados - Consumos Intermediários ",null,null,null,null,null,null,null,"Observações"]
[null,"Itens",null,null,"Unidade","Valor Unitário","Qtde","Valor Total","Origem"]
[null,null,null,null,null,null,null,{"$f":"G46*F46","v":0}]
[null,null,null,null,null,null,null,{"$f":"G47*F47","v":0}]
[null,null,null,null,null,null,null,0]
[null,null,null,null,null,null,null,0]
[null,null,null,null,null,null,null,0]
[null,null,null,null,null,null,null,0]
[null,null,null,null,null,null,null,0]
[null,null,null,null,null,null,null,0]
[null,null,null,null,null,null,null,0]
[null,null,null,null,null,null,null,0]
[null,null,null,null,null,null,null,0]
[null,null,null,null,null,null,null,0]
[null,null,null,null,null,null,null,0]
[null,null,null,null,null,null,null,0]
[null,null,null,null,null,null,null,0]
[null,null,null,null,null,null,null,0]
[null,null,null,null,null,null,null,0]
[null,null,null,null,null,null,null,0]
[null,null,null,null,null,null,null,0]
[null,null,null,null,null,null,null,0]
[null," Insumos Comprados no Território",null,null,null,null,null,{"$f":"DSUM(H45:I65,\"Valor Total\",G167:G168)","v":0}]
[null," Insumos Comprados Fora do Território",null,null,null,null,null,{"$f":"DSUM(H45:I65,\"Valor Total\",H167:H168)","v":0}]
[null,"Total de Insumos Comprados",null,null,null,null,null,{"$f":"SUM(H46:H65)","v":0}]
[null,"Produção Própria - Reciprocidade Ecológica",null,null,null,null,null,null,"Observações",null,null,null,null,null,"OBS:"]
[null,"Itens",null,null,"Unidade","Valor Unitário","Qtde","Valor Total"]
[null,null,null,null,null,null,null,{"$f":"G71*F71","v":0}]
[null,null,null,null,null,null,null,{"$f":"G72*F72","v":0}]
[null,null,null,null,null,null,null,0]
[null,null,null,null,null,null,null,0]
[null,null,null,null,null,null,null,0]
[null,null,null,null,null,null,null,0]
[null,null,null,null,null,null,null,0]
[null,null,null,null,null,null,null,0]
[null,null,null,null,null,null,null,0]
[null,null,null,null,null,null,null,0]
[null,null,null,null,null,null,null,0]
[null,null,null,null,null,null,null,0]
[null,null,null,null,null,null,null,0]
[null,null,null,null,null,null,null,0]
[null,null,null,null,null,null,null,0]
[null,"Total Insumos -  Produção Própria",null,null,null,null,null,{"$f":"SUM(H71:H85)","v":0}]
[null,"Entrada de Insumos por Reciprocidade Social",null,null,null,null,null,null,"Observações",null,null,null,null,null,"OBS:"]
[null,"insumos",null,null,"Unidade","Valor Unitário","Qtde","Valor Total"]
[null,null,null,null,null,null,null,{"$f":"G89*F89","v":0}]
[null,null,null,null,null,null,null,0]
[null,null,null,null,null,null,null,0]
[null,null,null,null,null,null,null,0]
[null,null,null,null,null,null,null,0]
[null,null,null,null,null,null,null,0]
[null,null,null,null,null,null,null,0]
[null,null,null,null,null,null,null,0]
[null,null,null,null,null,null,null,0]
[null,null,null,null,null,null,null,0]
[null,null,null,null,null,null,null,0]
[null,null,null,null,null,null,null,0]
[null,null,null,null,null,null,null,0]
[null,null,null,null,null,null,null,0]
[null,null,null,null,null,null,null,0]
[null,"Total Recursos por Reciprocidade",null,null,null,null,null,{"$f":"SUM(H89:H103)","v":0}]
[]
[null,"Serviços de Terceiros",null,null,null,null,null,null,null,null,null,null,null,null,"OBS:"]
[null,"Pagamento a Terceiros",null,null,null,null,null,null,null,"Observações"]
[null,"Serviços/Renda da Terra",null,null,"Unidade","Valor Unitário","Qtde","Valor Total","Origem"]
[null,null,null,null,null,null,null,{"$f":"G109*F109","v":0}]
[null,null,null,null,null,null,null,0]
[null,null,null,null,null,null,null,0]
[null,null,null,null,null,null,null,0]
[null,null,null,null,null,null,null,0]
[null,null,null,null,null,null,null,0]
[null,null,null,null,null,null,null,0]
[null,null,null,null,null,null,null,0]
[null,null,null,null,null,null,null,0]
[null,null,null,null,null,null,null,0]
[null,null,null,null,null,null,null,0]
[null,null,null,null,null,null,null,0]
[null,null,null,null,null,null,null,0]
[null,null,null,null,null,null,null,0]
[null,null,null,null,null,null,null,0]
[null,"Pagamentos a Terceiros do Território",null,null,null,null,null,{"$f":"DSUM(H108:I123,\"Valor Total\",G167:G168)","v":0}]
[null,"Pagamentos a Terceiros Fora do Território",null,null,null,null,null,{"$f":"DSUM(H108:I123,\"Valor Total\",H167:H168)","v":0}]
[null,"Total de Pagamentos a Terceiros ",null,null,null,null,null,{"$f":"SUM(H109:H123)","v":0}]
[null,"Serviços por  Reciprocidade Social",null,null,null,null,null,null,"Observações",null,null,null,null,null,"OBS:"]
[null,"Serviços",null,null,"Unidade","Valor Unitário","Qtde","Valor Total"]
[null,null,null,null,null,null,null,{"$f":"G129*F129","v":0}]
[null,null,null,null,null,null,null,0]
[null,null,null,null,null,null,null,0]
[null,null,null,null,null,null,null,0]
[null,null,null,null,null,null,null,0]
[null,null,null,null,null,null,null,0]
[null,null,null,null,null,null,null,0]
[null,null,null,null,null,null,null,0]
[null,null,null,null,null,null,null,0]
[null,null,null,null,null,null,null,0]
[null,null,null,null,null,null,null,0]
[null,null,null,null,null,null,null,0]
[null,null,null,null,null,null,null,0]
[null,null,null,null,null,null,null,0]
[null,null,null,null,null,null,null,0]
[null,"Total Recursos por Reciprocidade",null,null,null,null,null,{"$f":"SUM(H129:H143)","v":0}]
[]
[null,"Horas trabalhadas pelos Membros do NSGA",null,null,null,null,null,null,null,null,null,null,null,null,"OBS:"]
[null,null,null,null,"Membros do NSGA",null,null,null,null,null,null,null,"Total"]
[null,"Atividade",null,null,1,2,3,4,5,6,7,8]
[null,null,null,null,{"$f":"Agroecossistema!B15","v":0},{"$f":"Agroecossistema!B16","v":0},{"$f":"Agroecossistema!B17","v":0},{"$f":"Agroecossistema!B18","v":0},{"$f":"Agroecossistema!B19","v":0},{"$f":"Agroecossistema!B20","v":0},{"$f":"Agroecossistema!B21","v":0},{"$f":"Agroecossistema!B22","v":0}]
[null,null,null,null,null,null,null,null,null,null,null,null,{"$f":"SUM(E150:L150)","v":0}]
[null,null,null,null,null,null,null,null,null,null,null,null,{"$f":"SUM(E151:L151)","v":0}]
[null,null,null,null,null,null,null,null,null,null,null,null,0]
[null,null,null,null,null,null,null,null,null,null,null,null,0]
[null,null,null,null,null,null,null,null,null,null,null,null,0]
[null,null,null,null,null,null,null,null,null,null,null,null,0]
[null,null,null,null,null,null,null,null,null,null,null,null,0]
[null,null,null,null,null,null,null,null,null,null,null,null,0]
[null,null,null,null,null,null,null,null,null,null,null,null,0]
[null,null,null,null,null,null,null,null,null,null,null,null,0]
[null,null,null,null,null,null,null,null,null,null,null,null,0]
[null,null,null,null,null,null,null,null,null,null,null,null,0]
[null,null,null,null,null,null,null,null,null,null,null,null,0]
[null,null,null,null,null,null,null,null,null,null,null,null,0]
[null,null,null,null,null,null,null,null,null,null,null,null,0]
[null,"Total horas ",null,null,{"$f":"SUM(E150:E164)","v":0},{"$f":"SUM(F150:F164)","v":0},0,0,0,0,0,0,0]
[]
[null,null,null,null,null,null,"Origem","Origem"]
[null,null,null,null,null,null,"T","F"]

{"sheet":"SUB. 7","index":11,"n_rows":168,"n_cols":24,"rows_kept":168,"cut":false,"hidden":false,"merged":[[163,1,163,3],[164,1,164,3],[157,1,157,3],[158,1,158,3],[159,1,159,3],[160,1,160,3],[161,1,161,3],[162,1,162,3],[146,14,164,21],[147,1,148,3],[149,1,149,3],[150,1,150,3],[151,1,151,3],[152,1,152,3],[153,1,153,3],[154,1,154,3],[155,1,155,3],[156,1,156,3],[143,1,143,3],[143,8,143,12],[145,1,145,12],[146,1,146,3],[146,4,146,11],[146,12,148,12],[140,1,140,3],[140,8,140,12],[141,1,141,3],[141,8,141,12],[142,1,142,3],[142,8,142,12],[138,1,138,3],[138,8,138,12],[139,1,139,3],[139,8,139,12],[134,1,134,3],[134,8,134,12],[135,1,135,3],[135,8,135,12],[136,1,136,3],[136,8,136,12],[132,8,132,12],[133,1,133,3],[133,8,133,12],[125,4,125,6],[126,1,126,7],[126,8,127,12],[127,1,127,3],[137,1,137,3],[137,8,137,12],[116,1,116,3],[116,9,116,12],[117,1,117,3],[117,9,117,12],[127,14,143,21],[128,1,128,3],[128,8,128,12],[129,1,129,3],[129,8,129,12],[130,1,130,3],[121,1,121,3],[121,9,121,12],[122,1,122,3],[122,9,122,12],[123,1,123,3],[123,4,123,6],[123,9,125,12],[124,1,124,3],[124,4,124,6],[125,1,125,3],[130,8,130,12],[131,1,131,3],[131,8,131,12],[132,1,132,3],[112,1,112,3],[112,9,112,12],[113,1,113,3],[113,9,113,12],[114,1,114,3],[114,9,114,12],[106,14,125,21],[107,1,107,3],[108,1,108,3],[108,9,108,12],[109,1,109,3],[109,9,109,12],[110,1,110,3],[110,9,110,12],[111,1,111,3],[111,9,111,12],[118,1,118,3],[118,9,118,12],[119,1,119,3],[119,9,119,12],[120,1,120,3],[120,9,120,12],[115,1,115,3],[115,9,115,12],[102,1,102,3],[102,8,102,12],[103,1,103,3],[103,8,103,12],[105,1,105,12],[106,1,106,8],[106,9,107,12],[99,1,99,3],[99,8,99,12],[100,1,100,3],[100,8,100,12],[101,1,101,3],[101,8,101,12],[96,8,96,12],[97,1,97,3],[97,8,97,12],[98,1,98,3],[98,8,98,12],[93,1,93,3],[93,8,93,12],[94,1,94,3],[94,8,94,12],[95,1,95,3],[95,8,95,12],[87,14,103,21],[88,1,88,3],[88,8,88,12],[89,1,89,3],[89,8,89,12],[82,1,82,3],[82,8,82,12],[83,1,83,3],[83,8,83,12],[84,1,84,3],[84,8,84,12],[69,14,85,21],[90,1,90,3],[90,8,90,12],[91,1,91,3],[91,8,91,12],[92,1,92,3],[92,8,92,12],[85,1,85,3],[85,8,85,12],[86,1,86,7],[86,8,87,12],[87,1,87,3],[96,1,96,3],[79,1,79,3],[79,8,79,12],[80,1,80,3],[80,8,80,12],[81,1,81,3],[81,8,81,12],[76,1,76,3],[76,8,76,12],[77,1,77,3],[77,8,77,12],[78,1,78,3],[78,8,78,12],[72,8,72,12],[73,1,73,3],[73,8,73,12],[74,1,74,3],[74,8,74,12],[75,1,75,3],[75,8,75,12],[67,4,67,6],[68,1,68,7],[68,8,69,12],[69,1,69,3],[70,1,70,3],[70,8,70,12],[71,1,71,3],[71,8,71,12],[72,1,72,3],[63,1,63,3],[63,9,63,12],[64,1,64,3],[64,9,64,12],[65,1,65,3],[65,4,65,6],[65,9,67,12],[66,1,66,3],[66,4,66,6],[67,1,67,3],[60,1,60,3],[60,9,60,12],[61,1,61,3],[61,9,61,12],[62,1,62,3],[62,9,62,12],[57,1,57,3],[57,9,57,12],[58,1,58,3],[58,9,58,12],[59,1,59,3],[59,9,59,12],[54,9,54,12],[55,1,55,3],[55,9,55,12],[56,1,56,3],[56,9,56,12],[51,1,51,3],[51,9,51,12],[52,1,52,3],[52,9,52,12],[53,1,53,3],[53,9,53,12],[43,14,66,21],[44,1,44,3],[45,1,45,3],[45,9,45,12],[46,1,46,3],[46,9,46,12],[47,1,47,3],[38,1,38,3],[38,23,38,24],[39,1,39,3],[39,23,39,24],[40,1,40,3],[40,23,40,24],[47,9,47,12],[48,1,48,3],[48,9,48,12],[49,1,49,3],[49,9,49,12],[50,1,50,3],[50,9,50,12],[42,1,42,12],[43,1,43,8],[43,9,44,12],[54,1,54,3],[35,1,35,3],[35,23,35,24],[36,1,36,3],[36,23,36,24],[37,1,37,3],[37,23,37,24],[32,1,32,3],[32,23,32,24],[33,1,33,3],[33,23,33,24],[34,1,34,3],[34,23,34,24],[29,1,29,3],[29,23,29,24],[30,1,30,3],[30,23,30,24],[31,1,31,3],[31,23,31,24],[26,1,26,3],[26,23,26,24],[27,1,27,3],[27,23,27,24],[28,1,28,3],[28,23,28,24],[23,1,23,3],[23,23,23,24],[24,1,24,3],[24,23,24,24],[25,1,25,3],[25,23,25,24],[20,1,20,3],[20,23,20,24],[21,1,21,3],[21,23,21,24],[22,1,22,3],[22,23,22,24],[17,1,17,3],[17,23,17,24],[18,1,18,3],[18,23,18,24],[19,1,19,3],[19,23,19,24],[13,19,13,20],[14,1,14,3],[15,1,15,3],[15,23,15,24],[16,1,16,3],[16,23,16,24],[13,7,13,8],[13,9,13,10],[13,11,13,12],[13,13,13,14],[13,15,13,16],[13,17,13,18],[1,1,1,24],[5,1,5,2],[5,3,5,4],[5,8,10,22],[12,1,13,4],[12,5,12,16],[12,19,12,20],[12,21,13,22],[12,23,14,24],[13,5,13,6]]}
[]
[null,"ENTRADA DE DADOS POR SUBSISTEMA"]
[]
[]
[]
[null,"Subsistema n° 7",null,null,null,null,null,"OBS"]
[]
[null,"ÁREA",null,"hectare(s)"]
[]
[]
[]
[]
[null,"Produtos e Insumos Gerados",null,null,null,"Produtos",null,null,null,null,null,null,null,null,null,null,null,null,null,"Insumos Produzidos",null,"Total Produtos e Insumos",null,"Observações"]
[null,null,null,null,null,"Mercado Convencional",null,"Mercado territorial",null,"Mercado Institucional",null,"Autoconsumo",null,"Doações Trocas",null,"Estoque",null,"Total Produtos",null,"Total Insumos"]
[null,"Itens",null,null,"Unidade","Qtde","Valor Unitário","Qtde","Valor Unitário","Qtde","Valor Unitário","Qtde","Valor Unitário","Qtde","Valor Unitário","Qtde","Valor Unitário","Qtde","Valor Total","Qtde","valor Unitário","Qtde","Valor Total"]
[null,null,null,null,null,null,null,null,null,null,null,null,null,null,null,null,null,{"$f":"J16+L16+N16+P16+H16+F16","v":0},{"$f":"(F16*G16)+(H16*I16)+(J16*K16)+(L16*M16)+(N16*O16)+(P16+Q16)","v":0},null,null,{"$f":"R16+T16","v":0},{"$f":"S16+(T16*U16)","v":0}]
[null,null,null,null,null,null,null,null,null,null,null,null,null,null,null,null,null,{"$f":"J17+L17+N17+P17+H17+F17","v":0},{"$f":"(F17*G17)+(H17*I17)+(J17*K17)+(L17*M17)+(N17*O17)+(P17+Q17)","v":0},null,null,{"$f":"R17+T17","v":0},{"$f":"S17+(T17*U17)","v":0}]
[null,null,null,null,null,null,null,null,null,null,null,null,null,null,null,null,null,0,0,null,null,0,0]
[null,null,null,null,null,null,null,null,null,null,null,null,null,null,null,null,null,0,0,null,null,0,0]
[null,null,null,null,null,null,null,null,null,null,null,null,null,null,null,null,null,0,0,null,null,0,0]
[null,null,null,null,null,null,null,null,null,null,null,null,null,null,null,null,null,0,0,null,null,0,0]
[null,null,null,null,null,null,null,null,null,null,null,null,null,null,null,null,null,0,0,null,null,0,0]
[null,null,null,null,null,null,null,null,null,null,null,null,null,null,null,null,null,0,0,null,null,0,0]
[null,null,null,null,null,null,null,null,null,null,null,null,null,null,null,null,null,0,0,null,null,0,0]
[null,null,null,null,null,null,null,null,null,null,null,null,null,null,null,null,null,0,0,null,null,0,0]
[null,null,null,null,null,null,null,null,null,null,null,null,null,null,null,null,null,0,0,null,null,0,0]
[null,null,null,null,null,null,null,null,null,null,null,null,null,null,null,null,null,0,0,null,null,0,0]
[null,null,null,null,null,null,null,null,null,null,null,null,null,null,null,null,null,0,0,null,null,0,0]
[null,null,null,null,null,null,null,null,null,null,null,null,null,null,null,null,null,0,0,null,null,0,0]
[null,null,null,null,null,null,null,null,null,null,null,null,null,null,null,null,null,0,0,null,null,0,0]
[null,null,null,null,null,null,null,null,null,null,null,null,null,null,null,null,null,0,0,null,null,0,0]
[null,null,null,null,null,null,null,null,null,null,null,null,null,null,null,null,null,0,0,null,null,0,0]
[null,null,null,null,null,null,null,null,null,null,null,null,null,null,null,null,null,0,0,null,null,0,0]
[null,null,null,null,null,null,null,null,null,null,null,null,null,null,null,null,null,0,0,null,null,0,0]
[null,null,null,null,null,null,null,null,null,null,null,null,null,null,null,null,null,0,0,null,null,0,0]
[null,null,null,null,null,null,null,null,null,null,null,null,null,null,null,null,null,0,0,null,null,0,0]
[null,null,null,null,null,null,null,null,null,null,null,null,null,null,null,null,null,0,0,null,null,0,0]
[null,null,null,null,null,null,null,null,null,null,null,null,null,null,null,null,null,0,0,null,null,0,0]
[null,null,null,null,null,null,null,null,null,null,null,null,null,null,null,null,null,0,0,null,null,0,0]
[null,null,null,null,null,null,null,null,null,null,null,null,null,null,null,null,null,0,0,null,null,0,0]
[null,"Totais",null,null,null,null,{"$f":"F16*G16+F17*G17+F18*G18+F19*G19+F20*G20+F21*G21+F22*G22+F23*G23+F24*G24+F25*G25+F26*G26+F27*G27+F28*G28+F29*G29+F30*G30+F31*G31+F32*G32+F33*G33+F34*G34+F35*G35+F36*G36+F37*G37+F38*G38+F39*G39+F40*G40","v":0},null,{"$f":"H16*I16+H17*I17+H18*I18+H19*I19+H20*I20+H21*I21+H22*I22+H23*I23+H24*I24+H25*I25+H26*I26+H27*I27+H28*I28+H29*I29+H30*I30+H31*I31+H32*I32+H33*I33+H34*I34+H35*I35+H36*I36+H37*I37+H38*I38+H39*I39+H40*I40","v":0},null,{"$f":"J16*K16+J17*K17+J18*K18+J19*K19+J20*K20+J21*K21+J22*K22+J23*K23+J24*K24+J25*K25+J26*K26+J27*K27+J28*K28+J29*K29+J30*K30+J31*K31+J32*K32+J33*K33+J34*K34+J35*K35+J36*K36+J37*K37+J38*K38+J39*K39+J40*K40","v":0},null,{"$f":"L16*M16+L17*M17+L18*M18+L19*M19+L20*M20+L21*M21+L22*M22+L23*M23+L24*M24+L25*M25+L26*M26+L27*M27+L28*M28+L29*M29+L30*M30+L31*M31+L32*M32+L33*M33+L34*M34+L35*M35+L36*M36+L37*M37+L38*M38+L39*M39+L40*M40","v":0},null,{"$f":"N16*O16+N17*O17+N18*O18+N19*O19+N20*O20+N21*O21+N22*O22+N23*O23+N24*O24+N25*O25+N26*O26+N27*O27+N28*O28+N29*O29+N30*O30+N31*O31+N32*O32+N33*O33+N34*O34+N35*O35+N36*O36+N37*O37+N38*O38+N39*O39+N40*O40","v":0},null,{"$f":"P16*Q16+P17*Q17+P18*Q18+P19*Q19+P20*Q20+P21*Q21+P22*Q22+P23*Q23+P24*Q24+P25*Q25+P26*Q26+P27*Q27+P28*Q28+P29*Q29+P30*Q30+P31*Q31+P32*Q32+P33*Q33+P34*Q34+P35*Q35+P36*Q36+P37*Q37+P38*Q38+P39*Q39+P40*Q40","v":0},null,{"$f":"SUM(S16:S40)","v":0},null,{"$f":"T16*U16+T17*U17+T18*U18+T19*U19+T20*U20+T21*U21+T22*U22+T23*U23+T24*U24+T25*U25+T26*U26+T27*U27+T28*U28+T29*U29+T30*U30+T31*U31+T32*U32+T33*U33+T34*U34+T35*U35+T36*U36+T37*U37+T38*U38+T39*U39+T40*U40","v":0},null,{"$f":"SUM(W16:W40)","v":0}]
[]
[null,"Insumos",null,null,null,null,null,null,null,null,null,null,null,null,"OBS:"]
[null,"Comprados - Consumos Intermediários ",null,null,null,null,null,null,null,"Observações"]
[null,"Itens",null,null,"Unidade","Valor Unitário","Qtde","Valor Total","Origem"]
[null,null,null,null,null,null,null,{"$f":"G46*F46","v":0}]
[null,null,null,null,null,null,null,{"$f":"G47*F47","v":0}]
[null,null,null,null,null,null,null,0]
[null,null,null,null,null,null,null,0]
[null,null,null,null,null,null,null,0]
[null,null,null,null,null,null,null,0]
[null,null,null,null,null,null,null,0]
[null,null,null,null,null,null,null,0]
[null,null,null,null,null,null,null,0]
[null,null,null,null,null,null,null,0]
[null,null,null,null,null,null,null,0]
[null,null,null,null,null,null,null,0]
[null,null,null,null,null,null,null,0]
[null,null,null,null,null,null,null,0]
[null,null,null,null,null,null,null,0]
[null,null,null,null,null,null,null,0]
[null,null,null,null,null,null,null,0]
[null,null,null,null,null,null,null,0]
[null,null,null,null,null,null,null,0]
[null,null,null,null,null,null,null,0]
[null," Insumos Comprados no Território",null,null,null,null,null,{"$f":"DSUM(H45:I65,\"Valor Total\",G167:G168)","v":0}]
[null," Insumos Comprados Fora do Território",null,null,null,null,null,{"$f":"DSUM(H45:I65,\"Valor Total\",H167:H168)","v":0}]
[null,"Total de Insumos Comprados",null,null,null,null,null,{"$f":"SUM(H46:H65)","v":0}]
[null,"Produção Própria - Reciprocidade Ecológica",null,null,null,null,null,null,"Observações",null,null,null,null,null,"OBS:"]
[null,"Itens",null,null,"Unidade","Valor Unitário","Qtde","Valor Total"]
[null,null,null,null,null,null,null,{"$f":"G71*F71","v":0}]
[null,null,null,null,null,null,null,{"$f":"G72*F72","v":0}]
[null,null,null,null,null,null,null,0]
[null,null,null,null,null,null,null,0]
[null,null,null,null,null,null,null,0]
[null,null,null,null,null,null,null,0]
[null,null,null,null,null,null,null,0]
[null,null,null,null,null,null,null,0]
[null,null,null,null,null,null,null,0]
[null,null,null,null,null,null,null,0]
[null,null,null,null,null,null,null,0]
[null,null,null,null,null,null,null,0]
[null,null,null,null,null,null,null,0]
[null,null,null,null,null,null,null,0]
[null,null,null,null,null,null,null,0]
[null,"Total Insumos -  Produção Própria",null,null,null,null,null,{"$f":"SUM(H71:H85)","v":0}]
[null,"Entrada de Insumos por Reciprocidade Social",null,null,null,null,null,null,"Observações",null,null,null,null,null,"OBS:"]
[null,"insumos",null,null,"Unidade","Valor Unitário","Qtde","Valor Total"]
[null,null,null,null,null,null,null,{"$f":"G89*F89","v":0}]
[null,null,null,null,null,null,null,0]
[null,null,null,null,null,null,null,0]
[null,null,null,null,null,null,null,0]
[null,null,null,null,null,null,null,0]
[null,null,null,null,null,null,null,0]
[null,null,null,null,null,null,null,0]
[null,null,null,null,null,null,null,0]
[null,null,null,null,null,null,null,0]
[null,null,null,null,null,null,null,0]
[null,null,null,null,null,null,null,0]
[null,null,null,null,null,null,null,0]
[null,null,null,null,null,null,null,0]
[null,null,null,null,null,null,null,0]
[null,null,null,null,null,null,null,0]
[null,"Total Recursos por Reciprocidade",null,null,null,null,null,{"$f":"SUM(H89:H103)","v":0}]
[]
[null,"Serviços de Terceiros",null,null,null,null,null,null,null,null,null,null,null,null,"OBS:"]
[null,"Pagamento a Terceiros",null,null,null,null,null,null,null,"Observações"]
[null,"Serviços/Renda da Terra",null,null,"Unidade","Valor Unitário","Qtde","Valor Total","Origem"]
[null,null,null,null,null,null,null,{"$f":"G109*F109","v":0}]
[null,null,null,null,null,null,null,0]
[null,null,null,null,null,null,null,0]
[null,null,null,null,null,null,null,0]
[null,null,null,null,null,null,null,0]
[null,null,null,null,null,null,null,0]
[null,null,null,null,null,null,null,0]
[null,null,null,null,null,null,null,0]
[null,null,null,null,null,null,null,0]
[null,null,null,null,null,null,null,0]
[null,null,null,null,null,null,null,0]
[null,null,null,null,null,null,null,0]
[null,null,null,null,null,null,null,0]
[null,null,null,null,null,null,null,0]
[null,null,null,null,null,null,null,0]
[null,"Pagamentos a Terceiros do Território",null,null,null,null,null,{"$f":"DSUM(H108:I123,\"Valor Total\",G167:G168)","v":0}]
[null,"Pagamentos a Terceiros Fora do Território",null,null,null,null,null,{"$f":"DSUM(H108:I123,\"Valor Total\",H167:H168)","v":0}]
[null,"Total de Pagamentos a Terceiros ",null,null,null,null,null,{"$f":"SUM(H109:H123)","v":0}]
[null,"Serviços por  Reciprocidade Social",null,null,null,null,null,null,"Observações",null,null,null,null,null,"OBS:"]
[null,"Serviços",null,null,"Unidade","Valor Unitário","Qtde","Valor Total"]
[null,null,null,null,null,null,null,{"$f":"G129*F129","v":0}]
[null,null,null,null,null,null,null,0]
[null,null,null,null,null,null,null,0]
[null,null,null,null,null,null,null,0]
[null,null,null,null,null,null,null,0]
[null,null,null,null,null,null,null,0]
[null,null,null,null,null,null,null,0]
[null,null,null,null,null,null,null,0]
[null,null,null,null,null,null,null,0]
[null,null,null,null,null,null,null,0]
[null,null,null,null,null,null,null,0]
[null,null,null,null,null,null,null,0]
[null,null,null,null,null,null,null,0]
[null,null,null,null,null,null,null,0]
[null,null,null,null,null,null,null,0]
[null,"Total Recursos por Reciprocidade",null,null,null,null,null,{"$f":"SUM(H129:H143)","v":0}]
[]
[null,"Horas trabalhadas pelos Membros do NSGA",null,null,null,null,null,null,null,null,null,null,null,null,"OBS:"]
[null,null,null,null,"Membros do NSGA",null,null,null,null,null,null,null,"Total"]
[null,"Atividade",null,null,1,2,3,4,5,6,7,8]
[null,null,null,null,{"$f":"Agroecossistema!B15","v":0},{"$f":"Agroecossistema!B16","v":0},{"$f":"Agroecossistema!B17","v":0},{"$f":"Agroecossistema!B18","v":0},{"$f":"Agroecossistema!B19","v":0},{"$f":"Agroecossistema!B20","v":0},{"$f":"Agroecossistema!B21","v":0},{"$f":"Agroecossistema!B22","v":0}]
[null,null,null,null,null,null,null,null,null,null,null,null,{"$f":"SUM(E150:L150)","v":0}]
[null,null,null,null,null,null,null,null,null,null,null,null,{"$f":"SUM(E151:L151)","v":0}]
[null,null,null,null,null,null,null,null,null,null,null,null,0]
[null,null,null,null,null,null,null,null,null,null,null,null,0]
[null,null,null,null,null,null,null,null,null,null,null,null,0]
[null,null,null,null,null,null,null,null,null,null,null,null,0]
[null,null,null,null,null,null,null,null,null,null,null,null,0]
[null,null,null,null,null,null,null,null,null,null,null,null,0]
[null,null,null,null,null,null,null,null,null,null,null,null,0]
[null,null,null,null,null,null,null,null,null,null,null,null,0]
[null,null,null,null,null,null,null,null,null,null,null,null,0]
[null,null,null,null,null,null,null,null,null,null,null,null,0]
[null,null,null,null,null,null,null,null,null,null,null,null,0]
[null,null,null,null,null,null,null,null,null,null,null,null,0]
[null,null,null,null,null,null,null,null,null,null,null,null,0]
[null,"Total horas ",null,null,{"$f":"SUM(E150:E164)","v":0},{"$f":"SUM(F150:F164)","v":0},0,0,0,0,0,0,0]
[]
[null,null,null,null,null,null,"Origem","Origem"]
[null,null,null,null,null,null,"T","F"]

{"sheet":"SUB. 8","index":12,"n_rows":168,"n_cols":24,"rows_kept":168,"cut":false,"hidden":false,"merged":[[163,1,163,3],[164,1,164,3],[157,1,157,3],[158,1,158,3],[159,1,159,3],[160,1,160,3],[161,1,161,3],[162,1,162,3],[146,14,164,21],[147,1,148,3],[149,1,149,3],[150,1,150,3],[151,1,151,3],[152,1,152,3],[153,1,153,3],[154,1,154,3],[155,1,155,3],[156,1,156,3],[143,1,143,3],[143,8,143,12],[145,1,145,12],[146,1,146,3],[146,4,146,11],[146,12,148,12],[140,1,140,3],[140,8,140,12],[141,1,141,3],[141,8,141,12],[142,1,142,3],[142,8,142,12],[138,1,138,3],[138,8,138,12],[139,1,139,3],[139,8,139,12],[134,1,134,3],[134,8,134,12],[135,1,135,3],[135,8,135,12],[136,1,136,3],[136,8,136,12],[132,8,132,12],[133,1,133,3],[133,8,133,12],[125,4,125,6],[126,1,126,7],[126,8,127,12],[127,1,127,3],[137,1,137,3],[137,8,137,12],[116,1,116,3],[116,9,116,12],[117,1,117,3],[117,9,117,12],[127,14,143,21],[128,1,128,3],[128,8,128,12],[129,1,129,3],[129,8,129,12],[130,1,130,3],[121,1,121,3],[121,9,121,12],[122,1,122,3],[122,9,122,12],[123,1,123,3],[123,4,123,6],[123,9,125,12],[124,1,124,3],[124,4,124,6],[125,1,125,3],[130,8,130,12],[131,1,131,3],[131,8,131,12],[132,1,132,3],[112,1,112,3],[112,9,112,12],[113,1,113,3],[113,9,113,12],[114,1,114,3],[114,9,114,12],[106,14,125,21],[107,1,107,3],[108,1,108,3],[108,9,108,12],[109,1,109,3],[109,9,109,12],[110,1,110,3],[110,9,110,12],[111,1,111,3],[111,9,111,12],[118,1,118,3],[118,9,118,12],[119,1,119,3],[119,9,119,12],[120,1,120,3],[120,9,120,12],[115,1,115,3],[115,9,115,12],[102,1,102,3],[102,8,102,12],[103,1,103,3],[103,8,103,12],[105,1,105,12],[106,1,106,8],[106,9,107,12],[99,1,99,3],[99,8,99,12],[100,1,100,3],[100,8,100,12],[101,1,101,3],[101,8,101,12],[96,8,96,12],[97,1,97,3],[97,8,97,12],[98,1,98,3],[98,8,98,12],[93,1,93,3],[93,8,93,12],[94,1,94,3],[94,8,94,12],[95,1,95,3],[95,8,95,12],[87,14,103,21],[88,1,88,3],[88,8,88,12],[89,1,89,3],[89,8,89,12],[82,1,82,3],[82,8,82,12],[83,1,83,3],[83,8,83,12],[84,1,84,3],[84,8,84,12],[69,14,85,21],[90,1,90,3],[90,8,90,12],[91,1,91,3],[91,8,91,12],[92,1,92,3],[92,8,92,12],[85,1,85,3],[85,8,85,12],[86,1,86,7],[86,8,87,12],[87,1,87,3],[96,1,96,3],[79,1,79,3],[79,8,79,12],[80,1,80,3],[80,8,80,12],[81,1,81,3],[81,8,81,12],[76,1,76,3],[76,8,76,12],[77,1,77,3],[77,8,77,12],[78,1,78,3],[78,8,78,12],[72,8,72,12],[73,1,73,3],[73,8,73,12],[74,1,74,3],[74,8,74,12],[75,1,75,3],[75,8,75,12],[67,4,67,6],[68,1,68,7],[68,8,69,12],[69,1,69,3],[70,1,70,3],[70,8,70,12],[71,1,71,3],[71,8,71,12],[72,1,72,3],[63,1,63,3],[63,9,63,12],[64,1,64,3],[64,9,64,12],[65,1,65,3],[65,4,65,6],[65,9,67,12],[66,1,66,3],[66,4,66,6],[67,1,67,3],[60,1,60,3],[60,9,60,12],[61,1,61,3],[61,9,61,12],[62,1,62,3],[62,9,62,12],[57,1,57,3],[57,9,57,12],[58,1,58,3],[58,9,58,12],[59,1,59,3],[59,9,59,12],[54,9,54,12],[55,1,55,3],[55,9,55,12],[56,1,56,3],[56,9,56,12],[51,1,51,3],[51,9,51,12],[52,1,52,3],[52,9,52,12],[53,1,53,3],[53,9,53,12],[43,14,66,21],[44,1,44,3],[45,1,45,3],[45,9,45,12],[46,1,46,3],[46,9,46,12],[47,1,47,3],[38,1,38,3],[38,23,38,24],[39,1,39,3],[39,23,39,24],[40,1,40,3],[40,23,40,24],[47,9,47,12],[48,1,48,3],[48,9,48,12],[49,1,49,3],[49,9,49,12],[50,1,50,3],[50,9,50,12],[42,1,42,12],[43,1,43,8],[43,9,44,12],[54,1,54,3],[35,1,35,3],[35,23,35,24],[36,1,36,3],[36,23,36,24],[37,1,37,3],[37,23,37,24],[32,1,32,3],[32,23,32,24],[33,1,33,3],[33,23,33,24],[34,1,34,3],[34,23,34,24],[29,1,29,3],[29,23,29,24],[30,1,30,3],[30,23,30,24],[31,1,31,3],[31,23,31,24],[26,1,26,3],[26,23,26,24],[27,1,27,3],[27,23,27,24],[28,1,28,3],[28,23,28,24],[23,1,23,3],[23,23,23,24],[24,1,24,3],[24,23,24,24],[25,1,25,3],[25,23,25,24],[20,1,20,3],[20,23,20,24],[21,1,21,3],[21,23,21,24],[22,1,22,3],[22,23,22,24],[17,1,17,3],[17,23,17,24],[18,1,18,3],[18,23,18,24],[19,1,19,3],[19,23,19,24],[13,19,13,20],[14,1,14,3],[15,1,15,3],[15,23,15,24],[16,1,16,3],[16,23,16,24],[13,7,13,8],[13,9,13,10],[13,11,13,12],[13,13,13,14],[13,15,13,16],[13,17,13,18],[1,1,1,24],[5,1,5,2],[5,3,5,4],[5,8,10,22],[12,1,13,4],[12,5,12,16],[12,19,12,20],[12,21,13,22],[12,23,14,24],[13,5,13,6]]}
[]
[null,"ENTRADA DE DADOS POR SUBSISTEMA"]
[]
[]
[]
[null,"Subsistema n° 8",null,null,null,null,null,"OBS"]
[]
[null,"ÁREA",null,"hectare(s)"]
[]
[]
[]
[]
[null,"Produtos e Insumos Gerados",null,null,null,"Produtos",null,null,null,null,null,null,null,null,null,null,null,null,null,"Insumos Produzidos",null,"Total Produtos e Insumos",null,"Observações"]
[null,null,null,null,null,"Mercado Convencional",null,"Mercado territorial",null,"Mercado Institucional",null,"Autoconsumo",null,"Doações Trocas",null,"Estoque",null,"Total Produtos",null,"Total Insumos"]
[null,"Itens",null,null,"Unidade","Qtde","Valor Unitário","Qtde","Valor Unitário","Qtde","Valor Unitário","Qtde","Valor Unitário","Qtde","Valor Unitário","Qtde","Valor Unitário","Qtde","Valor Total","Qtde","valor Unitário","Qtde","Valor Total"]
[null,null,null,null,null,null,null,null,null,null,null,null,null,null,null,null,null,{"$f":"J16+L16+N16+P16+H16+F16","v":0},{"$f":"(F16*G16)+(H16*I16)+(J16*K16)+(L16*M16)+(N16*O16)+(P16+Q16)","v":0},null,null,{"$f":"R16+T16","v":0},{"$f":"S16+(T16*U16)","v":0}]
[null,null,null,null,null,null,null,null,null,null,null,null,null,null,null,null,null,{"$f":"J17+L17+N17+P17+H17+F17","v":0},{"$f":"(F17*G17)+(H17*I17)+(J17*K17)+(L17*M17)+(N17*O17)+(P17+Q17)","v":0},null,null,{"$f":"R17+T17","v":0},{"$f":"S17+(T17*U17)","v":0}]
[null,null,null,null,null,null,null,null,null,null,null,null,null,null,null,null,null,0,0,null,null,0,0]
[null,null,null,null,null,null,null,null,null,null,null,null,null,null,null,null,null,0,0,null,null,0,0]
[null,null,null,null,null,null,null,null,null,null,null,null,null,null,null,null,null,0,0,null,null,0,0]
[null,null,null,null,null,null,null,null,null,null,null,null,null,null,null,null,null,0,0,null,null,0,0]
[null,null,null,null,null,null,null,null,null,null,null,null,null,null,null,null,null,0,0,null,null,0,0]
[null,null,null,null,null,null,null,null,null,null,null,null,null,null,null,null,null,0,0,null,null,0,0]
[null,null,null,null,null,null,null,null,null,null,null,null,null,null,null,null,null,0,0,null,null,0,0]
[null,null,null,null,null,null,null,null,null,null,null,null,null,null,null,null,null,0,0,null,null,0,0]
[null,null,null,null,null,null,null,null,null,null,null,null,null,null,null,null,null,0,0,null,null,0,0]
[null,null,null,null,null,null,null,null,null,null,null,null,null,null,null,null,null,0,0,null,null,0,0]
[null,null,null,null,null,null,null,null,null,null,null,null,null,null,null,null,null,0,0,null,null,0,0]
[null,null,null,null,null,null,null,null,null,null,null,null,null,null,null,null,null,0,0,null,null,0,0]
[null,null,null,null,null,null,null,null,null,null,null,null,null,null,null,null,null,0,0,null,null,0,0]
[null,null,null,null,null,null,null,null,null,null,null,null,null,null,null,null,null,0,0,null,null,0,0]
[null,null,null,null,null,null,null,null,null,null,null,null,null,null,null,null,null,0,0,null,null,0,0]
[null,null,null,null,null,null,null,null,null,null,null,null,null,null,null,null,null,0,0,null,null,0,0]
[null,null,null,null,null,null,null,null,null,null,null,null,null,null,null,null,null,0,0,null,null,0,0]
[null,null,null,null,null,null,null,null,null,null,null,null,null,null,null,null,null,0,0,null,null,0,0]
[null,null,null,null,null,null,null,null,null,null,null,null,null,null,null,null,null,0,0,null,null,0,0]
[null,null,null,null,null,null,null,null,null,null,null,null,null,null,null,null,null,0,0,null,null,0,0]
[null,null,null,null,null,null,null,null,null,null,null,null,null,null,null,null,null,0,0,null,null,0,0]
[null,null,null,null,null,null,null,null,null,null,null,null,null,null,null,null,null,0,0,null,null,0,0]
[null,null,null,null,null,null,null,null,null,null,null,null,null,null,null,null,null,0,0,null,null,0,0]
[null,"Totais",null,null,null,null,{"$f":"F16*G16+F17*G17+F18*G18+F19*G19+F20*G20+F21*G21+F22*G22+F23*G23+F24*G24+F25*G25+F26*G26+F27*G27+F28*G28+F29*G29+F30*G30+F31*G31+F32*G32+F33*G33+F34*G34+F35*G35+F36*G36+F37*G37+F38*G38+F39*G39+F40*G40","v":0},null,{"$f":"H16*I16+H17*I17+H18*I18+H19*I19+H20*I20+H21*I21+H22*I22+H23*I23+H24*I24+H25*I25+H26*I26+H27*I27+H28*I28+H29*I29+H30*I30+H31*I31+H32*I32+H33*I33+H34*I34+H35*I35+H36*I36+H37*I37+H38*I38+H39*I39+H40*I40","v":0},null,{"$f":"J16*K16+J17*K17+J18*K18+J19*K19+J20*K20+J21*K21+J22*K22+J23*K23+J24*K24+J25*K25+J26*K26+J27*K27+J28*K28+J29*K29+J30*K30+J31*K31+J32*K32+J33*K33+J34*K34+J35*K35+J36*K36+J37*K37+J38*K38+J39*K39+J40*K40","v":0},null,{"$f":"L16*M16+L17*M17+L18*M18+L19*M19+L20*M20+L21*M21+L22*M22+L23*M23+L24*M24+L25*M25+L26*M26+L27*M27+L28*M28+L29*M29+L30*M30+L31*M31+L32*M32+L33*M33+L34*M34+L35*M35+L36*M36+L37*M37+L38*M38+L39*M39+L40*M40","v":0},null,{"$f":"N16*O16+N17*O17+N18*O18+N19*O19+N20*O20+N21*O21+N22*O22+N23*O23+N24*O24+N25*O25+N26*O26+N27*O27+N28*O28+N29*O29+N30*O30+N31*O31+N32*O32+N33*O33+N34*O34+N35*O35+N36*O36+N37*O37+N38*O38+N39*O39+N40*O40","v":0},null,{"$f":"P16*Q16+P17*Q17+P18*Q18+P19*Q19+P20*Q20+P21*Q21+P22*Q22+P23*Q23+P24*Q24+P25*Q25+P26*Q26+P27*Q27+P28*Q28+P29*Q29+P30*Q30+P31*Q31+P32*Q32+P33*Q33+P34*Q34+P35*Q35+P36*Q36+P37*Q37+P38*Q38+P39*Q39+P40*Q40","v":0},null,{"$f":"SUM(S16:S40)","v":0},null,{"$f":"T16*U16+T17*U17+T18*U18+T19*U19+T20*U20+T21*U21+T22*U22+T23*U23+T24*U24+T25*U25+T26*U26+T27*U27+T28*U28+T29*U29+T30*U30+T31*U31+T32*U32+T33*U33+T34*U34+T35*U35+T36*U36+T37*U37+T38*U38+T39*U39+T40*U40","v":0},null,{"$f":"SUM(W16:W40)","v":0}]
[]
[null,"Insumos",null,null,null,null,null,null,null,null,null,null,null,null,"OBS:"]
[null,"Comprados - Consumos Intermediários ",null,null,null,null,null,null,null,"Observações"]
[null,"Itens",null,null,"Unidade","Valor Unitário","Qtde","Valor Total","Origem"]
[null,null,null,null,null,null,null,{"$f":"G46*F46","v":0}]
[null,null,null,null,null,null,null,{"$f":"G47*F47","v":0}]
[null,null,null,null,null,null,null,0]
[null,null,null,null,null,null,null,0]
[null,null,null,null,null,null,null,0]
[null,null,null,null,null,null,null,0]
[null,null,null,null,null,null,null,0]
[null,null,null,null,null,null,null,0]
[null,null,null,null,null,null,null,0]
[null,null,null,null,null,null,null,0]
[null,null,null,null,null,null,null,0]
[null,null,null,null,null,null,null,0]
[null,null,null,null,null,null,null,0]
[null,null,null,null,null,null,null,0]
[null,null,null,null,null,null,null,0]
[null,null,null,null,null,null,null,0]
[null,null,null,null,null,null,null,0]
[null,null,null,null,null,null,null,0]
[null,null,null,null,null,null,null,0]
[null,null,null,null,null,null,null,0]
[null," Insumos Comprados no Território",null,null,null,null,null,{"$f":"DSUM(H45:I65,\"Valor Total\",G167:G168)","v":0}]
[null," Insumos Comprados Fora do Território",null,null,null,null,null,{"$f":"DSUM(H45:I65,\"Valor Total\",H167:H168)","v":0}]
[null,"Total de Insumos Comprados",null,null,null,null,null,{"$f":"SUM(H46:H65)","v":0}]
[null,"Produção Própria - Reciprocidade Ecológica",null,null,null,null,null,null,"Observações",null,null,null,null,null,"OBS:"]
[null,"Itens",null,null,"Unidade","Valor Unitário","Qtde","Valor Total"]
[null,null,null,null,null,null,null,{"$f":"G71*F71","v":0}]
[null,null,null,null,null,null,null,{"$f":"G72*F72","v":0}]
[null,null,null,null,null,null,null,0]
[null,null,null,null,null,null,null,0]
[null,null,null,null,null,null,null,0]
[null,null,null,null,null,null,null,0]
[null,null,null,null,null,null,null,0]
[null,null,null,null,null,null,null,0]
[null,null,null,null,null,null,null,0]
[null,null,null,null,null,null,null,0]
[null,null,null,null,null,null,null,0]
[null,null,null,null,null,null,null,0]
[null,null,null,null,null,null,null,0]
[null,null,null,null,null,null,null,0]
[null,null,null,null,null,null,null,0]
[null,"Total Insumos -  Produção Própria",null,null,null,null,null,{"$f":"SUM(H71:H85)","v":0}]
[null,"Entrada de Insumos por Reciprocidade Social",null,null,null,null,null,null,"Observações",null,null,null,null,null,"OBS:"]
[null,"insumos",null,null,"Unidade","Valor Unitário","Qtde","Valor Total"]
[null,null,null,null,null,null,null,{"$f":"G89*F89","v":0}]
[null,null,null,null,null,null,null,0]
[null,null,null,null,null,null,null,0]
[null,null,null,null,null,null,null,0]
[null,null,null,null,null,null,null,0]
[null,null,null,null,null,null,null,0]
[null,null,null,null,null,null,null,0]
[null,null,null,null,null,null,null,0]
[null,null,null,null,null,null,null,0]
[null,null,null,null,null,null,null,0]
[null,null,null,null,null,null,null,0]
[null,null,null,null,null,null,null,0]
[null,null,null,null,null,null,null,0]
[null,null,null,null,null,null,null,0]
[null,null,null,null,null,null,null,0]
[null,"Total Recursos por Reciprocidade",null,null,null,null,null,{"$f":"SUM(H89:H103)","v":0}]
[]
[null,"Serviços de Terceiros",null,null,null,null,null,null,null,null,null,null,null,null,"OBS:"]
[null,"Pagamento a Terceiros",null,null,null,null,null,null,null,"Observações"]
[null,"Serviços/Renda da Terra",null,null,"Unidade","Valor Unitário","Qtde","Valor Total","Origem"]
[null,null,null,null,null,null,null,{"$f":"G109*F109","v":0}]
[null,null,null,null,null,null,null,0]
[null,null,null,null,null,null,null,0]
[null,null,null,null,null,null,null,0]
[null,null,null,null,null,null,null,0]
[null,null,null,null,null,null,null,0]
[null,null,null,null,null,null,null,0]
[null,null,null,null,null,null,null,0]
[null,null,null,null,null,null,null,0]
[null,null,null,null,null,null,null,0]
[null,null,null,null,null,null,null,0]
[null,null,null,null,null,null,null,0]
[null,null,null,null,null,null,null,0]
[null,null,null,null,null,null,null,0]
[null,null,null,null,null,null,null,0]
[null,"Pagamentos a Terceiros do Território",null,null,null,null,null,{"$f":"DSUM(H108:I123,\"Valor Total\",G167:G168)","v":0}]
[null,"Pagamentos a Terceiros Fora do Território",null,null,null,null,null,{"$f":"DSUM(H108:I123,\"Valor Total\",H167:H168)","v":0}]
[null,"Total de Pagamentos a Terceiros ",null,null,null,null,null,{"$f":"SUM(H109:H123)","v":0}]
[null,"Serviços por  Reciprocidade Social",null,null,null,null,null,null,"Observações",null,null,null,null,null,"OBS:"]
[null,"Serviços",null,null,"Unidade","Valor Unitário","Qtde","Valor Total"]
[null,null,null,null,null,null,null,{"$f":"G129*F129","v":0}]
[null,null,null,null,null,null,null,0]
[null,null,null,null,null,null,null,0]
[null,null,null,null,null,null,null,0]
[null,null,null,null,null,null,null,0]
[null,null,null,null,null,null,null,0]
[null,null,null,null,null,null,null,0]
[null,null,null,null,null,null,null,0]
[null,null,null,null,null,null,null,0]
[null,null,null,null,null,null,null,0]
[null,null,null,null,null,null,null,0]
[null,null,null,null,null,null,null,0]
[null,null,null,null,null,null,null,0]
[null,null,null,null,null,null,null,0]
[null,null,null,null,null,null,null,0]
[null,"Total Recursos por Reciprocidade",null,null,null,null,null,{"$f":"SUM(H129:H143)","v":0}]
[]
[null,"Horas trabalhadas pelos Membros do NSGA",null,null,null,null,null,null,null,null,null,null,null,null,"OBS:"]
[null,null,null,null,"Membros do NSGA",null,null,null,null,null,null,null,"Total"]
[null,"Atividade",null,null,1,2,3,4,5,6,7,8]
[null,null,null,null,{"$f":"Agroecossistema!B15","v":0},{"$f":"Agroecossistema!B16","v":0},{"$f":"Agroecossistema!B17","v":0},{"$f":"Agroecossistema!B18","v":0},{"$f":"Agroecossistema!B19","v":0},{"$f":"Agroecossistema!B20","v":0},{"$f":"Agroecossistema!B21","v":0},{"$f":"Agroecossistema!B22","v":0}]
[null,null,null,null,null,null,null,null,null,null,null,null,{"$f":"SUM(E150:L150)","v":0}]
[null,null,null,null,null,null,null,null,null,null,null,null,{"$f":"SUM(E151:L151)","v":0}]
[null,null,null,null,null,null,null,null,null,null,null,null,0]
[null,null,null,null,null,null,null,null,null,null,null,null,0]
[null,null,null,null,null,null,null,null,null,null,null,null,0]
[null,null,null,null,null,null,null,null,null,null,null,null,0]
[null,null,null,null,null,null,null,null,null,null,null,null,0]
[null,null,null,null,null,null,null,null,null,null,null,null,0]
[null,null,null,null,null,null,null,null,null,null,null,null,0]
[null,null,null,null,null,null,null,null,null,null,null,null,0]
[null,null,null,null,null,null,null,null,null,null,null,null,0]
[null,null,null,null,null,null,null,null,null,null,null,null,0]
[null,null,null,null,null,null,null,null,null,null,null,null,0]
[null,null,null,null,null,null,null,null,null,null,null,null,0]
[null,null,null,null,null,null,null,null,null,null,null,null,0]
[null,"Total horas ",null,null,{"$f":"SUM(E150:E164)","v":0},{"$f":"SUM(F150:F164)","v":0},0,0,0,0,0,0,0]
[]
[null,null,null,null,null,null,"Origem","Origem"]
[null,null,null,null,null,null,"T","F"]

{"sheet":"SUB. 9","index":13,"n_rows":168,"n_cols":24,"rows_kept":168,"cut":false,"hidden":false,"merged":[[163,1,163,3],[164,1,164,3],[157,1,157,3],[158,1,158,3],[159,1,159,3],[160,1,160,3],[161,1,161,3],[162,1,162,3],[146,14,164,21],[147,1,148,3],[149,1,149,3],[150,1,150,3],[151,1,151,3],[152,1,152,3],[153,1,153,3],[154,1,154,3],[155,1,155,3],[156,1,156,3],[143,1,143,3],[143,8,143,12],[145,1,145,12],[146,1,146,3],[146,4,146,11],[146,12,148,12],[140,1,140,3],[140,8,140,12],[141,1,141,3],[141,8,141,12],[142,1,142,3],[142,8,142,12],[138,1,138,3],[138,8,138,12],[139,1,139,3],[139,8,139,12],[134,1,134,3],[134,8,134,12],[135,1,135,3],[135,8,135,12],[136,1,136,3],[136,8,136,12],[132,8,132,12],[133,1,133,3],[133,8,133,12],[125,4,125,6],[126,1,126,7],[126,8,127,12],[127,1,127,3],[137,1,137,3],[137,8,137,12],[116,1,116,3],[116,9,116,12],[117,1,117,3],[117,9,117,12],[127,14,143,21],[128,1,128,3],[128,8,128,12],[129,1,129,3],[129,8,129,12],[130,1,130,3],[121,1,121,3],[121,9,121,12],[122,1,122,3],[122,9,122,12],[123,1,123,3],[123,4,123,6],[123,9,125,12],[124,1,124,3],[124,4,124,6],[125,1,125,3],[130,8,130,12],[131,1,131,3],[131,8,131,12],[132,1,132,3],[112,1,112,3],[112,9,112,12],[113,1,113,3],[113,9,113,12],[114,1,114,3],[114,9,114,12],[106,14,125,21],[107,1,107,3],[108,1,108,3],[108,9,108,12],[109,1,109,3],[109,9,109,12],[110,1,110,3],[110,9,110,12],[111,1,111,3],[111,9,111,12],[118,1,118,3],[118,9,118,12],[119,1,119,3],[119,9,119,12],[120,1,120,3],[120,9,120,12],[115,1,115,3],[115,9,115,12],[102,1,102,3],[102,8,102,12],[103,1,103,3],[103,8,103,12],[105,1,105,12],[106,1,106,8],[106,9,107,12],[99,1,99,3],[99,8,99,12],[100,1,100,3],[100,8,100,12],[101,1,101,3],[101,8,101,12],[96,8,96,12],[97,1,97,3],[97,8,97,12],[98,1,98,3],[98,8,98,12],[93,1,93,3],[93,8,93,12],[94,1,94,3],[94,8,94,12],[95,1,95,3],[95,8,95,12],[87,14,103,21],[88,1,88,3],[88,8,88,12],[89,1,89,3],[89,8,89,12],[82,1,82,3],[82,8,82,12],[83,1,83,3],[83,8,83,12],[84,1,84,3],[84,8,84,12],[69,14,85,21],[90,1,90,3],[90,8,90,12],[91,1,91,3],[91,8,91,12],[92,1,92,3],[92,8,92,12],[85,1,85,3],[85,8,85,12],[86,1,86,7],[86,8,87,12],[87,1,87,3],[96,1,96,3],[79,1,79,3],[79,8,79,12],[80,1,80,3],[80,8,80,12],[81,1,81,3],[81,8,81,12],[76,1,76,3],[76,8,76,12],[77,1,77,3],[77,8,77,12],[78,1,78,3],[78,8,78,12],[72,8,72,12],[73,1,73,3],[73,8,73,12],[74,1,74,3],[74,8,74,12],[75,1,75,3],[75,8,75,12],[67,4,67,6],[68,1,68,7],[68,8,69,12],[69,1,69,3],[70,1,70,3],[70,8,70,12],[71,1,71,3],[71,8,71,12],[72,1,72,3],[63,1,63,3],[63,9,63,12],[64,1,64,3],[64,9,64,12],[65,1,65,3],[65,4,65,6],[65,9,67,12],[66,1,66,3],[66,4,66,6],[67,1,67,3],[60,1,60,3],[60,9,60,12],[61,1,61,3],[61,9,61,12],[62,1,62,3],[62,9,62,12],[57,1,57,3],[57,9,57,12],[58,1,58,3],[58,9,58,12],[59,1,59,3],[59,9,59,12],[54,9,54,12],[55,1,55,3],[55,9,55,12],[56,1,56,3],[56,9,56,12],[51,1,51,3],[51,9,51,12],[52,1,52,3],[52,9,52,12],[53,1,53,3],[53,9,53,12],[43,14,66,21],[44,1,44,3],[45,1,45,3],[45,9,45,12],[46,1,46,3],[46,9,46,12],[47,1,47,3],[38,1,38,3],[38,23,38,24],[39,1,39,3],[39,23,39,24],[40,1,40,3],[40,23,40,24],[47,9,47,12],[48,1,48,3],[48,9,48,12],[49,1,49,3],[49,9,49,12],[50,1,50,3],[50,9,50,12],[42,1,42,12],[43,1,43,8],[43,9,44,12],[54,1,54,3],[35,1,35,3],[35,23,35,24],[36,1,36,3],[36,23,36,24],[37,1,37,3],[37,23,37,24],[32,1,32,3],[32,23,32,24],[33,1,33,3],[33,23,33,24],[34,1,34,3],[34,23,34,24],[29,1,29,3],[29,23,29,24],[30,1,30,3],[30,23,30,24],[31,1,31,3],[31,23,31,24],[26,1,26,3],[26,23,26,24],[27,1,27,3],[27,23,27,24],[28,1,28,3],[28,23,28,24],[23,1,23,3],[23,23,23,24],[24,1,24,3],[24,23,24,24],[25,1,25,3],[25,23,25,24],[20,1,20,3],[20,23,20,24],[21,1,21,3],[21,23,21,24],[22,1,22,3],[22,23,22,24],[17,1,17,3],[17,23,17,24],[18,1,18,3],[18,23,18,24],[19,1,19,3],[19,23,19,24],[13,19,13,20],[14,1,14,3],[15,1,15,3],[15,23,15,24],[16,1,16,3],[16,23,16,24],[13,7,13,8],[13,9,13,10],[13,11,13,12],[13,13,13,14],[13,15,13,16],[13,17,13,18],[1,1,1,24],[5,1,5,2],[5,3,5,4],[5,8,10,22],[12,1,13,4],[12,5,12,16],[12,19,12,20],[12,21,13,22],[12,23,14,24],[13,5,13,6]]}
[]
[null,"ENTRADA DE DADOS POR SUBSISTEMA"]
[]
[]
[]
[null,"Subsistema n° 9:",null,null,null,null,null,"OBS"]
[]
[null,"ÁREA",null,"hectare(s)"]
[]
[]
[]
[]
[null,"Produtos e Insumos Gerados",null,null,null,"Produtos",null,null,null,null,null,null,null,null,null,null,null,null,null,"Insumos Produzidos",null,"Total Produtos e Insumos",null,"Observações"]
[null,null,null,null,null,"Mercado Convencional",null,"Mercado territorial",null,"Mercado Institucional",null,"Autoconsumo",null,"Doações Trocas",null,"Estoque",null,"Total Produtos",null,"Total Insumos"]
[null,"Itens",null,null,"Unidade","Qtde","Valor Unitário","Qtde","Valor Unitário","Qtde","Valor Unitário","Qtde","Valor Unitário","Qtde","Valor Unitário","Qtde","Valor Unitário","Qtde","Valor Total","Qtde","valor Unitário","Qtde","Valor Total"]
[null,null,null,null,null,null,null,null,null,null,null,null,null,null,null,null,null,{"$f":"J16++L16+N16+P16+H16+F16","v":0},{"$f":"(F16*G16)+(H16*I16)+(J16*K16)+(L16*M16)+(N16*O16)+(P16+Q16)","v":0},null,null,{"$f":"R16+T16","v":0},{"$f":"S16+(T16*U16)","v":0}]
[null,null,null,null,null,null,null,null,null,null,null,null,null,null,null,null,null,{"$f":"J17++L17+N17+P17+H17+F17","v":0},{"$f":"(F17*G17)+(H17*I17)+(J17*K17)+(L17*M17)+(N17*O17)+(P17+Q17)","v":0},null,null,{"$f":"R17+T17","v":0},{"$f":"S17+(T17*U17)","v":0}]
[null,null,null,null,null,null,null,null,null,null,null,null,null,null,null,null,null,0,0,null,null,0,0]
[null,null,null,null,null,null,null,null,null,null,null,null,null,null,null,null,null,0,0,null,null,0,0]
[null,null,null,null,null,null,null,null,null,null,null,null,null,null,null,null,null,0,0,null,null,0,0]
[null,null,null,null,null,null,null,null,null,null,null,null,null,null,null,null,null,0,0,null,null,0,0]
[null,null,null,null,null,null,null,null,null,null,null,null,null,null,null,null,null,0,0,null,null,0,0]
[null,null,null,null,null,null,null,null,null,null,null,null,null,null,null,null,null,0,0,null,null,0,0]
[null,null,null,null,null,null,null,null,null,null,null,null,null,null,null,null,null,0,0,null,null,0,0]
[null,null,null,null,null,null,null,null,null,null,null,null,null,null,null,null,null,0,0,null,null,0,0]
[null,null,null,null,null,null,null,null,null,null,null,null,null,null,null,null,null,0,0,null,null,0,0]
[null,null,null,null,null,null,null,null,null,null,null,null,null,null,null,null,null,0,0,null,null,0,0]
[null,null,null,null,null,null,null,null,null,null,null,null,null,null,null,null,null,0,0,null,null,0,0]
[null,null,null,null,null,null,null,null,null,null,null,null,null,null,null,null,null,0,0,null,null,0,0]
[null,null,null,null,null,null,null,null,null,null,null,null,null,null,null,null,null,0,0,null,null,0,0]
[null,null,null,null,null,null,null,null,null,null,null,null,null,null,null,null,null,0,0,null,null,0,0]
[null,null,null,null,null,null,null,null,null,null,null,null,null,null,null,null,null,0,0,null,null,0,0]
[null,null,null,null,null,null,null,null,null,null,null,null,null,null,null,null,null,0,0,null,null,0,0]
[null,null,null,null,null,null,null,null,null,null,null,null,null,null,null,null,null,0,0,null,null,0,0]
[null,null,null,null,null,null,null,null,null,null,null,null,null,null,null,null,null,0,0,null,null,0,0]
[null,null,null,null,null,null,null,null,null,null,null,null,null,null,null,null,null,0,0,null,null,0,0]
[null,null,null,null,null,null,null,null,null,null,null,null,null,null,null,null,null,0,0,null,null,0,0]
[null,null,null,null,null,null,null,null,null,null,null,null,null,null,null,null,null,0,0,null,null,0,0]
[null,null,null,null,null,null,null,null,null,null,null,null,null,null,null,null,null,0,0,null,null,0,0]
[null,null,null,null,null,null,null,null,null,null,null,null,null,null,null,null,null,0,0,null,null,0,0]
[null,"Totais",null,null,null,null,{"$f":"F16*G16+F17*G17+F18*G18+F19*G19+F20*G20+F21*G21+F22*G22+F23*G23+F24*G24+F25*G25+F26*G26+F27*G27+F28*G28+F29*G29+F30*G30+F31*G31+F32*G32+F33*G33+F34*G34+F35*G35+F36*G36+F37*G37+F38*G38+F39*G39+F40*G40","v":0},null,{"$f":"H16*I16+H17*I17+H18*I18+H19*I19+H20*I20+H21*I21+H22*I22+H23*I23+H24*I24+H25*I25+H26*I26+H27*I27+H28*I28+H29*I29+H30*I30+H31*I31+H32*I32+H33*I33+H34*I34+H35*I35+H36*I36+H37*I37+H38*I38+H39*I39+H40*I40","v":0},null,{"$f":"J16*K16+J17*K17+J18*K18+J19*K19+J20*K20+J21*K21+J22*K22+J23*K23+J24*K24+J25*K25+J26*K26+J27*K27+J28*K28+J29*K29+J30*K30+J31*K31+J32*K32+J33*K33+J34*K34+J35*K35+J36*K36+J37*K37+J38*K38+J39*K39+J40*K40","v":0},null,{"$f":"L16*M16+L17*M17+L18*M18+L19*M19+L20*M20+L21*M21+L22*M22+L23*M23+L24*M24+L25*M25+L26*M26+L27*M27+L28*M28+L29*M29+L30*M30+L31*M31+L32*M32+L33*M33+L34*M34+L35*M35+L36*M36+L37*M37+L38*M38+L39*M39+L40*M40","v":0},null,{"$f":"N16*O16+N17*O17+N18*O18+N19*O19+N20*O20+N21*O21+N22*O22+N23*O23+N24*O24+N25*O25+N26*O26+N27*O27+N28*O28+N29*O29+N30*O30+N31*O31+N32*O32+N33*O33+N34*O34+N35*O35+N36*O36+N37*O37+N38*O38+N39*O39+N40*O40","v":0},null,{"$f":"P16*Q16+P17*Q17+P18*Q18+P19*Q19+P20*Q20+P21*Q21+P22*Q22+P23*Q23+P24*Q24+P25*Q25+P26*Q26+P27*Q27+P28*Q28+P29*Q29+P30*Q30+P31*Q31+P32*Q32+P33*Q33+P34*Q34+P35*Q35+P36*Q36+P37*Q37+P38*Q38+P39*Q39+P40*Q40","v":0},null,{"$f":"SUM(S16:S40)","v":0},null,{"$f":"T16*U16+T17*U17+T18*U18+T19*U19+T20*U20+T21*U21+T22*U22+T23*U23+T24*U24+T25*U25+T26*U26+T27*U27+T28*U28+T29*U29+T30*U30+T31*U31+T32*U32+T33*U33+T34*U34+T35*U35+T36*U36+T37*U37+T38*U38+T39*U39+T40*U40","v":0},null,{"$f":"SUM(W16:W40)","v":0}]
[]
[null,"Insumos",null,null,null,null,null,null,null,null,null,null,null,null,"OBS:"]
[null,"Comprados - Consumos Intermediários ",null,null,null,null,null,null,null,"Observações"]
[null,"Itens",null,null,"Unidade","Valor Unitário","Qtde","Valor Total","Origem"]
[null,null,null,null,null,null,null,{"$f":"G46*F46","v":0}]
[null,null,null,null,null,null,null,{"$f":"G47*F47","v":0}]
[null,null,null,null,null,null,null,0]
[null,null,null,null,null,null,null,0]
[null,null,null,null,null,null,null,0]
[null,null,null,null,null,null,null,0]
[null,null,null,null,null,null,null,0]
[null,null,null,null,null,null,null,0]
[null,null,null,null,null,null,null,0]
[null,null,null,null,null,null,null,0]
[null,null,null,null,null,null,null,0]
[null,null,null,null,null,null,null,0]
[null,null,null,null,null,null,null,0]
[null,null,null,null,null,null,null,0]
[null,null,null,null,null,null,null,0]
[null,null,null,null,null,null,null,0]
[null,null,null,null,null,null,null,0]
[null,null,null,null,null,null,null,0]
[null,null,null,null,null,null,null,0]
[null,null,null,null,null,null,null,0]
[null," Insumos Comprados no Território",null,null,null,null,null,{"$f":"DSUM(H45:I65,\"Valor Total\",G167:G168)","v":0}]
[null," Insumos Comprados Fora do Território",null,null,null,null,null,{"$f":"DSUM(H45:I65,\"Valor Total\",H167:H168)","v":0}]
[null,"Total de Insumos Comprados",null,null,null,null,null,{"$f":"SUM(H46:H65)","v":0}]
[null,"Produção Própria - Reciprocidade Ecológica",null,null,null,null,null,null,"Observações",null,null,null,null,null,"OBS:"]
[null,"Itens",null,null,"Unidade","Valor Unitário","Qtde","Valor Total"]
[null,null,null,null,null,null,null,{"$f":"G71*F71","v":0}]
[null,null,null,null,null,null,null,{"$f":"G72*F72","v":0}]
[null,null,null,null,null,null,null,0]
[null,null,null,null,null,null,null,0]
[null,null,null,null,null,null,null,0]
[null,null,null,null,null,null,null,0]
[null,null,null,null,null,null,null,0]
[null,null,null,null,null,null,null,0]
[null,null,null,null,null,null,null,0]
[null,null,null,null,null,null,null,0]
[null,null,null,null,null,null,null,0]
[null,null,null,null,null,null,null,0]
[null,null,null,null,null,null,null,0]
[null,null,null,null,null,null,null,0]
[null,null,null,null,null,null,null,0]
[null,"Total Insumos -  Produção Própria",null,null,null,null,null,{"$f":"SUM(H71:H85)","v":0}]
[null,"Entrada de Insumos por Reciprocidade Social",null,null,null,null,null,null,"Observações",null,null,null,null,null,"OBS:"]
[null,"insumos",null,null,"Unidade","Valor Unitário","Qtde","Valor Total"]
[null,null,null,null,null,null,null,{"$f":"G89*F89","v":0}]
[null,null,null,null,null,null,null,0]
[null,null,null,null,null,null,null,0]
[null,null,null,null,null,null,null,0]
[null,null,null,null,null,null,null,0]
[null,null,null,null,null,null,null,0]
[null,null,null,null,null,null,null,0]
[null,null,null,null,null,null,null,0]
[null,null,null,null,null,null,null,0]
[null,null,null,null,null,null,null,0]
[null,null,null,null,null,null,null,0]
[null,null,null,null,null,null,null,0]
[null,null,null,null,null,null,null,0]
[null,null,null,null,null,null,null,0]
[null,null,null,null,null,null,null,0]
[null,"Total Recursos por Reciprocidade",null,null,null,null,null,{"$f":"SUM(H89:H103)","v":0}]
[]
[null,"Serviços de Terceiros",null,null,null,null,null,null,null,null,null,null,null,null,"OBS:"]
[null,"Pagamento a Terceiros",null,null,null,null,null,null,null,"Observações"]
[null,"Serviços/Renda da Terra",null,null,"Unidade","Valor Unitário","Qtde","Valor Total","Origem"]
[null,null,null,null,null,null,null,{"$f":"G109*F109","v":0}]
[null,null,null,null,null,null,null,0]
[null,null,null,null,null,null,null,0]
[null,null,null,null,null,null,null,0]
[null,null,null,null,null,null,null,0]
[null,null,null,null,null,null,null,0]
[null,null,null,null,null,null,null,0]
[null,null,null,null,null,null,null,0]
[null,null,null,null,null,null,null,0]
[null,null,null,null,null,null,null,0]
[null,null,null,null,null,null,null,0]
[null,null,null,null,null,null,null,0]
[null,null,null,null,null,null,null,0]
[null,null,null,null,null,null,null,0]
[null,null,null,null,null,null,null,0]
[null,"Pagamentos a Terceiros do Território",null,null,null,null,null,{"$f":"DSUM(H108:I123,\"Valor Total\",G167:G168)","v":0}]
[null,"Pagamentos a Terceiros Fora do Território",null,null,null,null,null,{"$f":"DSUM(H108:I123,\"Valor Total\",H167:H168)","v":0}]
[null,"Total de Pagamentos a Terceiros ",null,null,null,null,null,{"$f":"SUM(H109:H123)","v":0}]
[null,"Serviços por  Reciprocidade Social",null,null,null,null,null,null,"Observações",null,null,null,null,null,"OBS:"]
[null,"Serviços",null,null,"Unidade","Valor Unitário","Qtde","Valor Total"]
[null,null,null,null,null,null,null,{"$f":"G129*F129","v":0}]
[null,null,null,null,null,null,null,0]
[null,null,null,null,null,null,null,0]
[null,null,null,null,null,null,null,0]
[null,null,null,null,null,null,null,0]
[null,null,null,null,null,null,null,0]
[null,null,null,null,null,null,null,0]
[null,null,null,null,null,null,null,0]
[null,null,null,null,null,null,null,0]
[null,null,null,null,null,null,null,0]
[null,null,null,null,null,null,null,0]
[null,null,null,null,null,null,null,0]
[null,null,null,null,null,null,null,0]
[null,null,null,null,null,null,null,0]
[null,null,null,null,null,null,null,0]
[null,"Total Recursos por Reciprocidade",null,null,null,null,null,{"$f":"SUM(H129:H143)","v":0}]
[]
[null,"Horas trabalhadas pelos Membros do NSGA",null,null,null,null,null,null,null,null,null,null,null,null,"OBS:"]
[null,null,null,null,"Membros do NSGA",null,null,null,null,null,null,null,"Total"]
[null,"Atividade",null,null,1,2,3,4,5,6,7,8]
[null,null,null,null,{"$f":"Agroecossistema!B15","v":0},{"$f":"Agroecossistema!B16","v":0},{"$f":"Agroecossistema!B17","v":0},{"$f":"Agroecossistema!B18","v":0},{"$f":"Agroecossistema!B19","v":0},{"$f":"Agroecossistema!B20","v":0},{"$f":"Agroecossistema!B21","v":0},{"$f":"Agroecossistema!B22","v":0}]
[null,null,null,null,null,null,null,null,null,null,null,null,{"$f":"SUM(E150:L150)","v":0}]
[null,null,null,null,null,null,null,null,null,null,null,null,{"$f":"SUM(E151:L151)","v":0}]
[null,null,null,null,null,null,null,null,null,null,null,null,0]
[null,null,null,null,null,null,null,null,null,null,null,null,0]
[null,null,null,null,null,null,null,null,null,null,null,null,0]
[null,null,null,null,null,null,null,null,null,null,null,null,0]
[null,null,null,null,null,null,null,null,null,null,null,null,0]
[null,null,null,null,null,null,null,null,null,null,null,null,0]
[null,null,null,null,null,null,null,null,null,null,null,null,0]
[null,null,null,null,null,null,null,null,null,null,null,null,0]
[null,null,null,null,null,null,null,null,null,null,null,null,0]
[null,null,null,null,null,null,null,null,null,null,null,null,0]
[null,null,null,null,null,null,null,null,null,null,null,null,0]
[null,null,null,null,null,null,null,null,null,null,null,null,0]
[null,null,null,null,null,null,null,null,null,null,null,null,0]
[null,"Total horas ",null,null,{"$f":"SUM(E150:E164)","v":0},{"$f":"SUM(F150:F164)","v":0},0,0,0,0,0,0,0]
[]
[null,null,null,null,null,null,"Origem","Origem"]
[null,null,null,null,null,null,"T","F"]

{"sheet":"SUB. 10","index":14,"n_rows":168,"n_cols":24,"rows_kept":168,"cut":false,"hidden":false,"merged":[[163,1,163,3],[164,1,164,3],[157,1,157,3],[158,1,158,3],[159,1,159,3],[160,1,160,3],[161,1,161,3],[162,1,162,3],[146,14,164,21],[147,1,148,3],[149,1,149,3],[150,1,150,3],[151,1,151,3],[152,1,152,3],[153,1,153,3],[154,1,154,3],[155,1,155,3],[156,1,156,3],[143,1,143,3],[143,8,143,12],[145,1,145,12],[146,1,146,3],[146,4,146,11],[146,12,148,12],[140,1,140,3],[140,8,140,12],[141,1,141,3],[141,8,141,12],[142,1,142,3],[142,8,142,12],[138,1,138,3],[138,8,138,12],[139,1,139,3],[139,8,139,12],[134,1,134,3],[134,8,134,12],[135,1,135,3],[135,8,135,12],[136,1,136,3],[136,8,136,12],[132,8,132,12],[133,1,133,3],[133,8,133,12],[125,4,125,6],[126,1,126,7],[126,8,127,12],[127,1,127,3],[137,1,137,3],[137,8,137,12],[116,1,116,3],[116,9,116,12],[117,1,117,3],[117,9,117,12],[127,14,143,21],[128,1,128,3],[128,8,128,12],[129,1,129,3],[129,8,129,12],[130,1,130,3],[121,1,121,3],[121,9,121,12],[122,1,122,3],[122,9,122,12],[123,1,123,3],[123,4,123,6],[123,9,125,12],[124,1,124,3],[124,4,124,6],[125,1,125,3],[130,8,130,12],[131,1,131,3],[131,8,131,12],[132,1,132,3],[112,1,112,3],[112,9,112,12],[113,1,113,3],[113,9,113,12],[114,1,114,3],[114,9,114,12],[106,14,125,21],[107,1,107,3],[108,1,108,3],[108,9,108,12],[109,1,109,3],[109,9,109,12],[110,1,110,3],[110,9,110,12],[111,1,111,3],[111,9,111,12],[118,1,118,3],[118,9,118,12],[119,1,119,3],[119,9,119,12],[120,1,120,3],[120,9,120,12],[115,1,115,3],[115,9,115,12],[102,1,102,3],[102,8,102,12],[103,1,103,3],[103,8,103,12],[105,1,105,12],[106,1,106,8],[106,9,107,12],[99,1,99,3],[99,8,99,12],[100,1,100,3],[100,8,100,12],[101,1,101,3],[101,8,101,12],[96,8,96,12],[97,1,97,3],[97,8,97,12],[98,1,98,3],[98,8,98,12],[93,1,93,3],[93,8,93,12],[94,1,94,3],[94,8,94,12],[95,1,95,3],[95,8,95,12],[87,14,103,21],[88,1,88,3],[88,8,88,12],[89,1,89,3],[89,8,89,12],[82,1,82,3],[82,8,82,12],[83,1,83,3],[83,8,83,12],[84,1,84,3],[84,8,84,12],[69,14,85,21],[90,1,90,3],[90,8,90,12],[91,1,91,3],[91,8,91,12],[92,1,92,3],[92,8,92,12],[85,1,85,3],[85,8,85,12],[86,1,86,7],[86,8,87,12],[87,1,87,3],[96,1,96,3],[79,1,79,3],[79,8,79,12],[80,1,80,3],[80,8,80,12],[81,1,81,3],[81,8,81,12],[76,1,76,3],[76,8,76,12],[77,1,77,3],[77,8,77,12],[78,1,78,3],[78,8,78,12],[72,8,72,12],[73,1,73,3],[73,8,73,12],[74,1,74,3],[74,8,74,12],[75,1,75,3],[75,8,75,12],[67,4,67,6],[68,1,68,7],[68,8,69,12],[69,1,69,3],[70,1,70,3],[70,8,70,12],[71,1,71,3],[71,8,71,12],[72,1,72,3],[63,1,63,3],[63,9,63,12],[64,1,64,3],[64,9,64,12],[65,1,65,3],[65,4,65,6],[65,9,67,12],[66,1,66,3],[66,4,66,6],[67,1,67,3],[60,1,60,3],[60,9,60,12],[61,1,61,3],[61,9,61,12],[62,1,62,3],[62,9,62,12],[57,1,57,3],[57,9,57,12],[58,1,58,3],[58,9,58,12],[59,1,59,3],[59,9,59,12],[54,9,54,12],[55,1,55,3],[55,9,55,12],[56,1,56,3],[56,9,56,12],[51,1,51,3],[51,9,51,12],[52,1,52,3],[52,9,52,12],[53,1,53,3],[53,9,53,12],[43,14,66,21],[44,1,44,3],[45,1,45,3],[45,9,45,12],[46,1,46,3],[46,9,46,12],[47,1,47,3],[38,1,38,3],[38,23,38,24],[39,1,39,3],[39,23,39,24],[40,1,40,3],[40,23,40,24],[47,9,47,12],[48,1,48,3],[48,9,48,12],[49,1,49,3],[49,9,49,12],[50,1,50,3],[50,9,50,12],[42,1,42,12],[43,1,43,8],[43,9,44,12],[54,1,54,3],[35,1,35,3],[35,23,35,24],[36,1,36,3],[36,23,36,24],[37,1,37,3],[37,23,37,24],[32,1,32,3],[32,23,32,24],[33,1,33,3],[33,23,33,24],[34,1,34,3],[34,23,34,24],[29,1,29,3],[29,23,29,24],[30,1,30,3],[30,23,30,24],[31,1,31,3],[31,23,31,24],[26,1,26,3],[26,23,26,24],[27,1,27,3],[27,23,27,24],[28,1,28,3],[28,23,28,24],[23,1,23,3],[23,23,23,24],[24,1,24,3],[24,23,24,24],[25,1,25,3],[25,23,25,24],[20,1,20,3],[20,23,20,24],[21,1,21,3],[21,23,21,24],[22,1,22,3],[22,23,22,24],[17,1,17,3],[17,23,17,24],[18,1,18,3],[18,23,18,24],[19,1,19,3],[19,23,19,24],[13,19,13,20],[14,1,14,3],[15,1,15,3],[15,23,15,24],[16,1,16,3],[16,23,16,24],[13,7,13,8],[13,9,13,10],[13,11,13,12],[13,13,13,14],[13,15,13,16],[13,17,13,18],[1,1,1,24],[5,1,5,2],[5,3,5,4],[5,8,10,22],[12,1,13,4],[12,5,12,16],[12,19,12,20],[12,21,13,22],[12,23,14,24],[13,5,13,6]]}
[]
[null,"ENTRADA DE DADOS POR SUBSISTEMA"]
[]
[]
[]
[null,"Subsistema n° 10:",null,null,null,null,null,"OBS"]
[]
[null,"ÁREA",null,"hectare(s)"]
[]
[]
[]
[]
[null,"Produtos e Insumos Gerados",null,null,null,"Produtos",null,null,null,null,null,null,null,null,null,null,null,null,null,"Insumos Produzidos",null,"Total Produtos e Insumos",null,"Observações"]
[null,null,null,null,null,"Mercado Convencional",null,"Mercado territorial",null,"Mercado Institucional",null,"Autoconsumo",null,"Doações Trocas",null,"Estoque",null,"Total Produtos",null,"Total Insumos"]
[null,"Itens",null,null,"Unidade","Qtde","Valor Unitário","Qtde","Valor Unitário","Qtde","Valor Unitário","Qtde","Valor Unitário","Qtde","Valor Unitário","Qtde","Valor Unitário","Qtde","Valor Total","Qtde","valor Unitário","Qtde","Valor Total"]
[null,null,null,null,null,null,null,null,null,null,null,null,null,null,null,null,null,{"$f":"J16+L16+N16+P16+H16+F16","v":0},{"$f":"(F16*G16)+(H16*I16)+(J16*K16)+(L16*M16)+(N16*O16)+(P16+Q16)","v":0},null,null,{"$f":"R16+T16","v":0},{"$f":"S16+(T16*U16)","v":0}]
[null,null,null,null,null,null,null,null,null,null,null,null,null,null,null,null,null,{"$f":"J17+L17+N17+P17+H17+F17","v":0},{"$f":"(F17*G17)+(H17*I17)+(J17*K17)+(L17*M17)+(N17*O17)+(P17+Q17)","v":0},null,null,{"$f":"R17+T17","v":0},{"$f":"S17+(T17*U17)","v":0}]
[null,null,null,null,null,null,null,null,null,null,null,null,null,null,null,null,null,0,0,null,null,0,0]
[null,null,null,null,null,null,null,null,null,null,null,null,null,null,null,null,null,0,0,null,null,0,0]
[null,null,null,null,null,null,null,null,null,null,null,null,null,null,null,null,null,0,0,null,null,0,0]
[null,null,null,null,null,null,null,null,null,null,null,null,null,null,null,null,null,0,0,null,null,0,0]
[null,null,null,null,null,null,null,null,null,null,null,null,null,null,null,null,null,0,0,null,null,0,0]
[null,null,null,null,null,null,null,null,null,null,null,null,null,null,null,null,null,0,0,null,null,0,0]
[null,null,null,null,null,null,null,null,null,null,null,null,null,null,null,null,null,0,0,null,null,0,0]
[null,null,null,null,null,null,null,null,null,null,null,null,null,null,null,null,null,0,0,null,null,0,0]
[null,null,null,null,null,null,null,null,null,null,null,null,null,null,null,null,null,0,0,null,null,0,0]
[null,null,null,null,null,null,null,null,null,null,null,null,null,null,null,null,null,0,0,null,null,0,0]
[null,null,null,null,null,null,null,null,null,null,null,null,null,null,null,null,null,0,0,null,null,0,0]
[null,null,null,null,null,null,null,null,null,null,null,null,null,null,null,null,null,0,0,null,null,0,0]
[null,null,null,null,null,null,null,null,null,null,null,null,null,null,null,null,null,0,0,null,null,0,0]
[null,null,null,null,null,null,null,null,null,null,null,null,null,null,null,null,null,0,0,null,null,0,0]
[null,null,null,null,null,null,null,null,null,null,null,null,null,null,null,null,null,0,0,null,null,0,0]
[null,null,null,null,null,null,null,null,null,null,null,null,null,null,null,null,null,0,0,null,null,0,0]
[null,null,null,null,null,null,null,null,null,null,null,null,null,null,null,null,null,0,0,null,null,0,0]
[null,null,null,null,null,null,null,null,null,null,null,null,null,null,null,null,null,0,0,null,null,0,0]
[null,null,null,null,null,null,null,null,null,null,null,null,null,null,null,null,null,0,0,null,null,0,0]
[null,null,null,null,null,null,null,null,null,null,null,null,null,null,null,null,null,0,0,null,null,0,0]
[null,null,null,null,null,null,null,null,null,null,null,null,null,null,null,null,null,0,0,null,null,0,0]
[null,null,null,null,null,null,null,null,null,null,null,null,null,null,null,null,null,0,0,null,null,0,0]
[null,null,null,null,null,null,null,null,null,null,null,null,null,null,null,null,null,0,0,null,null,0,0]
[null,"Totais",null,null,null,null,{"$f":"F16*G16+F17*G17+F18*G18+F19*G19+F20*G20+F21*G21+F22*G22+F23*G23+F24*G24+F25*G25+F26*G26+F27*G27+F28*G28+F29*G29+F30*G30+F31*G31+F32*G32+F33*G33+F34*G34+F35*G35+F36*G36+F37*G37+F38*G38+F39*G39+F40*G40","v":0},null,{"$f":"H16*I16+H17*I17+H18*I18+H19*I19+H20*I20+H21*I21+H22*I22+H23*I23+H24*I24+H25*I25+H26*I26+H27*I27+H28*I28+H29*I29+H30*I30+H31*I31+H32*I32+H33*I33+H34*I34+H35*I35+H36*I36+H37*I37+H38*I38+H39*I39+H40*I40","v":0},null,{"$f":"J16*K16+J17*K17+J18*K18+J19*K19+J20*K20+J21*K21+J22*K22+J23*K23+J24*K24+J25*K25+J26*K26+J27*K27+J28*K28+J29*K29+J30*K30+J31*K31+J32*K32+J33*K33+J34*K34+J35*K35+J36*K36+J37*K37+J38*K38+J39*K39+J40*K40","v":0},null,{"$f":"L16*M16+L17*M17+L18*M18+L19*M19+L20*M20+L21*M21+L22*M22+L23*M23+L24*M24+L25*M25+L26*M26+L27*M27+L28*M28+L29*M29+L30*M30+L31*M31+L32*M32+L33*M33+L34*M34+L35*M35+L36*M36+L37*M37+L38*M38+L39*M39+L40*M40","v":0},null,{"$f":"N16*O16+N17*O17+N18*O18+N19*O19+N20*O20+N21*O21+N22*O22+N23*O23+N24*O24+N25*O25+N26*O26+N27*O27+N28*O28+N29*O29+N30*O30+N31*O31+N32*O32+N33*O33+N34*O34+N35*O35+N36*O36+N37*O37+N38*O38+N39*O39+N40*O40","v":0},null,{"$f":"P16*Q16+P17*Q17+P18*Q18+P19*Q19+P20*Q20+P21*Q21+P22*Q22+P23*Q23+P24*Q24+P25*Q25+P26*Q26+P27*Q27+P28*Q28+P29*Q29+P30*Q30+P31*Q31+P32*Q32+P33*Q33+P34*Q34+P35*Q35+P36*Q36+P37*Q37+P38*Q38+P39*Q39+P40*Q40","v":0},null,{"$f":"SUM(S16:S40)","v":0},null,{"$f":"T16*U16+T17*U17+T18*U18+T19*U19+T20*U20+T21*U21+T22*U22+T23*U23+T24*U24+T25*U25+T26*U26+T27*U27+T28*U28+T29*U29+T30*U30+T31*U31+T32*U32+T33*U33+T34*U34+T35*U35+T36*U36+T37*U37+T38*U38+T39*U39+T40*U40","v":0},null,{"$f":"SUM(W16:W40)","v":0}]
[]
[null,"Insumos",null,null,null,null,null,null,null,null,null,null,null,null,"OBS:"]
[null,"Comprados - Consumos Intermediários ",null,null,null,null,null,null,null,"Observações"]
[null,"Itens",null,null,"Unidade","Valor Unitário","Qtde","Valor Total","Origem"]
[null,null,null,null,null,null,null,{"$f":"G46*F46","v":0}]
[null,null,null,null,null,null,null,{"$f":"G47*F47","v":0}]
[null,null,null,null,null,null,null,0]
[null,null,null,null,null,null,null,0]
[null,null,null,null,null,null,null,0]
[null,null,null,null,null,null,null,0]
[null,null,null,null,null,null,null,0]
[null,null,null,null,null,null,null,0]
[null,null,null,null,null,null,null,0]
[null,null,null,null,null,null,null,0]
[null,null,null,null,null,null,null,0]
[null,null,null,null,null,null,null,0]
[null,null,null,null,null,null,null,0]
[null,null,null,null,null,null,null,0]
[null,null,null,null,null,null,null,0]
[null,null,null,null,null,null,null,0]
[null,null,null,null,null,null,null,0]
[null,null,null,null,null,null,null,0]
[null,null,null,null,null,null,null,0]
[null,null,null,null,null,null,null,0]
[null," Insumos Comprados no Território",null,null,null,null,null,{"$f":"DSUM(H45:I65,\"Valor Total\",G167:G168)","v":0}]
[null," Insumos Comprados Fora do Território",null,null,null,null,null,{"$f":"DSUM(H45:I65,\"Valor Total\",H167:H168)","v":0}]
[null,"Total de Insumos Comprados",null,null,null,null,null,{"$f":"SUM(H46:H65)","v":0}]
[null,"Produção Própria - Reciprocidade Ecológica",null,null,null,null,null,null,"Observações",null,null,null,null,null,"OBS:"]
[null,"Itens",null,null,"Unidade","Valor Unitário","Qtde","Valor Total"]
[null,null,null,null,null,null,null,{"$f":"G71*F71","v":0}]
[null,null,null,null,null,null,null,{"$f":"G72*F72","v":0}]
[null,null,null,null,null,null,null,0]
[null,null,null,null,null,null,null,0]
[null,null,null,null,null,null,null,0]
[null,null,null,null,null,null,null,0]
[null,null,null,null,null,null,null,0]
[null,null,null,null,null,null,null,0]
[null,null,null,null,null,null,null,0]
[null,null,null,null,null,null,null,0]
[null,null,null,null,null,null,null,0]
[null,null,null,null,null,null,null,0]
[null,null,null,null,null,null,null,0]
[null,null,null,null,null,null,null,0]
[null,null,null,null,null,null,null,0]
[null,"Total Insumos -  Produção Própria",null,null,null,null,null,{"$f":"SUM(H71:H85)","v":0}]
[null,"Entrada de Insumos por Reciprocidade Social",null,null,null,null,null,null,"Observações",null,null,null,null,null,"OBS:"]
[null,"insumos",null,null,"Unidade","Valor Unitário","Qtde","Valor Total"]
[null,null,null,null,null,null,null,{"$f":"G89*F89","v":0}]
[null,null,null,null,null,null,null,0]
[null,null,null,null,null,null,null,0]
[null,null,null,null,null,null,null,0]
[null,null,null,null,null,null,null,0]
[null,null,null,null,null,null,null,0]
[null,null,null,null,null,null,null,0]
[null,null,null,null,null,null,null,0]
[null,null,null,null,null,null,null,0]
[null,null,null,null,null,null,null,0]
[null,null,null,null,null,null,null,0]
[null,null,null,null,null,null,null,0]
[null,null,null,null,null,null,null,0]
[null,null,null,null,null,null,null,0]
[null,null,null,null,null,null,null,0]
[null,"Total Recursos por Reciprocidade",null,null,null,null,null,{"$f":"SUM(H89:H103)","v":0}]
[]
[null,"Serviços de Terceiros",null,null,null,null,null,null,null,null,null,null,null,null,"OBS:"]
[null,"Pagamento a Terceiros",null,null,null,null,null,null,null,"Observações"]
[null,"Serviços/Renda da Terra",null,null,"Unidade","Valor Unitário","Qtde","Valor Total","Origem"]
[null,null,null,null,null,null,null,{"$f":"G109*F109","v":0}]
[null,null,null,null,null,null,null,0]
[null,null,null,null,null,null,null,0]
[null,null,null,null,null,null,null,0]
[null,null,null,null,null,null,null,0]
[null,null,null,null,null,null,null,0]
[null,null,null,null,null,null,null,0]
[null,null,null,null,null,null,null,0]
[null,null,null,null,null,null,null,0]
[null,null,null,null,null,null,null,0]
[null,null,null,null,null,null,null,0]
[null,null,null,null,null,null,null,0]
[null,null,null,null,null,null,null,0]
[null,null,null,null,null,null,null,0]
[null,null,null,null,null,null,null,0]
[null,"Pagamentos a Terceiros do Território",null,null,null,null,null,{"$f":"DSUM(H108:I123,\"Valor Total\",G167:G168)","v":0}]
[null,"Pagamentos a Terceiros Fora do Território",null,null,null,null,null,{"$f":"DSUM(H108:I123,\"Valor Total\",H167:H168)","v":0}]
[null,"Total de Pagamentos a Terceiros ",null,null,null,null,null,{"$f":"SUM(H109:H123)","v":0}]
[null,"Serviços por  Reciprocidade Social",null,null,null,null,null,null,"Observações",null,null,null,null,null,"OBS:"]
[null,"Serviços",null,null,"Unidade","Valor Unitário","Qtde","Valor Total"]
[null,null,null,null,null,null,null,{"$f":"G129*F129","v":0}]
[null,null,null,null,null,null,null,0]
[null,null,null,null,null,null,null,0]
[null,null,null,null,null,null,null,0]
[null,null,null,null,null,null,null,0]
[null,null,null,null,null,null,null,0]
[null,null,null,null,null,null,null,0]
[null,null,null,null,null,null,null,0]
[null,null,null,null,null,null,null,0]
[null,null,null,null,null,null,null,0]
[null,null,null,null,null,null,null,0]
[null,null,null,null,null,null,null,0]
[null,null,null,null,null,null,null,0]
[null,null,null,null,null,null,null,0]
[null,null,null,null,null,null,null,0]
[null,"Total Recursos por Reciprocidade",null,null,null,null,null,{"$f":"SUM(H129:H143)","v":0}]
[]
[null,"Horas trabalhadas pelos Membros do NSGA",null,null,null,null,null,null,null,null,null,null,null,null,"OBS:"]
[null,null,null,null,"Membros do NSGA",null,null,null,null,null,null,null,"Total"]
[null,"Atividade",null,null,1,2,3,4,5,6,7,8]
[null,null,null,null,{"$f":"Agroecossistema!B15","v":0},{"$f":"Agroecossistema!B16","v":0},{"$f":"Agroecossistema!B17","v":0},{"$f":"Agroecossistema!B18","v":0},{"$f":"Agroecossistema!B19","v":0},{"$f":"Agroecossistema!B20","v":0},{"$f":"Agroecossistema!B21","v":0},{"$f":"Agroecossistema!B22","v":0}]
[null,null,null,null,null,null,null,null,null,null,null,null,{"$f":"SUM(E150:L150)","v":0}]
[null,null,null,null,null,null,null,null,null,null,null,null,{"$f":"SUM(E151:L151)","v":0}]
[null,null,null,null,null,null,null,null,null,null,null,null,0]
[null,null,null,null,null,null,null,null,null,null,null,null,0]
[null,null,null,null,null,null,null,null,null,null,null,null,0]
[null,null,null,null,null,null,null,null,null,null,null,null,0]
[null,null,null,null,null,null,null,null,null,null,null,null,0]
[null,null,null,null,null,null,null,null,null,null,null,null,0]
[null,null,null,null,null,null,null,null,null,null,null,null,0]
[null,null,null,null,null,null,null,null,null,null,null,null,0]
[null,null,null,null,null,null,null,null,null,null,null,null,0]
[null,null,null,null,null,null,null,null,null,null,null,null,0]
[null,null,null,null,null,null,null,null,null,null,null,null,0]
[null,null,null,null,null,null,null,null,null,null,null,null,0]
[null,null,null,null,null,null,null,null,null,null,null,null,0]
[null,"Total horas ",null,null,{"$f":"SUM(E150:E164)","v":0},{"$f":"SUM(F150:F164)","v":0},0,0,0,0,0,0,0]
[]
[null,null,null,null,null,null,"Origem","Origem"]
[null,null,null,null,null,null,"T","F"]

{"sheet":"SUB. 11","index":15,"n_rows":168,"n_cols":24,"rows_kept":168,"cut":false,"hidden":false,"merged":[[163,1,163,3],[164,1,164,3],[157,1,157,3],[158,1,158,3],[159,1,159,3],[160,1,160,3],[161,1,161,3],[162,1,162,3],[146,14,164,21],[147,1,148,3],[149,1,149,3],[150,1,150,3],[151,1,151,3],[152,1,152,3],[153,1,153,3],[154,1,154,3],[155,1,155,3],[156,1,156,3],[143,1,143,3],[143,8,143,12],[145,1,145,12],[146,1,146,3],[146,4,146,11],[146,12,148,12],[140,1,140,3],[140,8,140,12],[141,1,141,3],[141,8,141,12],[142,1,142,3],[142,8,142,12],[138,1,138,3],[138,8,138,12],[139,1,139,3],[139,8,139,12],[134,1,134,3],[134,8,134,12],[135,1,135,3],[135,8,135,12],[136,1,136,3],[136,8,136,12],[132,8,132,12],[133,1,133,3],[133,8,133,12],[125,4,125,6],[126,1,126,7],[126,8,127,12],[127,1,127,3],[137,1,137,3],[137,8,137,12],[116,1,116,3],[116,9,116,12],[117,1,117,3],[117,9,117,12],[127,14,143,21],[128,1,128,3],[128,8,128,12],[129,1,129,3],[129,8,129,12],[130,1,130,3],[121,1,121,3],[121,9,121,12],[122,1,122,3],[122,9,122,12],[123,1,123,3],[123,4,123,6],[123,9,125,12],[124,1,124,3],[124,4,124,6],[125,1,125,3],[130,8,130,12],[131,1,131,3],[131,8,131,12],[132,1,132,3],[112,1,112,3],[112,9,112,12],[113,1,113,3],[113,9,113,12],[114,1,114,3],[114,9,114,12],[106,14,125,21],[107,1,107,3],[108,1,108,3],[108,9,108,12],[109,1,109,3],[109,9,109,12],[110,1,110,3],[110,9,110,12],[111,1,111,3],[111,9,111,12],[118,1,118,3],[118,9,118,12],[119,1,119,3],[119,9,119,12],[120,1,120,3],[120,9,120,12],[115,1,115,3],[115,9,115,12],[102,1,102,3],[102,8,102,12],[103,1,103,3],[103,8,103,12],[105,1,105,12],[106,1,106,8],[106,9,107,12],[99,1,99,3],[99,8,99,12],[100,1,100,3],[100,8,100,12],[101,1,101,3],[101,8,101,12],[96,8,96,12],[97,1,97,3],[97,8,97,12],[98,1,98,3],[98,8,98,12],[93,1,93,3],[93,8,93,12],[94,1,94,3],[94,8,94,12],[95,1,95,3],[95,8,95,12],[87,14,103,21],[88,1,88,3],[88,8,88,12],[89,1,89,3],[89,8,89,12],[82,1,82,3],[82,8,82,12],[83,1,83,3],[83,8,83,12],[84,1,84,3],[84,8,84,12],[69,14,85,21],[90,1,90,3],[90,8,90,12],[91,1,91,3],[91,8,91,12],[92,1,92,3],[92,8,92,12],[85,1,85,3],[85,8,85,12],[86,1,86,7],[86,8,87,12],[87,1,87,3],[96,1,96,3],[79,1,79,3],[79,8,79,12],[80,1,80,3],[80,8,80,12],[81,1,81,3],[81,8,81,12],[76,1,76,3],[76,8,76,12],[77,1,77,3],[77,8,77,12],[78,1,78,3],[78,8,78,12],[72,8,72,12],[73,1,73,3],[73,8,73,12],[74,1,74,3],[74,8,74,12],[75,1,75,3],[75,8,75,12],[67,4,67,6],[68,1,68,7],[68,8,69,12],[69,1,69,3],[70,1,70,3],[70,8,70,12],[71,1,71,3],[71,8,71,12],[72,1,72,3],[63,1,63,3],[63,9,63,12],[64,1,64,3],[64,9,64,12],[65,1,65,3],[65,4,65,6],[65,9,67,12],[66,1,66,3],[66,4,66,6],[67,1,67,3],[60,1,60,3],[60,9,60,12],[61,1,61,3],[61,9,61,12],[62,1,62,3],[62,9,62,12],[57,1,57,3],[57,9,57,12],[58,1,58,3],[58,9,58,12],[59,1,59,3],[59,9,59,12],[54,9,54,12],[55,1,55,3],[55,9,55,12],[56,1,56,3],[56,9,56,12],[51,1,51,3],[51,9,51,12],[52,1,52,3],[52,9,52,12],[53,1,53,3],[53,9,53,12],[43,14,66,21],[44,1,44,3],[45,1,45,3],[45,9,45,12],[46,1,46,3],[46,9,46,12],[47,1,47,3],[38,1,38,3],[38,23,38,24],[39,1,39,3],[39,23,39,24],[40,1,40,3],[40,23,40,24],[47,9,47,12],[48,1,48,3],[48,9,48,12],[49,1,49,3],[49,9,49,12],[50,1,50,3],[50,9,50,12],[42,1,42,12],[43,1,43,8],[43,9,44,12],[54,1,54,3],[35,1,35,3],[35,23,35,24],[36,1,36,3],[36,23,36,24],[37,1,37,3],[37,23,37,24],[32,1,32,3],[32,23,32,24],[33,1,33,3],[33,23,33,24],[34,1,34,3],[34,23,34,24],[29,1,29,3],[29,23,29,24],[30,1,30,3],[30,23,30,24],[31,1,31,3],[31,23,31,24],[26,1,26,3],[26,23,26,24],[27,1,27,3],[27,23,27,24],[28,1,28,3],[28,23,28,24],[23,1,23,3],[23,23,23,24],[24,1,24,3],[24,23,24,24],[25,1,25,3],[25,23,25,24],[20,1,20,3],[20,23,20,24],[21,1,21,3],[21,23,21,24],[22,1,22,3],[22,23,22,24],[17,1,17,3],[17,23,17,24],[18,1,18,3],[18,23,18,24],[19,1,19,3],[19,23,19,24],[13,19,13,20],[14,1,14,3],[15,1,15,3],[15,23,15,24],[16,1,16,3],[16,23,16,24],[13,7,13,8],[13,9,13,10],[13,11,13,12],[13,13,13,14],[13,15,13,16],[13,17,13,18],[1,1,1,24],[5,1,5,2],[5,3,5,4],[5,8,10,22],[12,1,13,4],[12,5,12,16],[12,19,12,20],[12,21,13,22],[12,23,14,24],[13,5,13,6]]}
[]
[null,"ENTRADA DE DADOS POR SUBSISTEMA"]
[]
[]
[]
[null,"Subsistema n° 11:",null,null,null,null,null,"OBS"]
[]
[null,"ÁREA",null,"hectare(s)"]
[]
[]
[]
[]
[null,"Produtos e Insumos Gerados",null,null,null,"Produtos",null,null,null,null,null,null,null,null,null,null,null,null,null,"Insumos Produzidos",null,"Total Produtos e Insumos",null,"Observações"]
[null,null,null,null,null,"Mercado Convencional",null,"Mercado territorial",null,"Mercado Institucional",null,"Autoconsumo",null,"Doações Trocas",null,"Estoque",null,"Total Produtos",null,"Total Insumos"]
[null,"Itens",null,null,"Unidade","Qtde","Valor Unitário","Qtde","Valor Unitário","Qtde","Valor Unitário","Qtde","Valor Unitário","Qtde","Valor Unitário","Qtde","Valor Unitário","Qtde","Valor Total","Qtde","valor Unitário","Qtde","Valor Total"]
[null,null,null,null,null,null,null,null,null,null,null,null,null,null,null,null,null,{"$f":"J16+L16+N16+P16+H16+F16","v":0},{"$f":"(F16*G16)+(H16*I16)+(J16*K16)+(L16*M16)+(N16*O16)+(P16+Q16)","v":0},null,null,{"$f":"R16+T16","v":0},{"$f":"S16+(T16*U16)","v":0}]
[null,null,null,null,null,null,null,null,null,null,null,null,null,null,null,null,null,{"$f":"J17+L17+N17+P17+H17+F17","v":0},{"$f":"(F17*G17)+(H17*I17)+(J17*K17)+(L17*M17)+(N17*O17)+(P17+Q17)","v":0},null,null,{"$f":"R17+T17","v":0},{"$f":"S17+(T17*U17)","v":0}]
[null,null,null,null,null,null,null,null,null,null,null,null,null,null,null,null,null,0,0,null,null,0,0]
[null,null,null,null,null,null,null,null,null,null,null,null,null,null,null,null,null,0,0,null,null,0,0]
[null,null,null,null,null,null,null,null,null,null,null,null,null,null,null,null,null,0,0,null,null,0,0]
[null,null,null,null,null,null,null,null,null,null,null,null,null,null,null,null,null,0,0,null,null,0,0]
[null,null,null,null,null,null,null,null,null,null,null,null,null,null,null,null,null,0,0,null,null,0,0]
[null,null,null,null,null,null,null,null,null,null,null,null,null,null,null,null,null,0,0,null,null,0,0]
[null,null,null,null,null,null,null,null,null,null,null,null,null,null,null,null,null,0,0,null,null,0,0]
[null,null,null,null,null,null,null,null,null,null,null,null,null,null,null,null,null,0,0,null,null,0,0]
[null,null,null,null,null,null,null,null,null,null,null,null,null,null,null,null,null,0,0,null,null,0,0]
[null,null,null,null,null,null,null,null,null,null,null,null,null,null,null,null,null,0,0,null,null,0,0]
[null,null,null,null,null,null,null,null,null,null,null,null,null,null,null,null,null,0,0,null,null,0,0]
[null,null,null,null,null,null,null,null,null,null,null,null,null,null,null,null,null,0,0,null,null,0,0]
[null,null,null,null,null,null,null,null,null,null,null,null,null,null,null,null,null,0,0,null,null,0,0]
[null,null,null,null,null,null,null,null,null,null,null,null,null,null,null,null,null,0,0,null,null,0,0]
[null,null,null,null,null,null,null,null,null,null,null,null,null,null,null,null,null,0,0,null,null,0,0]
[null,null,null,null,null,null,null,null,null,null,null,null,null,null,null,null,null,0,0,null,null,0,0]
[null,null,null,null,null,null,null,null,null,null,null,null,null,null,null,null,null,0,0,null,null,0,0]
[null,null,null,null,null,null,null,null,null,null,null,null,null,null,null,null,null,0,0,null,null,0,0]
[null,null,null,null,null,null,null,null,null,null,null,null,null,null,null,null,null,0,0,null,null,0,0]
[null,null,null,null,null,null,null,null,null,null,null,null,null,null,null,null,null,0,0,null,null,0,0]
[null,null,null,null,null,null,null,null,null,null,null,null,null,null,null,null,null,0,0,null,null,0,0]
[null,null,null,null,null,null,null,null,null,null,null,null,null,null,null,null,null,0,0,null,null,0,0]
[null,null,null,null,null,null,null,null,null,null,null,null,null,null,null,null,null,0,0,null,null,0,0]
[null,"Totais",null,null,null,null,{"$f":"F16*G16+F17*G17+F18*G18+F19*G19+F20*G20+F21*G21+F22*G22+F23*G23+F24*G24+F25*G25+F26*G26+F27*G27+F28*G28+F29*G29+F30*G30+F31*G31+F32*G32+F33*G33+F34*G34+F35*G35+F36*G36+F37*G37+F38*G38+F39*G39+F40*G40","v":0},null,{"$f":"H16*I16+H17*I17+H18*I18+H19*I19+H20*I20+H21*I21+H22*I22+H23*I23+H24*I24+H25*I25+H26*I26+H27*I27+H28*I28+H29*I29+H30*I30+H31*I31+H32*I32+H33*I33+H34*I34+H35*I35+H36*I36+H37*I37+H38*I38+H39*I39+H40*I40","v":0},null,{"$f":"J16*K16+J17*K17+J18*K18+J19*K19+J20*K20+J21*K21+J22*K22+J23*K23+J24*K24+J25*K25+J26*K26+J27*K27+J28*K28+J29*K29+J30*K30+J31*K31+J32*K32+J33*K33+J34*K34+J35*K35+J36*K36+J37*K37+J38*K38+J39*K39+J40*K40","v":0},null,{"$f":"L16*M16+L17*M17+L18*M18+L19*M19+L20*M20+L21*M21+L22*M22+L23*M23+L24*M24+L25*M25+L26*M26+L27*M27+L28*M28+L29*M29+L30*M30+L31*M31+L32*M32+L33*M33+L34*M34+L35*M35+L36*M36+L37*M37+L38*M38+L39*M39+L40*M40","v":0},null,{"$f":"N16*O16+N17*O17+N18*O18+N19*O19+N20*O20+N21*O21+N22*O22+N23*O23+N24*O24+N25*O25+N26*O26+N27*O27+N28*O28+N29*O29+N30*O30+N31*O31+N32*O32+N33*O33+N34*O34+N35*O35+N36*O36+N37*O37+N38*O38+N39*O39+N40*O40","v":0},null,{"$f":"P16*Q16+P17*Q17+P18*Q18+P19*Q19+P20*Q20+P21*Q21+P22*Q22+P23*Q23+P24*Q24+P25*Q25+P26*Q26+P27*Q27+P28*Q28+P29*Q29+P30*Q30+P31*Q31+P32*Q32+P33*Q33+P34*Q34+P35*Q35+P36*Q36+P37*Q37+P38*Q38+P39*Q39+P40*Q40","v":0},null,{"$f":"SUM(S16:S40)","v":0},null,{"$f":"T16*U16+T17*U17+T18*U18+T19*U19+T20*U20+T21*U21+T22*U22+T23*U23+T24*U24+T25*U25+T26*U26+T27*U27+T28*U28+T29*U29+T30*U30+T31*U31+T32*U32+T33*U33+T34*U34+T35*U35+T36*U36+T37*U37+T38*U38+T39*U39+T40*U40","v":0},null,{"$f":"SUM(W16:W40)","v":0}]
[]
[null,"Insumos",null,null,null,null,null,null,null,null,null,null,null,null,"OBS:"]
[null,"Comprados - Consumos Intermediários ",null,null,null,null,null,null,null,"Observações"]
[null,"Itens",null,null,"Unidade","Valor Unitário","Qtde","Valor Total","Origem"]
[null,null,null,null,null,null,null,{"$f":"G46*F46","v":0}]
[null,null,null,null,null,null,null,{"$f":"G47*F47","v":0}]
[null,null,null,null,null,null,null,0]
[null,null,null,null,null,null,null,0]
[null,null,null,null,null,null,null,0]
[null,null,null,null,null,null,null,0]
[null,null,null,null,null,null,null,0]
[null,null,null,null,null,null,null,0]
[null,null,null,null,null,null,null,0]
[null,null,null,null,null,null,null,0]
[null,null,null,null,null,null,null,0]
[null,null,null,null,null,null,null,0]
[null,null,null,null,null,null,null,0]
[null,null,null,null,null,null,null,0]
[null,null,null,null,null,null,null,0]
[null,null,null,null,null,null,null,0]
[null,null,null,null,null,null,null,0]
[null,null,null,null,null,null,null,0]
[null,null,null,null,null,null,null,0]
[null,null,null,null,null,null,null,0]
[null," Insumos Comprados no Território",null,null,null,null,null,{"$f":"DSUM(H45:I65,\"Valor Total\",G167:G168)","v":0}]
[null," Insumos Comprados Fora do Território",null,null,null,null,null,{"$f":"DSUM(H45:I65,\"Valor Total\",H167:H168)","v":0}]
[null,"Total de Insumos Comprados",null,null,null,null,null,{"$f":"SUM(H46:H65)","v":0}]
[null,"Produção Própria - Reciprocidade Ecológica",null,null,null,null,null,null,"Observações",null,null,null,null,null,"OBS:"]
[null,"Itens",null,null,"Unidade","Valor Unitário","Qtde","Valor Total"]
[null,null,null,null,null,null,null,{"$f":"G71*F71","v":0}]
[null,null,null,null,null,null,null,{"$f":"G72*F72","v":0}]
[null,null,null,null,null,null,null,0]
[null,null,null,null,null,null,null,0]
[null,null,null,null,null,null,null,0]
[null,null,null,null,null,null,null,0]
[null,null,null,null,null,null,null,0]
[null,null,null,null,null,null,null,0]
[null,null,null,null,null,null,null,0]
[null,null,null,null,null,null,null,0]
[null,null,null,null,null,null,null,0]
[null,null,null,null,null,null,null,0]
[null,null,null,null,null,null,null,0]
[null,null,null,null,null,null,null,0]
[null,null,null,null,null,null,null,0]
[null,"Total Insumos -  Produção Própria",null,null,null,null,null,{"$f":"SUM(H71:H85)","v":0}]
[null,"Entrada de Insumos por Reciprocidade Social",null,null,null,null,null,null,"Observações",null,null,null,null,null,"OBS:"]
[null,"insumos",null,null,"Unidade","Valor Unitário","Qtde","Valor Total"]
[null,null,null,null,null,null,null,{"$f":"G89*F89","v":0}]
[null,null,null,null,null,null,null,0]
[null,null,null,null,null,null,null,0]
[null,null,null,null,null,null,null,0]
[null,null,null,null,null,null,null,0]
[null,null,null,null,null,null,null,0]
[null,null,null,null,null,null,null,0]
[null,null,null,null,null,null,null,0]
[null,null,null,null,null,null,null,0]
[null,null,null,null,null,null,null,0]
[null,null,null,null,null,null,null,0]
[null,null,null,null,null,null,null,0]
[null,null,null,null,null,null,null,0]
[null,null,null,null,null,null,null,0]
[null,null,null,null,null,null,null,0]
[null,"Total Recursos por Reciprocidade",null,null,null,null,null,{"$f":"SUM(H89:H103)","v":0}]
[]
[null,"Serviços de Terceiros",null,null,null,null,null,null,null,null,null,null,null,null,"OBS:"]
[null,"Pagamento a Terceiros",null,null,null,null,null,null,null,"Observações"]
[null,"Serviços/Renda da Terra",null,null,"Unidade","Valor Unitário","Qtde","Valor Total","Origem"]
[null,null,null,null,null,null,null,{"$f":"G109*F109","v":0}]
[null,null,null,null,null,null,null,0]
[null,null,null,null,null,null,null,0]
[null,null,null,null,null,null,null,0]
[null,null,null,null,null,null,null,0]
[null,null,null,null,null,null,null,0]
[null,null,null,null,null,null,null,0]
[null,null,null,null,null,null,null,0]
[null,null,null,null,null,null,null,0]
[null,null,null,null,null,null,null,0]
[null,null,null,null,null,null,null,0]
[null,null,null,null,null,null,null,0]
[null,null,null,null,null,null,null,0]
[null,null,null,null,null,null,null,0]
[null,null,null,null,null,null,null,0]
[null,"Pagamentos a Terceiros do Território",null,null,null,null,null,{"$f":"DSUM(H108:I123,\"Valor Total\",G167:G168)","v":0}]
[null,"Pagamentos a Terceiros Fora do Território",null,null,null,null,null,{"$f":"DSUM(H108:I123,\"Valor Total\",H167:H168)","v":0}]
[null,"Total de Pagamentos a Terceiros ",null,null,null,null,null,{"$f":"SUM(H109:H123)","v":0}]
[null,"Serviços por  Reciprocidade Social",null,null,null,null,null,null,"Observações",null,null,null,null,null,"OBS:"]
[null,"Serviços",null,null,"Unidade","Valor Unitário","Qtde","Valor Total"]
[null,null,null,null,null,null,null,{"$f":"G129*F129","v":0}]
[null,null,null,null,null,null,null,0]
[null,null,null,null,null,null,null,0]
[null,null,null,null,null,null,null,0]
[null,null,null,null,null,null,null,0]
[null,null,null,null,null,null,null,0]
[null,null,null,null,null,null,null,0]
[null,null,null,null,null,null,null,0]
[null,null,null,null,null,null,null,0]
[null,null,null,null,null,null,null,0]
[null,null,null,null,null,null,null,0]
[null,null,null,null,null,null,null,0]
[null,null,null,null,null,null,null,0]
[null,null,null,null,null,null,null,0]
[null,null,null,null,null,null,null,0]
[null,"Total Recursos por Reciprocidade",null,null,null,null,null,{"$f":"SUM(H129:H143)","v":0}]
[]
[null,"Horas trabalhadas pelos Membros do NSGA",null,null,null,null,null,null,null,null,null,null,null,null,"OBS:"]
[null,null,null,null,"Membros do NSGA",null,null,null,null,null,null,null,"Total"]
[null,"Atividade",null,null,1,2,3,4,5,6,7,8]
[null,null,null,null,{"$f":"Agroecossistema!B15","v":0},{"$f":"Agroecossistema!B16","v":0},{"$f":"Agroecossistema!B17","v":0},{"$f":"Agroecossistema!B18","v":0},{"$f":"Agroecossistema!B19","v":0},{"$f":"Agroecossistema!B20","v":0},{"$f":"Agroecossistema!B21","v":0},{"$f":"Agroecossistema!B22","v":0}]
[null,null,null,null,null,null,null,null,null,null,null,null,{"$f":"SUM(E150:L150)","v":0}]
[null,null,null,null,null,null,null,null,null,null,null,null,{"$f":"SUM(E151:L151)","v":0}]
[null,null,null,null,null,null,null,null,null,null,null,null,0]
[null,null,null,null,null,null,null,null,null,null,null,null,0]
[null,null,null,null,null,null,null,null,null,null,null,null,0]
[null,null,null,null,null,null,null,null,null,null,null,null,0]
[null,null,null,null,null,null,null,null,null,null,null,null,0]
[null,null,null,null,null,null,null,null,null,null,null,null,0]
[null,null,null,null,null,null,null,null,null,null,null,null,0]
[null,null,null,null,null,null,null,null,null,null,null,null,0]
[null,null,null,null,null,null,null,null,null,null,null,null,0]
[null,null,null,null,null,null,null,null,null,null,null,null,0]
[null,null,null,null,null,null,null,null,null,null,null,null,0]
[null,null,null,null,null,null,null,null,null,null,null,null,0]
[null,null,null,null,null,null,null,null,null,null,null,null,0]
[null,"Total horas ",null,null,{"$f":"SUM(E150:E164)","v":0},{"$f":"SUM(F150:F164)","v":0},0,0,0,0,0,0,0]
[]
[null,null,null,null,null,null,"Origem","Origem"]
[null,null,null,null,null,null,"T","F"]

{"sheet":"SUB. 12","index":16,"n_rows":168,"n_cols":24,"rows_kept":168,"cut":false,"hidden":false,"merged":[[163,1,163,3],[164,1,164,3],[157,1,157,3],[158,1,158,3],[159,1,159,3],[160,1,160,3],[161,1,161,3],[162,1,162,3],[146,14,164,21],[147,1,148,3],[149,1,149,3],[150,1,150,3],[151,1,151,3],[152,1,152,3],[153,1,153,3],[154,1,154,3],[155,1,155,3],[156,1,156,3],[143,1,143,3],[143,8,143,12],[145,1,145,12],[146,1,146,3],[146,4,146,11],[146,12,148,12],[140,1,140,3],[140,8,140,12],[141,1,141,3],[141,8,141,12],[142,1,142,3],[142,8,142,12],[138,1,138,3],[138,8,138,12],[139,1,139,3],[139,8,139,12],[134,1,134,3],[134,8,134,12],[135,1,135,3],[135,8,135,12],[136,1,136,3],[136,8,136,12],[132,8,132,12],[133,1,133,3],[133,8,133,12],[125,4,125,6],[126,1,126,7],[126,8,127,12],[127,1,127,3],[137,1,137,3],[137,8,137,12],[116,1,116,3],[116,9,116,12],[117,1,117,3],[117,9,117,12],[127,14,143,21],[128,1,128,3],[128,8,128,12],[129,1,129,3],[129,8,129,12],[130,1,130,3],[121,1,121,3],[121,9,121,12],[122,1,122,3],[122,9,122,12],[123,1,123,3],[123,4,123,6],[123,9,125,12],[124,1,124,3],[124,4,124,6],[125,1,125,3],[130,8,130,12],[131,1,131,3],[131,8,131,12],[132,1,132,3],[112,1,112,3],[112,9,112,12],[113,1,113,3],[113,9,113,12],[114,1,114,3],[114,9,114,12],[106,14,125,21],[107,1,107,3],[108,1,108,3],[108,9,108,12],[109,1,109,3],[109,9,109,12],[110,1,110,3],[110,9,110,12],[111,1,111,3],[111,9,111,12],[118,1,118,3],[118,9,118,12],[119,1,119,3],[119,9,119,12],[120,1,120,3],[120,9,120,12],[115,1,115,3],[115,9,115,12],[102,1,102,3],[102,8,102,12],[103,1,103,3],[103,8,103,12],[105,1,105,12],[106,1,106,8],[106,9,107,12],[99,1,99,3],[99,8,99,12],[100,1,100,3],[100,8,100,12],[101,1,101,3],[101,8,101,12],[96,8,96,12],[97,1,97,3],[97,8,97,12],[98,1,98,3],[98,8,98,12],[93,1,93,3],[93,8,93,12],[94,1,94,3],[94,8,94,12],[95,1,95,3],[95,8,95,12],[87,14,103,21],[88,1,88,3],[88,8,88,12],[89,1,89,3],[89,8,89,12],[82,1,82,3],[82,8,82,12],[83,1,83,3],[83,8,83,12],[84,1,84,3],[84,8,84,12],[69,14,85,21],[90,1,90,3],[90,8,90,12],[91,1,91,3],[91,8,91,12],[92,1,92,3],[92,8,92,12],[85,1,85,3],[85,8,85,12],[86,1,86,7],[86,8,87,12],[87,1,87,3],[96,1,96,3],[79,1,79,3],[79,8,79,12],[80,1,80,3],[80,8,80,12],[81,1,81,3],[81,8,81,12],[76,1,76,3],[76,8,76,12],[77,1,77,3],[77,8,77,12],[78,1,78,3],[78,8,78,12],[72,8,72,12],[73,1,73,3],[73,8,73,12],[74,1,74,3],[74,8,74,12],[75,1,75,3],[75,8,75,12],[67,4,67,6],[68,1,68,7],[68,8,69,12],[69,1,69,3],[70,1,70,3],[70,8,70,12],[71,1,71,3],[71,8,71,12],[72,1,72,3],[63,1,63,3],[63,9,63,12],[64,1,64,3],[64,9,64,12],[65,1,65,3],[65,4,65,6],[65,9,67,12],[66,1,66,3],[66,4,66,6],[67,1,67,3],[60,1,60,3],[60,9,60,12],[61,1,61,3],[61,9,61,12],[62,1,62,3],[62,9,62,12],[57,1,57,3],[57,9,57,12],[58,1,58,3],[58,9,58,12],[59,1,59,3],[59,9,59,12],[54,9,54,12],[55,1,55,3],[55,9,55,12],[56,1,56,3],[56,9,56,12],[51,1,51,3],[51,9,51,12],[52,1,52,3],[52,9,52,12],[53,1,53,3],[53,9,53,12],[43,14,66,21],[44,1,44,3],[45,1,45,3],[45,9,45,12],[46,1,46,3],[46,9,46,12],[47,1,47,3],[38,1,38,3],[38,23,38,24],[39,1,39,3],[39,23,39,24],[40,1,40,3],[40,23,40,24],[47,9,47,12],[48,1,48,3],[48,9,48,12],[49,1,49,3],[49,9,49,12],[50,1,50,3],[50,9,50,12],[42,1,42,12],[43,1,43,8],[43,9,44,12],[54,1,54,3],[35,1,35,3],[35,23,35,24],[36,1,36,3],[36,23,36,24],[37,1,37,3],[37,23,37,24],[32,1,32,3],[32,23,32,24],[33,1,33,3],[33,23,33,24],[34,1,34,3],[34,23,34,24],[29,1,29,3],[29,23,29,24],[30,1,30,3],[30,23,30,24],[31,1,31,3],[31,23,31,24],[26,1,26,3],[26,23,26,24],[27,1,27,3],[27,23,27,24],[28,1,28,3],[28,23,28,24],[23,1,23,3],[23,23,23,24],[24,1,24,3],[24,23,24,24],[25,1,25,3],[25,23,25,24],[20,1,20,3],[20,23,20,24],[21,1,21,3],[21,23,21,24],[22,1,22,3],[22,23,22,24],[17,1,17,3],[17,23,17,24],[18,1,18,3],[18,23,18,24],[19,1,19,3],[19,23,19,24],[13,19,13,20],[14,1,14,3],[15,1,15,3],[15,23,15,24],[16,1,16,3],[16,23,16,24],[13,7,13,8],[13,9,13,10],[13,11,13,12],[13,13,13,14],[13,15,13,16],[13,17,13,18],[1,1,1,24],[5,1,5,2],[5,3,5,4],[5,8,10,22],[12,1,13,4],[12,5,12,16],[12,19,12,20],[12,21,13,22],[12,23,14,24],[13,5,13,6]]}
[]
[null,"ENTRADA DE DADOS POR SUBSISTEMA"]
[]
[]
[]
[null,"Subsistema n° 12:",null,null,null,null,null,"OBS"]
[]
[null,"ÁREA",null,"hectare(s)"]
[]
[]
[]
[]
[null,"Produtos e Insumos Gerados",null,null,null,"Produtos",null,null,null,null,null,null,null,null,null,null,null,null,null,"Insumos Produzidos",null,"Total Produtos e Insumos",null,"Observações"]
[null,null,null,null,null,"Mercado Convencional",null,"Mercado territorial",null,"Mercado Institucional",null,"Autoconsumo",null,"Doações Trocas",null,"Estoque",null,"Total Produtos",null,"Total Insumos"]
[null,"Itens",null,null,"Unidade","Qtde","Valor Unitário","Qtde","Valor Unitário","Qtde","Valor Unitário","Qtde","Valor Unitário","Qtde","Valor Unitário","Qtde","Valor Unitário","Qtde","Valor Total","Qtde","valor Unitário","Qtde","Valor Total"]
[null,null,null,null,null,null,null,null,null,null,null,null,null,null,null,null,null,{"$f":"J16+L16+N16+P16+H16+F16","v":0},{"$f":"(F16*G16)+(H16*I16)+(J16*K16)+(L16*M16)+(N16*O16)+(P16+Q16)","v":0},null,null,{"$f":"R16+T16","v":0},{"$f":"S16+(T16*U16)","v":0}]
[null,null,null,null,null,null,null,null,null,null,null,null,null,null,null,null,null,{"$f":"J17+L17+N17+P17+H17+F17","v":0},{"$f":"(F17*G17)+(H17*I17)+(J17*K17)+(L17*M17)+(N17*O17)+(P17+Q17)","v":0},null,null,{"$f":"R17+T17","v":0},{"$f":"S17+(T17*U17)","v":0}]
[null,null,null,null,null,null,null,null,null,null,null,null,null,null,null,null,null,0,0,null,null,0,0]
[null,null,null,null,null,null,null,null,null,null,null,null,null,null,null,null,null,0,0,null,null,0,0]
[null,null,null,null,null,null,null,null,null,null,null,null,null,null,null,null,null,0,0,null,null,0,0]
[null,null,null,null,null,null,null,null,null,null,null,null,null,null,null,null,null,0,0,null,null,0,0]
[null,null,null,null,null,null,null,null,null,null,null,null,null,null,null,null,null,0,0,null,null,0,0]
[null,null,null,null,null,null,null,null,null,null,null,null,null,null,null,null,null,0,0,null,null,0,0]
[null,null,null,null,null,null,null,null,null,null,null,null,null,null,null,null,null,0,0,null,null,0,0]
[null,null,null,null,null,null,null,null,null,null,null,null,null,null,null,null,null,0,0,null,null,0,0]
[null,null,null,null,null,null,null,null,null,null,null,null,null,null,null,null,null,0,0,null,null,0,0]
[null,null,null,null,null,null,null,null,null,null,null,null,null,null,null,null,null,0,0,null,null,0,0]
[null,null,null,null,null,null,null,null,null,null,null,null,null,null,null,null,null,0,0,null,null,0,0]
[null,null,null,null,null,null,null,null,null,null,null,null,null,null,null,null,null,0,0,null,null,0,0]
[null,null,null,null,null,null,null,null,null,null,null,null,null,null,null,null,null,0,0,null,null,0,0]
[null,null,null,null,null,null,null,null,null,null,null,null,null,null,null,null,null,0,0,null,null,0,0]
[null,null,null,null,null,null,null,null,null,null,null,null,null,null,null,null,null,0,0,null,null,0,0]
[null,null,null,null,null,null,null,null,null,null,null,null,null,null,null,null,null,0,0,null,null,0,0]
[null,null,null,null,null,null,null,null,null,null,null,null,null,null,null,null,null,0,0,null,null,0,0]
[null,null,null,null,null,null,null,null,null,null,null,null,null,null,null,null,null,0,0,null,null,0,0]
[null,null,null,null,null,null,null,null,null,null,null,null,null,null,null,null,null,0,0,null,null,0,0]
[null,null,null,null,null,null,null,null,null,null,null,null,null,null,null,null,null,0,0,null,null,0,0]
[null,null,null,null,null,null,null,null,null,null,null,null,null,null,null,null,null,0,0,null,null,0,0]
[null,null,null,null,null,null,null,null,null,null,null,null,null,null,null,null,null,0,0,null,null,0,0]
[null,null,null,null,null,null,null,null,null,null,null,null,null,null,null,null,null,0,0,null,null,0,0]
[null,"Totais",null,null,null,null,{"$f":"F16*G16+F17*G17+F18*G18+F19*G19+F20*G20+F21*G21+F22*G22+F23*G23+F24*G24+F25*G25+F26*G26+F27*G27+F28*G28+F29*G29+F30*G30+F31*G31+F32*G32+F33*G33+F34*G34+F35*G35+F36*G36+F37*G37+F38*G38+F39*G39+F40*G40","v":0},null,{"$f":"H16*I16+H17*I17+H18*I18+H19*I19+H20*I20+H21*I21+H22*I22+H23*I23+H24*I24+H25*I25+H26*I26+H27*I27+H28*I28+H29*I29+H30*I30+H31*I31+H32*I32+H33*I33+H34*I34+H35*I35+H36*I36+H37*I37+H38*I38+H39*I39+H40*I40","v":0},null,{"$f":"J16*K16+J17*K17+J18*K18+J19*K19+J20*K20+J21*K21+J22*K22+J23*K23+J24*K24+J25*K25+J26*K26+J27*K27+J28*K28+J29*K29+J30*K30+J31*K31+J32*K32+J33*K33+J34*K34+J35*K35+J36*K36+J37*K37+J38*K38+J39*K39+J40*K40","v":0},null,{"$f":"L16*M16+L17*M17+L18*M18+L19*M19+L20*M20+L21*M21+L22*M22+L23*M23+L24*M24+L25*M25+L26*M26+L27*M27+L28*M28+L29*M29+L30*M30+L31*M31+L32*M32+L33*M33+L34*M34+L35*M35+L36*M36+L37*M37+L38*M38+L39*M39+L40*M40","v":0},null,{"$f":"N16*O16+N17*O17+N18*O18+N19*O19+N20*O20+N21*O21+N22*O22+N23*O23+N24*O24+N25*O25+N26*O26+N27*O27+N28*O28+N29*O29+N30*O30+N31*O31+N32*O32+N33*O33+N34*O34+N35*O35+N36*O36+N37*O37+N38*O38+N39*O39+N40*O40","v":0},null,{"$f":"P16*Q16+P17*Q17+P18*Q18+P19*Q19+P20*Q20+P21*Q21+P22*Q22+P23*Q23+P24*Q24+P25*Q25+P26*Q26+P27*Q27+P28*Q28+P29*Q29+P30*Q30+P31*Q31+P32*Q32+P33*Q33+P34*Q34+P35*Q35+P36*Q36+P37*Q37+P38*Q38+P39*Q39+P40*Q40","v":0},null,{"$f":"SUM(S16:S40)","v":0},null,{"$f":"T16*U16+T17*U17+T18*U18+T19*U19+T20*U20+T21*U21+T22*U22+T23*U23+T24*U24+T25*U25+T26*U26+T27*U27+T28*U28+T29*U29+T30*U30+T31*U31+T32*U32+T33*U33+T34*U34+T35*U35+T36*U36+T37*U37+T38*U38+T39*U39+T40*U40","v":0},null,{"$f":"SUM(W16:W40)","v":0}]
[]
[null,"Insumos",null,null,null,null,null,null,null,null,null,null,null,null,"OBS:"]
[null,"Comprados - Consumos Intermediários ",null,null,null,null,null,null,null,"Observações"]
[null,"Itens",null,null,"Unidade","Valor Unitário","Qtde","Valor Total","Origem"]
[null,null,null,null,null,null,null,{"$f":"G46*F46","v":0}]
[null,null,null,null,null,null,null,{"$f":"G47*F47","v":0}]
[null,null,null,null,null,null,null,0]
[null,null,null,null,null,null,null,0]
[null,null,null,null,null,null,null,0]
[null,null,null,null,null,null,null,0]
[null,null,null,null,null,null,null,0]
[null,null,null,null,null,null,null,0]
[null,null,null,null,null,null,null,0]
[null,null,null,null,null,null,null,0]
[null,null,null,null,null,null,null,0]
[null,null,null,null,null,null,null,0]
[null,null,null,null,null,null,null,0]
[null,null,null,null,null,null,null,0]
[null,null,null,null,null,null,null,0]
[null,null,null,null,null,null,null,0]
[null,null,null,null,null,null,null,0]
[null,null,null,null,null,null,null,0]
[null,null,null,null,null,null,null,0]
[null,null,null,null,null,null,null,0]
[null," Insumos Comprados no Território",null,null,null,null,null,{"$f":"DSUM(H45:I65,\"Valor Total\",G167:G168)","v":0}]
[null," Insumos Comprados Fora do Território",null,null,null,null,null,{"$f":"DSUM(H45:I65,\"Valor Total\",H167:H168)","v":0}]
[null,"Total de Insumos Comprados",null,null,null,null,null,{"$f":"SUM(H46:H65)","v":0}]
[null,"Produção Própria - Reciprocidade Ecológica",null,null,null,null,null,null,"Observações",null,null,null,null,null,"OBS:"]
[null,"Itens",null,null,"Unidade","Valor Unitário","Qtde","Valor Total"]
[null,null,null,null,null,null,null,{"$f":"G71*F71","v":0}]
[null,null,null,null,null,null,null,{"$f":"G72*F72","v":0}]
[null,null,null,null,null,null,null,0]
[null,null,null,null,null,null,null,0]
[null,null,null,null,null,null,null,0]
[null,null,null,null,null,null,null,0]
[null,null,null,null,null,null,null,0]
[null,null,null,null,null,null,null,0]
[null,null,null,null,null,null,null,0]
[null,null,null,null,null,null,null,0]
[null,null,null,null,null,null,null,0]
[null,null,null,null,null,null,null,0]
[null,null,null,null,null,null,null,0]
[null,null,null,null,null,null,null,0]
[null,null,null,null,null,null,null,0]
[null,"Total Insumos -  Produção Própria",null,null,null,null,null,{"$f":"SUM(H71:H85)","v":0}]
[null,"Entrada de Insumos por Reciprocidade Social",null,null,null,null,null,null,"Observações",null,null,null,null,null,"OBS:"]
[null,"insumos",null,null,"Unidade","Valor Unitário","Qtde","Valor Total"]
[null,null,null,null,null,null,null,{"$f":"G89*F89","v":0}]
[null,null,null,null,null,null,null,0]
[null,null,null,null,null,null,null,0]
[null,null,null,null,null,null,null,0]
[null,null,null,null,null,null,null,0]
[null,null,null,null,null,null,null,0]
[null,null,null,null,null,null,null,0]
[null,null,null,null,null,null,null,0]
[null,null,null,null,null,null,null,0]
[null,null,null,null,null,null,null,0]
[null,null,null,null,null,null,null,0]
[null,null,null,null,null,null,null,0]
[null,null,null,null,null,null,null,0]
[null,null,null,null,null,null,null,0]
[null,null,null,null,null,null,null,0]
[null,"Total Recursos por Reciprocidade",null,null,null,null,null,{"$f":"SUM(H89:H103)","v":0}]
[]
[null,"Serviços de Terceiros",null,null,null,null,null,null,null,null,null,null,null,null,"OBS:"]
[null,"Pagamento a Terceiros",null,null,null,null,null,null,null,"Observações"]
[null,"Serviços/Renda da Terra",null,null,"Unidade","Valor Unitário","Qtde","Valor Total","Origem"]
[null,null,null,null,null,null,null,{"$f":"G109*F109","v":0}]
[null,null,null,null,null,null,null,0]
[null,null,null,null,null,null,null,0]
[null,null,null,null,null,null,null,0]
[null,null,null,null,null,null,null,0]
[null,null,null,null,null,null,null,0]
[null,null,null,null,null,null,null,0]
[null,null,null,null,null,null,null,0]
[null,null,null,null,null,null,null,0]
[null,null,null,null,null,null,null,0]
[null,null,null,null,null,null,null,0]
[null,null,null,null,null,null,null,0]
[null,null,null,null,null,null,null,0]
[null,null,null,null,null,null,null,0]
[null,null,null,null,null,null,null,0]
[null,"Pagamentos a Terceiros do Território",null,null,null,null,null,{"$f":"DSUM(H108:I123,\"Valor Total\",G167:G168)","v":0}]
[null,"Pagamentos a Terceiros Fora do Território",null,null,null,null,null,{"$f":"DSUM(H108:I123,\"Valor Total\",H167:H168)","v":0}]
[null,"Total de Pagamentos a Terceiros ",null,null,null,null,null,{"$f":"SUM(H109:H123)","v":0}]
[null,"Serviços por  Reciprocidade Social",null,null,null,null,null,null,"Observações",null,null,null,null,null,"OBS:"]
[null,"Serviços",null,null,"Unidade","Valor Unitário","Qtde","Valor Total"]
[null,null,null,null,null,null,null,{"$f":"G129*F129","v":0}]
[null,null,null,null,null,null,null,0]
[null,null,null,null,null,null,null,0]
[null,null,null,null,null,null,null,0]
[null,null,null,null,null,null,null,0]
[null,null,null,null,null,null,null,0]
[null,null,null,null,null,null,null,0]
[null,null,null,null,null,null,null,0]
[null,null,null,null,null,null,null,0]
[null,null,null,null,null,null,null,0]
[null,null,null,null,null,null,null,0]
[null,null,null,null,null,null,null,0]
[null,null,null,null,null,null,null,0]
[null,null,null,null,null,null,null,0]
[null,null,null,null,null,null,null,0]
[null,"Total Recursos por Reciprocidade",null,null,null,null,null,{"$f":"SUM(H129:H143)","v":0}]
[]
[null,"Horas trabalhadas pelos Membros do NSGA",null,null,null,null,null,null,null,null,null,null,null,null,"OBS:"]
[null,null,null,null,"Membros do NSGA",null,null,null,null,null,null,null,"Total"]
[null,"Atividade",null,null,1,2,3,4,5,6,7,8]
[null,null,null,null,{"$f":"Agroecossistema!B15","v":0},{"$f":"Agroecossistema!B16","v":0},{"$f":"Agroecossistema!B17","v":0},{"$f":"Agroecossistema!B18","v":0},{"$f":"Agroecossistema!B19","v":0},{"$f":"Agroecossistema!B20","v":0},{"$f":"Agroecossistema!B21","v":0},{"$f":"Agroecossistema!B22","v":0}]
[null,null,null,null,null,null,null,null,null,null,null,null,{"$f":"SUM(E150:L150)","v":0}]
[null,null,null,null,null,null,null,null,null,null,null,null,{"$f":"SUM(E151:L151)","v":0}]
[null,null,null,null,null,null,null,null,null,null,null,null,0]
[null,null,null,null,null,null,null,null,null,null,null,null,0]
[null,null,null,null,null,null,null,null,null,null,null,null,0]
[null,null,null,null,null,null,null,null,null,null,null,null,0]
[null,null,null,null,null,null,null,null,null,null,null,null,0]
[null,null,null,null,null,null,null,null,null,null,null,null,0]
[null,null,null,null,null,null,null,null,null,null,null,null,0]
[null,null,null,null,null,null,null,null,null,null,null,null,0]
[null,null,null,null,null,null,null,null,null,null,null,null,0]
[null,null,null,null,null,null,null,null,null,null,null,null,0]
[null,null,null,null,null,null,null,null,null,null,null,null,0]
[null,null,null,null,null,null,null,null,null,null,null,null,0]
[null,null,null,null,null,null,null,null,null,null,null,null,0]
[null,"Total horas ",null,null,{"$f":"SUM(E150:E164)","v":0},{"$f":"SUM(F150:F164)","v":0},0,0,0,0,0,0,0]
[]
[null,null,null,null,null,null,"Origem","Origem"]
[null,null,null,null,null,null,"T","F"]

{"sheet":"SUB. 13","index":17,"n_rows":168,"n_cols":24,"rows_kept":168,"cut":false,"hidden":false,"merged":[[163,1,163,3],[164,1,164,3],[157,1,157,3],[158,1,158,3],[159,1,159,3],[160,1,160,3],[161,1,161,3],[162,1,162,3],[146,14,164,21],[147,1,148,3],[149,1,149,3],[150,1,150,3],[151,1,151,3],[152,1,152,3],[153,1,153,3],[154,1,154,3],[155,1,155,3],[156,1,156,3],[143,1,143,3],[143,8,143,12],[145,1,145,12],[146,1,146,3],[146,4,146,11],[146,12,148,12],[140,1,140,3],[140,8,140,12],[141,1,141,3],[141,8,141,12],[142,1,142,3],[142,8,142,12],[138,1,138,3],[138,8,138,12],[139,1,139,3],[139,8,139,12],[134,1,134,3],[134,8,134,12],[135,1,135,3],[135,8,135,12],[136,1,136,3],[136,8,136,12],[132,8,132,12],[133,1,133,3],[133,8,133,12],[125,4,125,6],[126,1,126,7],[126,8,127,12],[127,1,127,3],[137,1,137,3],[137,8,137,12],[116,1,116,3],[116,9,116,12],[117,1,117,3],[117,9,117,12],[127,14,143,21],[128,1,128,3],[128,8,128,12],[129,1,129,3],[129,8,129,12],[130,1,130,3],[121,1,121,3],[121,9,121,12],[122,1,122,3],[122,9,122,12],[123,1,123,3],[123,4,123,6],[123,9,125,12],[124,1,124,3],[124,4,124,6],[125,1,125,3],[130,8,130,12],[131,1,131,3],[131,8,131,12],[132,1,132,3],[112,1,112,3],[112,9,112,12],[113,1,113,3],[113,9,113,12],[114,1,114,3],[114,9,114,12],[106,14,125,21],[107,1,107,3],[108,1,108,3],[108,9,108,12],[109,1,109,3],[109,9,109,12],[110,1,110,3],[110,9,110,12],[111,1,111,3],[111,9,111,12],[118,1,118,3],[118,9,118,12],[119,1,119,3],[119,9,119,12],[120,1,120,3],[120,9,120,12],[115,1,115,3],[115,9,115,12],[102,1,102,3],[102,8,102,12],[103,1,103,3],[103,8,103,12],[105,1,105,12],[106,1,106,8],[106,9,107,12],[99,1,99,3],[99,8,99,12],[100,1,100,3],[100,8,100,12],[101,1,101,3],[101,8,101,12],[96,8,96,12],[97,1,97,3],[97,8,97,12],[98,1,98,3],[98,8,98,12],[93,1,93,3],[93,8,93,12],[94,1,94,3],[94,8,94,12],[95,1,95,3],[95,8,95,12],[87,14,103,21],[88,1,88,3],[88,8,88,12],[89,1,89,3],[89,8,89,12],[82,1,82,3],[82,8,82,12],[83,1,83,3],[83,8,83,12],[84,1,84,3],[84,8,84,12],[69,14,85,21],[90,1,90,3],[90,8,90,12],[91,1,91,3],[91,8,91,12],[92,1,92,3],[92,8,92,12],[85,1,85,3],[85,8,85,12],[86,1,86,7],[86,8,87,12],[87,1,87,3],[96,1,96,3],[79,1,79,3],[79,8,79,12],[80,1,80,3],[80,8,80,12],[81,1,81,3],[81,8,81,12],[76,1,76,3],[76,8,76,12],[77,1,77,3],[77,8,77,12],[78,1,78,3],[78,8,78,12],[72,8,72,12],[73,1,73,3],[73,8,73,12],[74,1,74,3],[74,8,74,12],[75,1,75,3],[75,8,75,12],[67,4,67,6],[68,1,68,7],[68,8,69,12],[69,1,69,3],[70,1,70,3],[70,8,70,12],[71,1,71,3],[71,8,71,12],[72,1,72,3],[63,1,63,3],[63,9,63,12],[64,1,64,3],[64,9,64,12],[65,1,65,3],[65,4,65,6],[65,9,67,12],[66,1,66,3],[66,4,66,6],[67,1,67,3],[60,1,60,3],[60,9,60,12],[61,1,61,3],[61,9,61,12],[62,1,62,3],[62,9,62,12],[57,1,57,3],[57,9,57,12],[58,1,58,3],[58,9,58,12],[59,1,59,3],[59,9,59,12],[54,9,54,12],[55,1,55,3],[55,9,55,12],[56,1,56,3],[56,9,56,12],[51,1,51,3],[51,9,51,12],[52,1,52,3],[52,9,52,12],[53,1,53,3],[53,9,53,12],[43,14,66,21],[44,1,44,3],[45,1,45,3],[45,9,45,12],[46,1,46,3],[46,9,46,12],[47,1,47,3],[38,1,38,3],[38,23,38,24],[39,1,39,3],[39,23,39,24],[40,1,40,3],[40,23,40,24],[47,9,47,12],[48,1,48,3],[48,9,48,12],[49,1,49,3],[49,9,49,12],[50,1,50,3],[50,9,50,12],[42,1,42,12],[43,1,43,8],[43,9,44,12],[54,1,54,3],[35,1,35,3],[35,23,35,24],[36,1,36,3],[36,23,36,24],[37,1,37,3],[37,23,37,24],[32,1,32,3],[32,23,32,24],[33,1,33,3],[33,23,33,24],[34,1,34,3],[34,23,34,24],[29,1,29,3],[29,23,29,24],[30,1,30,3],[30,23,30,24],[31,1,31,3],[31,23,31,24],[26,1,26,3],[26,23,26,24],[27,1,27,3],[27,23,27,24],[28,1,28,3],[28,23,28,24],[23,1,23,3],[23,23,23,24],[24,1,24,3],[24,23,24,24],[25,1,25,3],[25,23,25,24],[20,1,20,3],[20,23,20,24],[21,1,21,3],[21,23,21,24],[22,1,22,3],[22,23,22,24],[17,1,17,3],[17,23,17,24],[18,1,18,3],[18,23,18,24],[19,1,19,3],[19,23,19,24],[13,19,13,20],[14,1,14,3],[15,1,15,3],[15,23,15,24],[16,1,16,3],[16,23,16,24],[13,7,13,8],[13,9,13,10],[13,11,13,12],[13,13,13,14],[13,15,13,16],[13,17,13,18],[1,1,1,24],[5,1,5,2],[5,3,5,4],[5,8,10,22],[12,1,13,4],[12,5,12,16],[12,19,12,20],[12,21,13,22],[12,23,14,24],[13,5,13,6]]}
[]
[null,"ENTRADA DE DADOS POR SUBSISTEMA"]
[]
[]
[]
[null,"Subsistema n° 13:",null,null,null,null,null,"OBS"]
[]
[null,"ÁREA",null,"hectare(s)"]
[]
[]
[]
[]
[null,"Produtos e Insumos Gerados",null,null,null,"Produtos",null,null,null,null,null,null,null,null,null,null,null,null,null,"Insumos Produzidos",null,"Total Produtos e Insumos",null,"Observações"]
[null,null,null,null,null,"Mercado Convencional",null,"Mercado territorial",null,"Mercado Institucional",null,"Autoconsumo",null,"Doações Trocas",null,"Estoque",null,"Total Produtos",null,"Total Insumos"]
[null,"Itens",null,null,"Unidade","Qtde","Valor Unitário","Qtde","Valor Unitário","Qtde","Valor Unitário","Qtde","Valor Unitário","Qtde","Valor Unitário","Qtde","Valor Unitário","Qtde","Valor Total","Qtde","valor Unitário","Qtde","Valor Total"]
[null,null,null,null,null,null,null,null,null,null,null,null,null,null,null,null,null,{"$f":"J16+L16+N16+P16+H16+F16","v":0},{"$f":"(F16*G16)+(H16*I16)+(J16*K16)+(L16*M16)+(N16*O16)+(P16+Q16)","v":0},null,null,{"$f":"R16+T16","v":0},{"$f":"S16+(T16*U16)","v":0}]
[null,null,null,null,null,null,null,null,null,null,null,null,null,null,null,null,null,{"$f":"J17+L17+N17+P17+H17+F17","v":0},{"$f":"(F17*G17)+(H17*I17)+(J17*K17)+(L17*M17)+(N17*O17)+(P17+Q17)","v":0},null,null,{"$f":"R17+T17","v":0},{"$f":"S17+(T17*U17)","v":0}]
[null,null,null,null,null,null,null,null,null,null,null,null,null,null,null,null,null,0,0,null,null,0,0]
[null,null,null,null,null,null,null,null,null,null,null,null,null,null,null,null,null,0,0,null,null,0,0]
[null,null,null,null,null,null,null,null,null,null,null,null,null,null,null,null,null,0,0,null,null,0,0]
[null,null,null,null,null,null,null,null,null,null,null,null,null,null,null,null,null,0,0,null,null,0,0]
[null,null,null,null,null,null,null,null,null,null,null,null,null,null,null,null,null,0,0,null,null,0,0]
[null,null,null,null,null,null,null,null,null,null,null,null,null,null,null,null,null,0,0,null,null,0,0]
[null,null,null,null,null,null,null,null,null,null,null,null,null,null,null,null,null,0,0,null,null,0,0]
[null,null,null,null,null,null,null,null,null,null,null,null,null,null,null,null,null,0,0,null,null,0,0]
[null,null,null,null,null,null,null,null,null,null,null,null,null,null,null,null,null,0,0,null,null,0,0]
[null,null,null,null,null,null,null,null,null,null,null,null,null,null,null,null,null,0,0,null,null,0,0]
[null,null,null,null,null,null,null,null,null,null,null,null,null,null,null,null,null,0,0,null,null,0,0]
[null,null,null,null,null,null,null,null,null,null,null,null,null,null,null,null,null,0,0,null,null,0,0]
[null,null,null,null,null,null,null,null,null,null,null,null,null,null,null,null,null,0,0,null,null,0,0]
[null,null,null,null,null,null,null,null,null,null,null,null,null,null,null,null,null,0,0,null,null,0,0]
[null,null,null,null,null,null,null,null,null,null,null,null,null,null,null,null,null,0,0,null,null,0,0]
[null,null,null,null,null,null,null,null,null,null,null,null,null,null,null,null,null,0,0,null,null,0,0]
[null,null,null,null,null,null,null,null,null,null,null,null,null,null,null,null,null,0,0,null,null,0,0]
[null,null,null,null,null,null,null,null,null,null,null,null,null,null,null,null,null,0,0,null,null,0,0]
[null,null,null,null,null,null,null,null,null,null,null,null,null,null,null,null,null,0,0,null,null,0,0]
[null,null,null,null,null,null,null,null,null,null,null,null,null,null,null,null,null,0,0,null,null,0,0]
[null,null,null,null,null,null,null,null,null,null,null,null,null,null,null,null,null,0,0,null,null,0,0]
[null,null,null,null,null,null,null,null,null,null,null,null,null,null,null,null,null,0,0,null,null,0,0]
[null,null,null,null,null,null,null,null,null,null,null,null,null,null,null,null,null,0,0,null,null,0,0]
[null,"Totais",null,null,null,null,{"$f":"F16*G16+F17*G17+F18*G18+F19*G19+F20*G20+F21*G21+F22*G22+F23*G23+F24*G24+F25*G25+F26*G26+F27*G27+F28*G28+F29*G29+F30*G30+F31*G31+F32*G32+F33*G33+F34*G34+F35*G35+F36*G36+F37*G37+F38*G38+F39*G39+F40*G40","v":0},null,{"$f":"H16*I16+H17*I17+H18*I18+H19*I19+H20*I20+H21*I21+H22*I22+H23*I23+H24*I24+H25*I25+H26*I26+H27*I27+H28*I28+H29*I29+H30*I30+H31*I31+H32*I32+H33*I33+H34*I34+H35*I35+H36*I36+H37*I37+H38*I38+H39*I39+H40*I40","v":0},null,{"$f":"J16*K16+J17*K17+J18*K18+J19*K19+J20*K20+J21*K21+J22*K22+J23*K23+J24*K24+J25*K25+J26*K26+J27*K27+J28*K28+J29*K29+J30*K30+J31*K31+J32*K32+J33*K33+J34*K34+J35*K35+J36*K36+J37*K37+J38*K38+J39*K39+J40*K40","v":0},null,{"$f":"L16*M16+L17*M17+L18*M18+L19*M19+L20*M20+L21*M21+L22*M22+L23*M23+L24*M24+L25*M25+L26*M26+L27*M27+L28*M28+L29*M29+L30*M30+L31*M31+L32*M32+L33*M33+L34*M34+L35*M35+L36*M36+L37*M37+L38*M38+L39*M39+L40*M40","v":0},null,{"$f":"N16*O16+N17*O17+N18*O18+N19*O19+N20*O20+N21*O21+N22*O22+N23*O23+N24*O24+N25*O25+N26*O26+N27*O27+N28*O28+N29*O29+N30*O30+N31*O31+N32*O32+N33*O33+N34*O34+N35*O35+N36*O36+N37*O37+N38*O38+N39*O39+N40*O40","v":0},null,{"$f":"P16*Q16+P17*Q17+P18*Q18+P19*Q19+P20*Q20+P21*Q21+P22*Q22+P23*Q23+P24*Q24+P25*Q25+P26*Q26+P27*Q27+P28*Q28+P29*Q29+P30*Q30+P31*Q31+P32*Q32+P33*Q33+P34*Q34+P35*Q35+P36*Q36+P37*Q37+P38*Q38+P39*Q39+P40*Q40","v":0},null,{"$f":"SUM(S16:S40)","v":0},null,{"$f":"T16*U16+T17*U17+T18*U18+T19*U19+T20*U20+T21*U21+T22*U22+T23*U23+T24*U24+T25*U25+T26*U26+T27*U27+T28*U28+T29*U29+T30*U30+T31*U31+T32*U32+T33*U33+T34*U34+T35*U35+T36*U36+T37*U37+T38*U38+T39*U39+T40*U40","v":0},null,{"$f":"SUM(W16:W40)","v":0}]
[]
[null,"Insumos",null,null,null,null,null,null,null,null,null,null,null,null,"OBS:"]
[null,"Comprados - Consumos Intermediários ",null,null,null,null,null,null,null,"Observações"]
[null,"Itens",null,null,"Unidade","Valor Unitário","Qtde","Valor Total","Origem"]
[null,null,null,null,null,null,null,{"$f":"G46*F46","v":0}]
[null,null,null,null,null,null,null,{"$f":"G47*F47","v":0}]
[null,null,null,null,null,null,null,0]
[null,null,null,null,null,null,null,0]
[null,null,null,null,null,null,null,0]
[null,null,null,null,null,null,null,0]
[null,null,null,null,null,null,null,0]
[null,null,null,null,null,null,null,0]
[null,null,null,null,null,null,null,0]
[null,null,null,null,null,null,null,0]
[null,null,null,null,null,null,null,0]
[null,null,null,null,null,null,null,0]
[null,null,null,null,null,null,null,0]
[null,null,null,null,null,null,null,0]
[null,null,null,null,null,null,null,0]
[null,null,null,null,null,null,null,0]
[null,null,null,null,null,null,null,0]
[null,null,null,null,null,null,null,0]
[null,null,null,null,null,null,null,0]
[null,null,null,null,null,null,null,0]
[null," Insumos Comprados no Território",null,null,null,null,null,{"$f":"DSUM(H45:I65,\"Valor Total\",G167:G168)","v":0}]
[null," Insumos Comprados Fora do Território",null,null,null,null,null,{"$f":"DSUM(H45:I65,\"Valor Total\",H167:H168)","v":0}]
[null,"Total de Insumos Comprados",null,null,null,null,null,{"$f":"SUM(H46:H65)","v":0}]
[null,"Produção Própria - Reciprocidade Ecológica",null,null,null,null,null,null,"Observações",null,null,null,null,null,"OBS:"]
[null,"Itens",null,null,"Unidade","Valor Unitário","Qtde","Valor Total"]
[null,null,null,null,null,null,null,{"$f":"G71*F71","v":0}]
[null,null,null,null,null,null,null,{"$f":"G72*F72","v":0}]
[null,null,null,null,null,null,null,0]
[null,null,null,null,null,null,null,0]
[null,null,null,null,null,null,null,0]
[null,null,null,null,null,null,null,0]
[null,null,null,null,null,null,null,0]
[null,null,null,null,null,null,null,0]
[null,null,null,null,null,null,null,0]
[null,null,null,null,null,null,null,0]
[null,null,null,null,null,null,null,0]
[null,null,null,null,null,null,null,0]
[null,null,null,null,null,null,null,0]
[null,null,null,null,null,null,null,0]
[null,null,null,null,null,null,null,0]
[null,"Total Insumos -  Produção Própria",null,null,null,null,null,{"$f":"SUM(H71:H85)","v":0}]
[null,"Entrada de Insumos por Reciprocidade Social",null,null,null,null,null,null,"Observações",null,null,null,null,null,"OBS:"]
[null,"insumos",null,null,"Unidade","Valor Unitário","Qtde","Valor Total"]
[null,null,null,null,null,null,null,{"$f":"G89*F89","v":0}]
[null,null,null,null,null,null,null,0]
[null,null,null,null,null,null,null,0]
[null,null,null,null,null,null,null,0]
[null,null,null,null,null,null,null,0]
[null,null,null,null,null,null,null,0]
[null,null,null,null,null,null,null,0]
[null,null,null,null,null,null,null,0]
[null,null,null,null,null,null,null,0]
[null,null,null,null,null,null,null,0]
[null,null,null,null,null,null,null,0]
[null,null,null,null,null,null,null,0]
[null,null,null,null,null,null,null,0]
[null,null,null,null,null,null,null,0]
[null,null,null,null,null,null,null,0]
[null,"Total Recursos por Reciprocidade",null,null,null,null,null,{"$f":"SUM(H89:H103)","v":0}]
[]
[null,"Serviços de Terceiros",null,null,null,null,null,null,null,null,null,null,null,null,"OBS:"]
[null,"Pagamento a Terceiros",null,null,null,null,null,null,null,"Observações"]
[null,"Serviços/Renda da Terra",null,null,"Unidade","Valor Unitário","Qtde","Valor Total","Origem"]
[null,null,null,null,null,null,null,{"$f":"G109*F109","v":0}]
[null,null,null,null,null,null,null,0]
[null,null,null,null,null,null,null,0]
[null,null,null,null,null,null,null,0]
[null,null,null,null,null,null,null,0]
[null,null,null,null,null,null,null,0]
[null,null,null,null,null,null,null,0]
[null,null,null,null,null,null,null,0]
[null,null,null,null,null,null,null,0]
[null,null,null,null,null,null,null,0]
[null,null,null,null,null,null,null,0]
[null,null,null,null,null,null,null,0]
[null,null,null,null,null,null,null,0]
[null,null,null,null,null,null,null,0]
[null,null,null,null,null,null,null,0]
[null,"Pagamentos a Terceiros do Território",null,null,null,null,null,{"$f":"DSUM(H108:I123,\"Valor Total\",G167:G168)","v":0}]
[null,"Pagamentos a Terceiros Fora do Território",null,null,null,null,null,{"$f":"DSUM(H108:I123,\"Valor Total\",H167:H168)","v":0}]
[null,"Total de Pagamentos a Terceiros ",null,null,null,null,null,{"$f":"SUM(H109:H123)","v":0}]
[null,"Serviços por  Reciprocidade Social",null,null,null,null,null,null,"Observações",null,null,null,null,null,"OBS:"]
[null,"Serviços",null,null,"Unidade","Valor Unitário","Qtde","Valor Total"]
[null,null,null,null,null,null,null,{"$f":"G129*F129","v":0}]
[null,null,null,null,null,null,null,0]
[null,null,null,null,null,null,null,0]
[null,null,null,null,null,null,null,0]
[null,null,null,null,null,null,null,0]
[null,null,null,null,null,null,null,0]
[null,null,null,null,null,null,null,0]
[null,null,null,null,null,null,null,0]
[null,null,null,null,null,null,null,0]
[null,null,null,null,null,null,null,0]
[null,null,null,null,null,null,null,0]
[null,null,null,null,null,null,null,0]
[null,null,null,null,null,null,null,0]
[null,null,null,null,null,null,null,0]
[null,null,null,null,null,null,null,0]
[null,"Total Recursos por Reciprocidade",null,null,null,null,null,{"$f":"SUM(H129:H143)","v":0}]
[]
[null,"Horas trabalhadas pelos Membros do NSGA",null,null,null,null,null,null,null,null,null,null,null,null,"OBS:"]
[null,null,null,null,"Membros do NSGA",null,null,null,null,null,null,null,"Total"]
[null,"Atividade",null,null,1,2,3,4,5,6,7,8]
[null,null,null,null,{"$f":"Agroecossistema!B15","v":0},{"$f":"Agroecossistema!B16","v":0},{"$f":"Agroecossistema!B17","v":0},{"$f":"Agroecossistema!B18","v":0},{"$f":"Agroecossistema!B19","v":0},{"$f":"Agroecossistema!B20","v":0},{"$f":"Agroecossistema!B21","v":0},{"$f":"Agroecossistema!B22","v":0}]
[null,null,null,null,null,null,null,null,null,null,null,null,{"$f":"SUM(E150:L150)","v":0}]
[null,null,null,null,null,null,null,null,null,null,null,null,{"$f":"SUM(E151:L151)","v":0}]
[null,null,null,null,null,null,null,null,null,null,null,null,0]
[null,null,null,null,null,null,null,null,null,null,null,null,0]
[null,null,null,null,null,null,null,null,null,null,null,null,0]
[null,null,null,null,null,null,null,null,null,null,null,null,0]
[null,null,null,null,null,null,null,null,null,null,null,null,0]
[null,null,null,null,null,null,null,null,null,null,null,null,0]
[null,null,null,null,null,null,null,null,null,null,null,null,0]
[null,null,null,null,null,null,null,null,null,null,null,null,0]
[null,null,null,null,null,null,null,null,null,null,null,null,0]
[null,null,null,null,null,null,null,null,null,null,null,null,0]
[null,null,null,null,null,null,null,null,null,null,null,null,0]
[null,null,null,null,null,null,null,null,null,null,null,null,0]
[null,null,null,null,null,null,null,null,null,null,null,null,0]
[null,"Total horas ",null,null,{"$f":"SUM(E150:E164)","v":0},{"$f":"SUM(F150:F164)","v":0},0,0,0,0,0,0,0]
[]
[null,null,null,null,null,null,"Origem","Origem"]
[null,null,null,null,null,null,"T","F"]